Workbook
Name from: #REF!
Name from: #REF!
Name from: #REF!
Name to: #REF!
Name to: #REF!
Name to: #REF!
Name 加工済み名簿3: #REF!
Name 加工済み名簿3: #REF!
Name 調査票印刷データ: #REF!
Name 調査票印刷データ: #REF!
Name 調査票項目一覧: [1]データ!$A:$AF
Name 調査票番号: #REF!
Name 調査票番号: #REF!
Name 調査票番号: #REF!

Sheet 調査票
L2: 令和7年沖縄県商品流通調査 | T2: 整理番号
F3: 提出期限 | G3: 令和8年11月30日
K4: 商品流通調査票
F5: 提出先 | G5: 沖縄県企画部統計課 | T5: 調査依頼文の裏面に記載された
L6: （対象期間：令和７年1～12月） | T6: 整理番号(3桁)を入力
B8: この調査により報告された記入内容は、統計法により秘密が保護されます。この調査票は、統計以外の目的に使用することは絶対にありません。
B9: 令和7年商品流通調査は、沖縄県が作成する「令和7年沖縄県産業連関表」の基礎資料として、地域間の商品流通状況を把握することを目的としています。
C11: 事業所 所在地 | G11: 〒 | N11: 記入担当者連絡先 | O11: 所属 部署名
O13: TEL
C14: 事業所名 | O14: フリガナ
O15: 氏名
F19: 品目コード | G19: ① | H19: 品目１ | K19: 品目２ | N19: 品目３ | Q19: 品目４ | T19: 品目５
F20: 調査依頼文の裏面に記載された品目コード(3桁)を入力
F21: 品目名 | G21: ② | H21: =IF(H20="","", IFERROR(_xlfn.XLOOKUP(TEXT(H20,"000"),品目コードおよび調査品目!$A:$A,品目コードおよび調査品目!$B:$B), IFERROR(_xlfn.XLOOKUP(TEXT(H20,"000"),品目コードおよび調査品目!$C:$C,品目コードおよび調査品目!$D:$D), IFERROR(_xlfn.XLOOKUP(TEXT(H20,"000"),品目コードおよび調査品目!$E:$E,品目コードおよび調査品目!$F:$F), IFERROR(_xlfn.XLOOKUP(TEXT(H20,"000"),品目コードおよび調査品目!$G:$G,品目コードおよび調査品目!$H:$H), "コード不一致"))))) | K21: =IF(K20="","", IFERROR(_xlfn.XLOOKUP(TEXT(K20,"000"),品目コードおよび調査品目!$A:$A,品目コードおよび調査品目!$B:$B), IFERROR(_xlfn.XLOOKUP(TEXT(K20,"000"),品目コードおよび調査品目!$C:$C,品目コードおよび調査品目!$D:$D), IFERROR(_xlfn.XLOOKUP(TEXT(K20,"000"),品目コードおよび調査品目!$E:$E,品目コードおよび調査品目!$F:$F), IFERROR(_xlfn.XLOOKUP(TEXT(K20,"000"),品目コードおよび調査品目!$G:$G,品目コードおよび調査品目!$H:$H), "コード不一致"))))) | N21: =IF(N20="","", IFERROR(_xlfn.XLOOKUP(TEXT(N20,"000"),品目コードおよび調査品目!$A:$A,品目コードおよび調査品目!$B:$B), IFERROR(_xlfn.XLOOKUP(TEXT(N20,"000"),品目コードおよび調査品目!$C:$C,品目コードおよび調査品目!$D:$D), IFERROR(_xlfn.XLOOKUP(TEXT(N20,"000"),品目コードおよび調査品目!$E:$E,品目コードおよび調査品目!$F:$F), IFERROR(_xlfn.XLOOKUP(TEXT(N20,"000"),品目コードおよび調査品目!$G:$G,品目コードおよび調査品目!$H:$H), "コード不一致"))))) | Q21: =IF(Q20="","", IFERROR(_xlfn.XLOOKUP(TEXT(Q20,"000"),品目コードおよび調査品目!$A:$A,品目コードおよび調査品目!$B:$B), IFERROR(_xlfn.XLOOKUP(TEXT(Q20,"000"),品目コードおよび調査品目!$C:$C,品目コードおよび調査品目!$D:$D), IFERROR(_xlfn.XLOOKUP(TEXT(Q20,"000"),品目コードおよび調査品目!$E:$E,品目コードおよび調査品目!$F:$F), IFERROR(_xlfn.XLOOKUP(TEXT(Q20,"000"),品目コードおよび調査品目!$G:$G,品目コードおよび調査品目!$H:$H), "コード不一致"))))) | T21: =IF(T20="","", IFERROR(_xlfn.XLOOKUP(TEXT(T20,"000"),品目コードおよび調査品目!$A:$A,品目コードおよび調査品目!$B:$B), IFERROR(_xlfn.XLOOKUP(TEXT(T20,"000"),品目コードおよび調査品目!$C:$C,品目コードおよび調査品目!$D:$D), IFERROR(_xlfn.XLOOKUP(TEXT(T20,"000"),品目コードおよび調査品目!$E:$E,品目コードおよび調査品目!$F:$F), IFERROR(_xlfn.XLOOKUP(TEXT(T20,"000"),品目コードおよび調査品目!$G:$G,品目コードおよび調査品目!$H:$H), "コード不一致")))))
C22: 消費税の扱い | G22: ③ | N22: （原則、消費税抜きで記入してください。）
C23: 自工場生産額 | G23: ④ | V23: 千円
D24: うち自工場消費額 | G24: ⑤ | V24: 千円
D25: うち輸出向け出荷額 | G25: ⑥ | V25: 千円
D26: うち国内向け出荷額 | G26: ⑦ | V26: 千円
E27: 国内向け出荷先構成比 | G27: ⑧ | H27: =IF(OR(H28="",H29=""),"",IF(OR(ROUND(SUM(H28:H29),1)=100,ROUND(SUM(H28:H29),3)=1),SUM(H28:H29),"⚠️100%不一致")) | J27: ％ | K27: =IF(OR(K28="",K29=""),"",IF(OR(ROUND(SUM(K28:K29),1)=100,ROUND(SUM(K28:K29),3)=1),SUM(K28:K29),"⚠️100%不一致")) | M27: ％ | N27: =IF(OR(N28="",N29=""),"",IF(OR(ROUND(SUM(N28:N29),1)=100,ROUND(SUM(N28:N29),3)=1),SUM(N28:N29),"⚠️100%不一致")) | P27: ％ | Q27: =IF(OR(Q28="",Q29=""),"",IF(OR(ROUND(SUM(Q28:Q29),1)=100,ROUND(SUM(Q28:Q29),3)=1),SUM(Q28:Q29),"⚠️100%不一致")) | S27: ％ | T27: =IF(OR(T28="",T29=""),"",IF(OR(ROUND(SUM(T28:T29),1)=100,ROUND(SUM(T28:T29),3)=1),SUM(T28:T29),"⚠️100%不一致")) | V27: ％
E28: うち沖縄県内 | G28: ⑨ | V28: ％
E29: うち沖縄県外 | G29: ⑩ | V29: ％
E30: 【ご記入にあたっての重要なご注意】 ・「令和７年に自工場で新たに生産した分」の内訳をご記入ください。令和６年以前からの繰越在庫を取り崩して出荷・販売した分は含めないでください。 ・④～⑦は、千円単位で記入し、単位未満は四捨五入してください。 ⑨、⑩は、小数点以下１桁までの％で回答してください。 ・⑨・⑩は、仲介業者等の所在地ではなく、製品の最終的な消費先（出荷先）を回答してください。 ・薄橙色に着色されたセル以外には入力しないでください。(③消費税の扱いは、消費税込みの場合のみ変更してください。) ※ 詳細は、別シート「(記入例)調査票」、「品目例示」または、「記入の手引き(詳細版 よくあるご質問含む）」をダウンロードの上、ご確認ください。
E36: 【備考記入欄】注意すべき事柄がありましたら、その旨記入してください。 また、工場出荷価格（消費税を除く）で記入できない場合は、記入に際して実際に採用した方法を本欄に記入してください。 （例）・休業中のため出荷をしていない。 ・操業開始後未出荷のため出荷をしていない。 ・酒税、たばこ税、揮発油税等の納付税額抜き 等
F53: ☆ご協力ありがとうございました☆
F54: ※ファイル名「令和７年沖縄県商品流通調査票_XXX」赤字部分を、調査票右上に記入した整理番号(3桁)に書き換えのうえご提出ください。 例：令和７年沖縄県商品流通調査票_999 ※電子申請システムからのご提出を推奨しております。 【URL】https://apply.e-tumo.jp/pref-okinawa-u/offer/offerList_detail?tempSeq=7331

Sheet （記入例）調査票 
B1: 商品流通調査票記入例 | J1: ◆この調査は、個々の事業所を対象としていますので、令和７年（１月～12月）に貴事業所で生産された製品のみが調査の対象となります。 「他の事業所」から受入れた製品で、貴事業所では全く加工をせず「そのまま」出荷するものは調査の対象となりません。 ※「他の事業所」には、関連の本社、支社、その他の事業所、元請・下請事業所を含みます。 ※「そのまま」には、検査・選別・洗浄・包装・小分け・充てんなど販売に伴う軽度の加工を含みます。 ただし、食料品の真空包装及び医薬品の小分けを行った場合は製造行為と見なして、転売品には含まれません。
B8: ＜調査項目別注意事項＞
B9: ・貴事業所で生産した製品について、「品目名」及び「品目コード」毎にまとめて記入してください。
B10: ・調査依頼文裏面に記載された品目以外に、貴事業所で生産している品目があれば、下記QRコードより掲載されている「品目一覧」または「品目例示」を参考に、①「品目コード」②「品目名」を記載し、回答してください。
B11: ・④～⑦は、千円単位で記入し、単位未満は四捨五入してください（例：150万円の場合は「1500」とご入力ください。）。 ⑨、⑩は、小数点以下１桁までの％で回答してください。
B12: ・単純に一つの欄に記入できない場合（同一品目でも型違い等で区別している等の場合）は、同一の「品目」及び「品目コード」を用いて、それぞれの欄に回答してください。
B13: （品目が６つ以上になる場合は、「調査票」シートをコピーし記入してください。）
B14: ・いずれの項目も可能な限り、数量×工場出荷価格（消費税を除く）で計算してください。賃加工の場合は、数量×加工賃、または、加工賃収入で計算してください。
Q16: 【注意事項】 ○＝その項目に含まれるもの ×＝その項目に含まれないもの
E17: 品目コード | G17: 品目１
F18: ① | G18: 022 | K18: 【記入例】 ①・②自工場では、調味料（022）を生産しています。 | Q18: ①品目コード Excel調査票では、調査依頼文裏面に記載された品目コードを入力すると、②「品目名」が表示されます ②品目名 ※対象品目の具体的な製品例は、別シート「(検索用)品目例示」にてご確認いただけます。
E19: 品目名 | F19: ② | G19: 調味料
B20: 消費税の扱い | F20: ③ | K20: ③金額は消費税抜きで記入しています。 | Q20: ④自工場生産額 「自工場生産額＝生産数量×工場出荷価格（消費税を除く）」 「②品目名」欄に表示された品目について、貴事業所で生産した令和７年に自工場で新たに生産した生産額を記入してください。（表示された品目を生産していない場合は、④自工場生産額に「0」を記入してください。） 貴事業所内で消費したもの（下記⑤にあたるもの）も含めてください。 ○：他から受託して生産したもの。ただし、「品目一覧」に賃加工品目がある品目に限ります。 （賃加工品目にない賃加工品については、回答は不要です）。 ×：貴事業所が他に委託して生産させたもの （実際に生産した受託者の側で生産に計上しますので、ここには含めないでください）。 ※ 当期末の在庫増がある場合、④は⑤〜⑦の合計より大きくなります。 ※ 繰越在庫の出荷額は除外するため、⑤〜⑦の合計が④を超えることはありません。
B21: 自工場生産額 | F21: ④ | G21: =SUM(G22:H24) -> 1295 | I21: 千円 | K21: ④自工場では、令和7年の１年間に、調味料を工場出荷額で1,295千円生産しました。
C22: うち自工場消費額 | F22: ⑤ | G22: 384 | I22: 千円
C23: うち輸出向け出荷額 | F23: ⑥ | G23: 136 | I23: 千円
C24: うち国内向け出荷額 | F24: ⑦ | G24: 775 | I24: 千円
D25: 国内向け出荷先構成比 | F25: ⑧ | G25: =SUM(G26:H27) -> 100 | I25: ％
D26: うち沖縄県内向け | F26: ⑨ | G26: 8 | I26: ％
D27: うち沖縄県外向け | F27: ⑩ | G27: 92 | I27: ％
L29: ⑤自工場内で生産するレトルト食品の原材料や研究開発用として、調味料の「④自工場生産額（1,295千円）」のうち、384千円分を自工場内で消費しました。 | Q29: ⑤うち自工場消費額 「自工場消費額＝消費数量×工場出荷価格（消費税を除く）」 上記「④自工場生産額」のうち、貴事業所内で生産する他の製品の原材料や研究開発用等に消費した分について、 自工場消費額として記入してください。 ×：他工場から受入れた原材料や、他工場から購入した原材料
B35: ※ オンライン提出（電子申請サービス）を推奨しております | L35: ⑥「④自工場生産額」のうち、輸出向けの出荷額は 136千円でした。 | Q35: ⑥うち輸出向け出荷額 「輸出向出荷額＝輸出数量×工場出荷価格（消費税を除く）」 上記「④自工場生産額」のうち、貴事業所から直接または輸出商社等を通じて輸出したものを記入してください。 ※税込で回答の際に、直接輸出等で税抜きでの回答しかできない場合は、その旨備考記入欄に記入してください。
B37: 「記入の手引き」や「品目例示」はこちらからダウンロード・閲覧いただけます。
C38: 【掲載資料】
C39: １ 提出様式
C40: ・調査票（Excel）（品目例示含む※「Ctrl+F]で品目名検索可） | L40: ⑦「④自工場生産額」のうち、県外向けの出荷額は775千円でした。 | Q40: ⑦うち国内向け出荷額 「国内向出荷額＝出荷数量×工場出荷価格（消費税を除く）」 上記「④自工場生産額」のうち、国内向けに出荷したものを全て記入してください。（貴事業所から出荷したもののうち、上記⑥を除いたもの）。 〇：同一企業内の他工場へ原材料として出荷したものも含みます。その場合は市価で換算して記入してください。
C41: ２ 参考資料
C42: ・調査の手引き（詳細版）（PDF)
C43: ・品目一覧（PDF)
C44: ・品目例示（PDF)
C45: 【ホームページ・電子申請サービス】 | L45: ⑧「⑦うち国内向け出荷額」のうち、県内出荷分と県外出荷分を合計すると100％でした。 | Q45: ⑧国内向け出荷先構成比 ＊入力は不要です。 「⑨県内出荷分、⑩県外出荷分」の構成比の合計が入るようになっていますので、入力は不要です。
B46: ▼沖縄県統計課HP： https://www.pref.okinawa.jp/toukeika/io/io_index.html
B47: ▼沖縄県電子申請：
B48: https://apply.e-tumo.jp/pref-okinawa-u/offer/offerList_detail?tempSeq=7331
D49: ▼沖縄県統計課HP | G49: ▼沖縄県電子申請サービス
L50: ⑨・⑩「⑦うち国内向け出荷額」775千円は、県内にある工場に8.0%出荷し、県外のスーパーに92.0%出荷しました。 | Q50: ⑨うち沖縄県内向け、⑩うち沖縄県外向け 上記「⑦国内(県外)向出荷額」について、貴事業所で生産された製品が、最終的に沖縄県内又は県外のいずれの地域の企業や消費者にどれくらいの割合で消費（出荷）されたかを合計が100.0％となるように、小数点以下１桁で記載してください。 ※出荷先とは、卸・小売業者等の仲介業者の所在地ではなく、製品の最終消費（出荷）先とします。

Sheet (検索用）品目例示 
A1: 令和7年商品流通調査品目例示（※貴事業所での対象品目の例示を検索できます。）
A2: 【商品流通調査 品目例の確認方法】 依頼文（裏面）に記載されている 品目コード（半角3桁） の内容確認にご利用ください。
A3: 【検索手順】
A4: キーボードの Ctrl + F キー（Macは Cmd + F）を押し、検索窓に依頼文（裏面）の 「品目コード（3桁）」（例: 030）を入力して検索してください。該当する品目例示の行へ移動します。
A5: ※ 掲載されている例示は代表的な製品例です。貴事業所製品がどの品目に該当するか確認・参照する際にご活用ください。
A6: 品目コード | B6: 品目名称 | C6: 品目例示
A7: 001 | B7: 食肉 | C7: ブロイラー加工品（解体品を含む）、部分肉、冷凍肉（ブロイラーを除く）
A8: 002 | B8: 酪農品 | C8: アイスクリーム、クリーム、その他の乳製品、チーズ、バター、処理牛乳、乳飲料、乳酸菌飲料、練乳、粉乳、脱脂粉乳
A9: 003 | B9: その他の畜産食料品 | C9: 他に分類されない畜産食料品、肉缶詰・瓶詰・つぼ詰、肉製品
A10: 004 | B10: 冷凍魚介類 | C10: 冷凍水産食品、冷凍水産物
A11: 005 | B11: 塩・干・くん製品 | C11: 塩干・塩蔵品、素干・煮干
A12: 006 | B12: 水産びん・かん詰 | C12: さば缶詰、その他の水産缶詰・瓶詰、まぐろ缶詰
A13: 007 | B13: ねり製品 | C13: その他の水産練製品、魚肉ハム・ソーセージ（鯨肉製を含む）
A14: 008 | B14: その他の水産食料品 | C14: 海藻加工品、寒天、水産食料品副産物、他に分類されない水産食料品
A15: 009 | B15: 精穀 | C15: 精麦、精米（砕精米を含む）、精米・精麦かす
A16: 010 | B16: 製粉 | C16: こんにゃく粉、小麦製粉かす、小麦粉、他に分類されない精穀・製粉品
A17: 011 | B17: めん類 | C17: 即席めん類、中華めん、洋風めん、和風めん
... A271: 265 | B271: その他の製造工業製品 | C271: うちわ、扇子（骨を含む）、その他のブラシ、その他のモデル、模型、その他の傘、傘部分品、その他の漆器製品、ちょうちん（骨を含む）、パレット、マッチ（軸木、箱を含む）、マネキン人形、人台、ユニット住宅、ルームユニット、煙火（がん具用を含む）、看板、標識機、展示装置（電気的、機械的でないもの）、看板、標識機、展示装置（電気的、機械的なもの）、眼鏡、眼鏡の部分品、眼鏡レンズ（コンタクトレンズを含む）、眼鏡枠、喫煙用具、工業用模型（木型を含む）、歯ブラシ、漆器製家具、漆器製台所・食卓用品、人体安全保護具、救命器具、清掃用品、線香類、繊維壁材（化粧用吹付材を含む）、他に分類されないその他の製品、他に分類されない生活雑貨製品、魔法瓶、魔法瓶ケース（ジャー、ジャーケースを含む）、洋傘（パラソル、男女児兼用傘を含む）

Sheet 品目コードおよび調査品目
A1: 令和7年商品流通調査品目分類表（品目コード及び品目名）（※調査票の①欄を記入する際に使用します。）
A3: 品目コード | B3: 品 目 名 | C3: 品目コード | D3: 品 目 名 | E3: 品目コード | F3: 品 目 名 | G3: 品目コード | H3: 品 目 名
A4: ［食料品］ | C4: 069 | D4: 塗工紙・建設用加工紙 | E4: 135 | F4: ガラス製加工素材 | G4: 203 | H4: その他の生産用機械
A5: 001 | B5: 食肉 | C5: 070 | D5: 段ボール箱 | E5: 136 | F5: 他に分類されないガラス製品 | G5: ［業務用機械器具］
A6: 002 | B6: 酪農品 | C6: 071 | D6: その他の紙製容器 | E6: 137 | F6: セメント | G6: 204 | H6: 複写機
A7: 003 | B7: その他の畜産食料品 | C7: 072 | D7: 紙製衛生材料・用品 | E7: 138 | F7: セメント製品 | G7: 205 | H7: その他の事務用機械
A8: 004 | B8: 冷凍魚介類 | C8: 073 | D8: その他のパルプ・紙・紙加工品 | E8: 139 | F8: 建設用陶磁器 | G8: 206 | H8: サービス用・娯楽用機器
A9: 005 | B9: 塩・干・くん製品 | C9: ［印刷・同関連業］ | E9: 140 | F9: 工業用陶磁器 | G9: 207 | H9: 計測機器
A10: 006 | B10: 水産びん・かん詰 | C10: 074 | D10: 印刷・製版・製本（賃加工を除く） | E10: 141 | F10: 日用陶磁器 | G10: 208 | H10: 医療用機械器具
A11: 007 | B11: ねり製品 | C11: 075 | D11: 印刷・製版・製本（賃加工） | E11: 142 | F11: 耐火物 | G11: 209 | H11: 光学機械・レンズ
A12: 008 | B12: その他の水産食料品 | C12: ［化学製品］ | E12: 143 | F12: その他の建設用土石製品 | G12: 210 | H12: 武器
A13: 009 | B13: 精穀 | C13: 076 | D13: 化学肥料 | E13: 144 | F13: 炭素・黒鉛製品 | G13: ［電子部品・デバイス・電子回路］
A14: 010 | B14: 製粉 | C14: 077 | D14: ソーダ工業製品 | E14: 145 | F14: 研磨材 | G14: 211 | H14: 半導体素子
A15: 011 | B15: めん類 | C15: 078 | D15: 無機顔料 | E15: 146 | F15: その他の窯業・土石製品 | G15: 212 | H15: 集積回路
A16: 012 | B16: パン類 | C16: 079 | D16: 圧縮ガス・液化ガス | E16: ［鉄鋼］ | G16: 213 | H16: 液晶パネル
A17: 013 | B17: 菓子類 | C17: 080 | D17: 塩 | E17: 147 | F17: 銑鉄 | G17: 214 | H17: フラットパネル・電子管
A18: 014 | B18: 農産保存食料品 | C18: 081 | D18: その他の無機化学工業製品 | E18: 148 | F18: フェロアロイ | G18: 215 | H18: 記録メディア
A19: 015 | B19: 砂糖 | C19: 082 | D19: 石油化学基礎製品 | E19: 149 | F19: 粗鋼（転炉） | G19: 216 | H19: 電子回路
A20: 016 | B20: でん粉 | C20: 083 | D20: 石油化学系芳香族製品 | E20: 150 | F20: 粗鋼（電気炉） | G20: 217 | H20: LEDランプ
A21: 017 | B21: ぶどう糖・水あめ・異性化糖 | C21: 084 | D21: 脂肪族中間物 | E21: 151 | F21: 熱間圧延鋼材 | G21: 218 | H21: その他の電子部品
A22: 018 | B22: 植物油脂 | C22: 085 | D22: 環式中間物・合成染料・有機顔料 | E22: 152 | F22: 熱間圧延鋼半製品 | G22: ［電気機械器具］
A23: 019 | B23: 動物油脂 | C23: 086 | D23: 合成ゴム | E23: 153 | F23: 鋼管 | G23: 219 | H23: 発電機器
A24: 020 | B24: 加工油脂 | C24: 087 | D24: メタン誘導品 | E24: 154 | F24: 冷間仕上鋼材 | G24: 220 | H24: 電動機
A25: 021 | B25: 植物原油かす | C25: 088 | D25: 可塑剤 | E25: 155 | F25: めっき鋼材 | G25: 221 | H25: 変圧器・変成器
A26: 022 | B26: 調味料 | C26: 089 | D26: その他の有機化学工業製品 | E26: 156 | F26: 鋳鍛鋼 | G26: 222 | H26: 開閉制御装置・配電盤
A27: 023 | B27: 冷凍調理食品 | C27: 090 | D27: 熱硬化性樹脂 | E27: 157 | F27: 鋳鉄管 | G27: 223 | H27: 配線器具
A28: 024 | B28: レトルト食品 | C28: 091 | D28: 熱可塑性樹脂 | E28: 158 | F28: 鋳鉄品・鍛工品（鉄） | G28: 224 | H28: 内燃機関電装品
A29: 025 | B29: そう菜・すし・弁当 | C29: 092 | D29: 高機能性樹脂 | E29: 159 | F29: 鉄鋼シャースリット業 | G29: 225 | H29: その他の産業用電気機器
A30: 026 | B30: その他の食料品 | C30: 093 | D30: その他の合成樹脂 | E30: 160 | F30: その他の鉄鋼製品 | G30: 226 | H30: 民生用エアコンディショナ
A31: 027 | B31: 清酒 | C31: 094 | D31: 化学繊維 | E31: ［非鉄金属］ | G31: 227 | H31: 民生用電気機器（エアコンを除く。）
A32: 028 | B32: ビール類 | C32: 095 | D32: 医薬品 | E32: 161 | F32: 銅 | G32: 228 | H32: 電子応用装置
A33: 029 | B33: その他の酒類 | C33: 096 | D33: 油脂加工製品 | E33: 162 | F33: 鉛・亜鉛（再生を含む。） | G33: 229 | H33: 電気計測器
A34: 030 | B34: ウイスキー類 | C34: 097 | D34: 石けん・合成洗剤 | E34: 163 | F34: アルミニウム（再生を含む。） | G34: 230 | H34: 電球類
A35: 031 | B35: その他の酒類 | C35: 098 | D35: 界面活性剤（石けん・合成洗剤を除く。） | E35: 164 | F35: その他の非鉄金属地金 | G35: 231 | H35: 電気照明器具
A36: 032 | B36: 茶・コーヒー | C36: 099 | D36: 化粧品・歯磨 | E36: 165 | F36: 電線・ケーブル | G36: 232 | H36: 電池
A37: 033 | B37: 清涼飲料 | C37: 100 | D37: 塗料 | E37: 166 | F37: 光ファイバケーブル | G37: 233 | H37: その他の電気機械器具
A38: 034 | B38: 製氷 | C38: 101 | D38: 印刷インキ | E38: 167 | F38: 伸銅品 | G38: ［情報通信機械器具］
A39: 035 | B39: 飼料 | C39: 102 | D39: 農薬 | E39: 168 | F39: アルミ圧延製品 | G39: 234 | H39: 有線電気通信機器
A40: 036 | B40: 有機質肥料（別掲を除く。） | C40: 103 | D40: ゼラチン・接着剤 | E40: 169 | F40: 非鉄金属素形材 | G40: 235 | H40: 携帯電話機
A41: 037 | B41: たばこ | C41: 104 | D41: 写真感光材料 | E41: 170 | F41: 核燃料（賃加工） | G41: 236 | H41: 無線電気通信機器（携帯電話機を除く。）
...

Sheet 集計用シート
B1: 整理番号 | C1: 頁 | D1: ②品目名 | E1: ① 品目コード | F1: ③消費税 1:抜き 2:込み | G1: ④ 自工場生産額 (千円) | H1: ⑤ うち自工場消費額 (千円) | I1: ⑥ うち輸出出荷額 (千円) | J1: ⑦ うち国内出荷額 (千円) | K1: ⑧ 国内出荷先構成比 (%) | L1: ⑨ うち沖縄県内 (%) | M1: ⑩ うち沖縄県外 (%) | N1: ⑦×⑨ 県内出荷額(千円) | O1: ⑦×⑩ 県外出荷額(千円) | P1: 備考欄
A2: 1 | B2: =IF(調査票!$T$3="","",調査票!$T$3) | C2: 1 | D2: =IF(調査票!H20="","",調査票!H21) | E2: =IF(調査票!H20="","",調査票!H20) | F2: 1 | G2: =IF(調査票!H20="","",調査票!H23) | H2: =IF(調査票!H20="","",調査票!H24) | I2: =IF(調査票!H20="","",調査票!H25) | J2: =IF(調査票!H20="","",調査票!H26) | K2: =IF(調査票!H20="","",調査票!H27) | L2: =IF(調査票!H20="","",調査票!H28) | M2: =IF(調査票!H20="","",調査票!H29) | N2: =IF(OR(J2="",L2=""),"",ROUND(J2*IF(L2>1,L2/100,L2),0)) | O2: =IF(OR(J2="",M2=""),"",ROUND(J2*IF(M2>1,M2/100,M2),0)) | P2: =IF(調査票!H20="","",調査票!E41)
A3: 2 | B3: =IF(調査票!$T$3="","",調査票!$T$3) | C3: 1 | D3: =IF(調査票!K20="","",調査票!K21) | E3: =IF(調査票!K20="","",調査票!K20) | F3: =$F$2 -> 1 | G3: =IF(調査票!K20="","",調査票!K23) | H3: =IF(調査票!K20="","",調査票!K24) | I3: =IF(調査票!K20="","",調査票!K25) | J3: =IF(調査票!K20="","",調査票!K26) | K3: =IF(調査票!K20="","",調査票!K27) | L3: =IF(調査票!K20="","",調査票!K28) | M3: =IF(調査票!K20="","",調査票!K29) | N3: =IF(OR(J3="",L3=""),"",ROUND(J3*IF(L3>1,L3/100,L3),0)) | O3: =IF(OR(J3="",M3=""),"",ROUND(J3*IF(M3>1,M3/100,M3),0)) | P3: =$P$2
A4: 3 | B4: =IF(調査票!$T$3="","",調査票!$T$3) | C4: 1 | D4: =IF(調査票!N20="","",調査票!N21) | E4: =IF(調査票!N20="","",調査票!N20) | F4: =$F$2 -> 1 | G4: =IF(調査票!N20="","",調査票!N23) | H4: =IF(調査票!N20="","",調査票!N24) | I4: =IF(調査票!N20="","",調査票!N25) | J4: =IF(調査票!N20="","",調査票!N26) | K4: =IF(調査票!N20="","",調査票!N27) | L4: =IF(調査票!N20="","",調査票!N28) | M4: =IF(調査票!N20="","",調査票!N29) | N4: =IF(OR(J4="",L4=""),"",ROUND(J4*IF(L4>1,L4/100,L4),0)) | O4: =IF(OR(J4="",M4=""),"",ROUND(J4*IF(M4>1,M4/100,M4),0)) | P4: =$P$2
A5: 4 | B5: =IF(調査票!$T$3="","",調査票!$T$3) | C5: 1 | D5: =IF(調査票!Q20="","",調査票!Q21) | E5: =IF(調査票!Q20="","",調査票!Q20) | F5: =$F$2 -> 1 | G5: =IF(調査票!Q20="","",調査票!Q23) | H5: =IF(調査票!Q20="","",調査票!Q24) | I5: =IF(調査票!Q20="","",調査票!Q25) | J5: =IF(調査票!Q20="","",調査票!Q26) | K5: =IF(調査票!Q20="","",調査票!Q27) | L5: =IF(調査票!Q20="","",調査票!Q28) | M5: =IF(調査票!Q20="","",調査票!Q29) | N5: =IF(OR(J5="",L5=""),"",ROUND(J5*IF(L5>1,L5/100,L5),0)) | O5: =IF(OR(J5="",M5=""),"",ROUND(J5*IF(M5>1,M5/100,M5),0)) | P5: =$P$2
A6: 5 | B6: =IF(調査票!$T$3="","",調査票!$T$3) | C6: 1 | D6: =IF(調査票!T20="","",調査票!T21) | E6: =IF(調査票!T20="","",調査票!T20) | F6: =$F$2 -> 1 | G6: =IF(調査票!T20="","",調査票!T23) | H6: =IF(調査票!T20="","",調査票!T24) | I6: =IF(調査票!T20="","",調査票!T25) | J6: =IF(調査票!T20="","",調査票!T26) | K6: =IF(調査票!T20="","",調査票!T27) | L6: =IF(調査票!T20="","",調査票!T28) | M6: =IF(調査票!T20="","",調査票!T29) | N6: =IF(OR(J6="",L6=""),"",ROUND(J6*IF(L6>1,L6/100,L6),0)) | O6: =IF(OR(J6="",M6=""),"",ROUND(J6*IF(M6>1,M6/100,M6),0)) | P6: =$P$2
A7: 6
A8: 7
A9: 8
A10: 9
A11: 10
