Workbook

Sheet R７
A1: 令和７年度 | B1: 航空旅客輸送実績
A2: 月 | B2: 実績 | E2: 路線 | F2: 方面別
B3: 輸送実績 | C3: 提供座席数 | D3: 利用率 | E3: 月間 | F3: 月間
A4: ４月 | B4: ='４月（月間）'!$G$5 -> 627551 | C4: ='４月（月間）'!$K$5 -> 795095 | D4: =B4/C4 -> 0.78927801 | E4: ４月月間 | F4: ４月月間
A5: ５月 | B5: ='５月（月間）'!$G$5 -> 590421 | C5: ='５月（月間）'!$K$5 -> 800924 | D5: =B5/C5 -> 0.73717481 | E5: ５月月間 | F5: ５月月間
A6: ６月 | B6: ='６月（月間）'!$G$5 -> 606324 | C6: ='６月（月間）'!$K$5 -> 770277 | D6: =B6/C6 -> 0.7871506 | E6: ６月月間 | F6: ６月月間
A7: ７月 | B7: ='７月（月間）'!$G$5 -> 726817 | C7: ='７月（月間）'!$K$5 -> 849460 | D7: =B7/C7 -> 0.8556224 | E7: ７月月間 | F7: ７月月間
A8: ８月 | B8: ='８月（月間）'!$G$5 -> 805895 | C8: ='８月（月間）'!$K$5 -> 874449 | D8: =B8/C8 -> 0.9216032 | E8: ８月月間 | F8: ８月月間
A9: ９月 | B9: ='９月（月間）'!$G$5 -> 701849 | C9: ='９月（月間）'!$K$5 -> 801000 | D9: =B9/C9 -> 0.87621598 | E9: ９月月間 | F9: ９月月間
A10: 10月 | B10: ='10月（月間）'!$G$5 -> 754366 | C10: ='10月（月間）'!$K$5 -> 820748 | D10: =B10/C10 -> 0.91912012 | E10: 10月月間 | F10: 10月月間
A11: 11月 | B11: ='11月（月間）'!$G$5 -> 698434 | C11: ='11月（月間）'!$K$5 -> 803422 | D11: =B11/C11 -> 0.86932397 | E11: 11月月間 | F11: 11月月間
A12: 12月 | B12: ='12月（月間）'!$G$5 -> 671104 | C12: ='12月（月間）'!$K$5 -> 830205 | D12: =B12/C12 -> 0.80835938 | E12: 12月月間 | F12: 12月月間
A13: １月 | B13: ='１月（月間）'!$G$5 -> 619971 | C13: ='１月（月間）'!$K$5 -> 812691 | D13: =B13/C13 -> 0.7628619 | E13: １月月間 | F13: １月月間
A14: ２月 | B14: ='２月（月間）'!$G$5 -> 648604 | C14: ='２月（月間）'!$K$5 -> 722224 | D14: =B14/C14 -> 0.89806487 | E14: ２月月間 | F14: ２月月間
A15: ３月 | B15: ='３月（月間）'!$G$5 -> 767387 | C15: ='３月（月間）'!$K$5 -> 822956 | D15: =B15/C15 -> 0.93247634 | E15: ３月月間 | F15: ３月月間
A16: 合計 | B16: =SUM(B4:B15) -> 8218723 | C16: =SUM(C4:C15) -> 9703451 | D16: =B16/C16 -> 0.84698969 | E16: ※上記の各セルをクリックすると、各月・各旬ごとのシートに移動します。
E17: ※移動後の各シートでは、シート左上の年度の表記をクリックすると、このシートに戻ります。

Sheet ４月（月間）
A1: ='R７'!A1 -> 令和７年度 | J1: ４月（月間） | K1: 航空旅客輸送実績
A2: 7 | C2: 2025 | D2: 年 | E2: 4 | F2: 月 | G2: 輸送実績（旅客実績） | K2: 提供座席 | O2: 利用率
A3: キャリア・路線 | G3: 25'4/1-4/30 | H3: 24'4/1-4/30 (前年同月) | I3: 対前年同月比 | K3: 25'4/1-4/30 | L3: 24'4/1-4/30 (前年同月) | M3: 対前年同月比 | O3: 25'4/1-4/30 | P3: 24'4/1-4/30 (前年同月) | Q3: 増減数
I4: 比率 | J4: 増減数 | M4: 比率 | N4: 増減数
A5: 合計 a+b+c+d+e | G5: 627551 | H5: 600018 | I5: 1.045887 | J5: 27533 | K5: 795095 | L5: 776689 | M5: 1.023698 | N5: 18406 | O5: 0.78927801 | P5: 0.77253315 | Q5: 0.01674486
A6: a | B6: JAL + JTA + RAC+JAC | G6: 224129 | H6: 202606 | I6: 1.1062308 | J6: 21523 | K6: 262797 | L6: 257081 | M6: 1.0222342 | N6: 5716 | O6: 0.85285981 | P6: 0.7881018 | Q6: 0.064758007
B7: JAL（日本航空） | G7: 144673 | H7: 126268 | I7: 1.1457614 | J7: 18405 | K7: 164482 | L7: 157594 | M7: 1.0437072 | N7: 6888 | O7: 0.87956737 | P7: 0.8012234 | Q7: 0.078343972
B8: JAL（日本航空）羽田 | C8: 羽田 | F8: ◎ | G8: 113497 | H8: 99853 | I8: 1.1366409 | J8: 13644 | K8: 128969 | L8: 124679 | M8: 1.0344084 | N8: 4290 | O8: 0.88003319 | P8: 0.80088066 | Q8: 0.079152525
B9: JAL（日本航空）伊丹 | C9: 伊丹 | F9: ◎ | G9: 20699 | H9: 18534 | I9: 1.1168123 | J9: 2165 | K9: 23460 | L9: 23069 | M9: 1.0169492 | N9: 391 | O9: 0.88231032 | P9: 0.80341584 | Q9: 0.078894476
B10: JAL（日本航空）関西 | C10: 関西 | G10: 0 | H10: 0 | I10: #DIV/0! | J10: 0 | K10: 0 | L10: 0 | M10: #DIV/0! | N10: 0 | O10: #DIV/0! | P10: #DIV/0! | Q10: #DIV/0!
B11: JAL（日本航空）福岡 | C11: 福岡 | G11: 0 | H11: 0 | I11: #DIV/0! | J11: 0 | K11: 0 | L11: 0 | M11: #DIV/0! | N11: 0 | O11: #DIV/0! | P11: #DIV/0! | Q11: #DIV/0!
B12: JAL（日本航空）名古屋 | C12: 名古屋 | G12: 0 | H12: 0 | I12: #DIV/0! | J12: 0 | K12: 0 | L12: 0 | M12: #DIV/0! | N12: 0 | O12: #DIV/0! | P12: #DIV/0! | Q12: #DIV/0!
B13: JAL（日本航空）成田 | C13: 成田 | G13: 0 | H13: 0 | I13: #DIV/0! | J13: 0 | K13: 0 | L13: 0 | M13: #DIV/0! | N13: 0 | O13: #DIV/0! | P13: #DIV/0! | Q13: #DIV/0!
B14: JAL（日本航空）仙台 | C14: 仙台 | G14: 0 | H14: 0 | I14: #DIV/0! | J14: 0 | K14: 0 | L14: 0 | M14: #DIV/0! | N14: 0 | O14: #DIV/0! | P14: #DIV/0! | Q14: #DIV/0!
B15: JAL（日本航空）神戸 | C15: 神戸 | G15: 0 | H15: 0 | I15: #DIV/0! | J15: 0 | K15: 0 | L15: 0 | M15: #DIV/0! | N15: 0 | O15: #DIV/0! | P15: #DIV/0! | Q15: #DIV/0!
B16: JAL（日本航空）花巻 | C16: 花巻 | G16: 0 | H16: 0 | I16: #DIV/0! | J16: 0 | K16: 0 | L16: 0 | M16: #DIV/0! | N16: 0 | O16: #DIV/0! | P16: #DIV/0! | Q16: #DIV/0!
B17: JAL（日本航空）羽田石垣 | C17: 羽田 | D17: - | E17: 石垣 | G17: 7004 | H17: 5202 | I17: 1.3464052 | J17: 1802 | K17: 8399 | L17: 6768 | M17: 1.240987 | N17: 1631 | O17: 0.8339088 | P17: 0.76861702 | Q17: 0.065291777
B18: JAL（日本航空）羽田宮古 | C18: 羽田 | D18: - | E18: 宮古 | G18: 3473 | H18: 2679 | I18: 1.2963792 | J18: 794 | K18: 3654 | L18: 3078 | M18: 1.1871345 | N18: 576 | O18: 0.95046524 | P18: 0.87037037 | Q18: 0.080094873
B19: JAL（日本航空）羽田久米島 | C19: 羽田 | D19: - | E19: 久米島 | G19: 0 | H19: 0 | I19: #DIV/0! | J19: 0 | K19: 0 | L19: 0 | M19: #DIV/0! | N19: 0 | O19: #DIV/0! | P19: #DIV/0! | Q19: #DIV/0!
B20: JAL（日本航空）沖永良部 | C20: 沖永良部 | G20: 0 | H20: 0 | I20: #DIV/0! | J20: 0 | K20: 0 | L20: 0 | M20: #DIV/0! | N20: 0 | O20: #DIV/0! | P20: #DIV/0! | Q20: #DIV/0!
B21: JTA（日本トランスオーシャン航空） | G21: 75970 | H21: 73029 | I21: 1.0402717 | J21: 2941 | K21: 93885 | L21: 95205 | M21: 0.98613518 | N21: -1320 | O21: 0.80918145 | P21: 0.76707106 | Q21: 0.042110388
B22: JTA（日本トランスオーシャン航空）羽田 | C22: 羽田 | G22: 0 | H22: 0 | I22: #DIV/0! | J22: 0 | K22: 0 | L22: 0 | M22: #DIV/0! | N22: 0 | O22: #DIV/0! | P22: #DIV/0! | Q22: #DIV/0!
B23: JTA（日本トランスオーシャン航空）関西 | C23: 関西 | F23: ◎ | G23: 11115 | H23: 10199 | I23: 1.0898127 | J23: 916 | K23: 14850 | L23: 14685 | M23: 1.011236 | N23: 165 | O23: 0.74848485 | P23: 0.69451822 | Q23: 0.053966633
B24: JTA（日本トランスオーシャン航空）福岡 | C24: 福岡 | F24: ◎ | G24: 23575 | H24: 20255 | I24: 1.1639101 | J24: 3320 | K24: 29700 | L24: 29040 | M24: 1.0227273 | N24: 660 | O24: 0.79377104 | P24: 0.69748623 | Q24: 0.096284818
B25: JTA（日本トランスオーシャン航空）羽田石垣 | C25: 羽田 | D25: - | E25: 石垣 | F25: ◎ | G25: 4056 | H25: 5268 | I25: 0.76993166 | J25: -1212 | K25: 4455 | L25: 5610 | M25: 0.79411765 | N25: -1155 | O25: 0.91043771 | P25: 0.93903743 | Q25: -0.028599723
B26: JTA（日本トランスオーシャン航空）羽田宮古 | C26: 羽田 | D26: - | E26: 宮古 | F26: ◎ | G26: 2574 | H26: 2666 | I26: 0.96549137 | J26: -92 | K26: 2640 | L26: 2805 | M26: 0.94117647 | N26: -165 | O26: 0.975 | P26: 0.95044563 | Q26: 0.024554367
B27: JTA（日本トランスオーシャン航空）羽田久米島 | C27: 羽田 | D27: - | E27: 久米島 | F27: ○ | G27: 0 | H27: 0 | I27: #DIV/0! | J27: 0 | K27: 0 | L27: 0 | M27: #DIV/0! | N27: 0 | O27: #DIV/0! | P27: #DIV/0! | Q27: #DIV/0!
B28: JTA（日本トランスオーシャン航空）関西石垣 | C28: 関西 | D28: - | E28: 石垣 | F28: ◎ | G28: 4046 | H28: 4089 | I28: 0.98948398 | J28: -43 | K28: 4950 | L28: 4950 | M28: 1 | N28: 0 | O28: 0.81737374 | P28: 0.82606061 | Q28: -0.0086868687
B29: JTA（日本トランスオーシャン航空）関西宮古 | C29: 関西 | D29: - | E29: 宮古 | G29: 4189 | H29: 3731 | I29: 1.1227553 | J29: 458 | K29: 4950 | L29: 4950 | M29: 1 | N29: 0 | O29: 0.84626263 | P29: 0.75373737 | Q29: 0.092525253
B30: JTA（日本トランスオーシャン航空）神戸石垣 | C30: 神戸 | D30: - | E30: 石垣 | G30: 0 | H30: 0 | I30: #DIV/0! | J30: 0 | K30: 0 | L30: 0 | M30: #DIV/0! | N30: 0 | O30: #DIV/0! | P30: #DIV/0! | Q30: #DIV/0!
B31: JTA（日本トランスオーシャン航空）名古屋石垣 | C31: 名古屋 | D31: - | E31: 石垣 | G31: 667 | H31: 1373 | I31: 0.48579752 | J31: -706 | K31: 990 | L31: 1815 | M31: 0.54545455 | N31: -825 | O31: 0.67373737 | P31: 0.75647383 | Q31: -0.082736455
B32: JTA（日本トランスオーシャン航空）名古屋宮古 | C32: 名古屋 | D32: - | E32: 宮古 | G32: 930 | H32: 1721 | I32: 0.5403835 | J32: -791 | K32: 990 | L32: 1980 | M32: 0.5 | N32: -990 | O32: 0.93939394 | P32: 0.86919192 | Q32: 0.07020202
B33: JTA（日本トランスオーシャン航空）仙台 | C33: 仙台 | G33: 0 | H33: 0 | I33: #DIV/0! | J33: 0 | K33: 0 | L33: 0 | M33: #DIV/0! | N33: 0 | O33: #DIV/0! | P33: #DIV/0! | Q33: #DIV/0!
B34: JTA（日本トランスオーシャン航空）松山 | C34: 松山 | G34: 0 | H34: 0 | I34: #DIV/0! | J34: 0 | K34: 0 | L34: 0 | M34: #DIV/0! | N34: 0 | O34: #DIV/0! | P34: #DIV/0! | Q34: #DIV/0!
B35: JTA（日本トランスオーシャン航空）高知 | C35: 高知 | G35: 0 | H35: 0 | I35: #DIV/0! | J35: 0 | K35: 0 | L35: 0 | M35: #DIV/0! | N35: 0 | O35: #DIV/0! | P35: #DIV/0! | Q35: #DIV/0!
B36: JTA（日本トランスオーシャン航空）岡山 | C36: 岡山 | F36: ◎ | G36: 5132 | H36: 4707 | I36: 1.0902911 | J36: 425 | K36: 5610 | L36: 4950 | M36: 1.1333333 | N36: 660 | O36: 0.91479501 | P36: 0.95090909 | Q36: -0.036114082
B37: JTA（日本トランスオーシャン航空）福島 | C37: 福島 | G37: 0 | H37: 0 | I37: #DIV/0! | J37: 0 | K37: 0 | L37: 0 | M37: #DIV/0! | N37: 0 | O37: #DIV/0! | P37: #DIV/0! | Q37: #DIV/0!
B38: JTA（日本トランスオーシャン航空）小松 | C38: 小松 | F38: ◎ | G38: 3850 | H38: 3569 | I38: 1.0787335 | J38: 281 | K38: 4950 | L38: 4785 | M38: 1.0344828 | N38: 165 | O38: 0.77777778 | P38: 0.74587252 | Q38: 0.031905259
B39: JTA（日本トランスオーシャン航空）北九州 | C39: 北九州 | G39: 0 | H39: 0 | I39: #DIV/0! | J39: 0 | K39: 0 | L39: 0 | M39: #DIV/0! | N39: 0 | O39: #DIV/0! | P39: #DIV/0! | Q39: #DIV/0!
B40: JTA（日本トランスオーシャン航空）神戸 | C40: 神戸 | G40: 0 | H40: 0 | I40: #DIV/0! | J40: 0 | K40: 0 | L40: 0 | M40: #DIV/0! | N40: 0 | O40: #DIV/0! | P40: #DIV/0! | Q40: #DIV/0!
B41: JTA（日本トランスオーシャン航空）名古屋 | C41: 名古屋 | F41: ◎ | G41: 15836 | H41: 15451 | I41: 1.0249175 | J41: 385 | K41: 19800 | L41: 19635 | M41: 1.0084034 | N41: 165 | O41: 0.79979798 | P41: 0.78691113 | Q41: 0.012886852
B42: RAC | G42: 1247 | H42: 995 | I42: 1.2532663 | J42: 252 | K42: 1550 | L42: 1450 | M42: 1.0689655 | N42: 100 | O42: 0.80451613 | P42: 0.6862069 | Q42: 0.11830923
B43: RAC与論 | C43: 与論 | F43: ◎ | G43: 1247 | H43: 995 | I43: 1.2532663 | J43: 252 | K43: 1550 | L43: 1450 | M43: 1.0689655 | N43: 100 | O43: 0.80451613 | P43: 0.6862069 | Q43: 0.11830923
B44: RAC奄美 | C44: 奄美 | F44: ◎ | G44: 0 | H44: 0 | I44: #DIV/0! | J44: 0 | K44: 0 | L44: 0 | M44: #DIV/0! | N44: 0 | O44: #DIV/0! | P44: #DIV/0! | Q44: #DIV/0!
B45: JAC | G45: 2239 | H45: 2314 | I45: 0.96758859 | J45: -75 | K45: 2880 | L45: 2832 | M45: 1.0169492 | N45: 48 | O45: 0.77743056 | P45: 0.8170904 | Q45: -0.03965984
B46: JAC沖永良部 | C46: 沖永良部 | F46: ◎ | G46: 878 | H46: 997 | I46: 0.88064193 | J46: -119 | K46: 1440 | L46: 1392 | M46: 1.0344828 | N46: 48 | O46: 0.60972222 | P46: 0.71623563 | Q46: -0.10651341
B47: JAC与論 | C47: 与論 | F47: ◎ | G47: 1361 | H47: 1317 | I47: 1.0334093 | J47: 44 | K47: 1440 | L47: 1440 | M47: 1 | N47: 0 | O47: 0.94513889 | P47: 0.91458333 | Q47: 0.030555556
B48: JAC奄美 | C48: 奄美 | G48: 0 | H48: 0 | I48: #DIV/0! | J48: 0 | K48: 0 | M48: #DIV/0! | N48: 0 | O48: #DIV/0! | P48: #DIV/0! | Q48: #DIV/0!
A49: b | B49: ANA + SNA | G49: 333035 | H49: 315977 | I49: 1.0539849 | J49: 17058 | K49: 437072 | L49: 419249 | M49: 1.0425117 | N49: 17823 | O49: 0.76196828 | P49: 0.75367383 | Q49: 0.0082944488
B50: ANA | G50: 307263 | H50: 289780 | I50: 1.060332 | J50: 17483 | K50: 404523 | L50: 385958 | M50: 1.0481011 | N50: 18565 | O50: 0.75956868 | P50: 0.75080708 | Q50: 0.0087615945
B51: ANA羽田 | C51: 羽田 | F51: ◎ | G51: 114368 | H51: 112768 | I51: 1.0141884 | J51: 1600 | K51: 156234 | L51: 156289 | M51: 0.99964809 | N51: -55 | O51: 0.73203016 | P51: 0.7215351 | Q51: 0.010495055
B52: ANA伊丹 | C52: 伊丹 | F52: ◎ | G52: 28324 | H52: 28261 | I52: 1.0022292 | J52: 63 | K52: 35419 | L52: 34865 | M52: 1.0158899 | N52: 554 | O52: 0.79968379 | P52: 0.81058368 | Q52: -0.010899894
B53: ANA関西 | C53: 関西 | F53: ◎ | G53: 12070 | H53: 13122 | I53: 0.91982929 | J53: -1052 | K53: 17898 | L53: 17430 | M53: 1.0268503 | N53: 468 | O53: 0.67437703 | P53: 0.75283993 | Q53: -0.078462906
B54: ANA神戸 | C54: 神戸 | F54: ◎ | G54: 6631 | H54: 6396 | I54: 1.0367417 | J54: 235 | K54: 9607 | L54: 9538 | M54: 1.0072342 | N54: 69 | O54: 0.69022588 | P54: 0.67058083 | Q54: 0.019645042
B55: ANA名古屋 | C55: 名古屋 | F55: ◎ | G55: 17119 | H55: 11454 | I55: 1.494587 | J55: 5665 | K55: 23311 | L55: 13437 | M55: 1.7348366 | N55: 9874 | O55: 0.73437433 | P55: 0.85242242 | Q55: -0.11804809
B56: ANA福岡 | C56: 福岡 | F56: ◎ | G56: 32146 | H56: 29986 | I56: 1.0720336 | J56: 2160 | K56: 45171 | L56: 45190 | M56: 0.99957955 | N56: -19 | O56: 0.71165128 | P56: 0.66355388 | Q56: 0.048097397
B57: ANA成田 | C57: 成田 | F57: ◎ | G57: 0 | H57: 0 | I57: #DIV/0! | J57: 0 | K57: 0 | L57: 0 | M57: #DIV/0! | N57: 0 | O57: #DIV/0! | P57: #DIV/0! | Q57: #DIV/0!
B58: ANA札幌 | C58: 札幌 | F58: ◎ | G58: 0 | H58: 0 | I58: #DIV/0! | J58: 0 | K58: 0 | L58: 0 | M58: #DIV/0! | N58: 0 | O58: #DIV/0! | P58: #DIV/0! | Q58: #DIV/0!
B59: ANA仙台 | C59: 仙台 | F59: ◎ | G59: 4903 | H59: 4508 | I59: 1.087622 | J59: 395 | K59: 5820 | L59: 6435 | M59: 0.9044289 | N59: -615 | O59: 0.84243986 | P59: 0.7005439 | Q59: 0.14189596
B60: ANA新潟 | C60: 新潟 | F60: ○ | G60: 2886 | H60: 2385 | I60: 1.2100629 | J60: 501 | K60: 4980 | L60: 4980 | M60: 1 | N60: 0 | O60: 0.57951807 | P60: 0.47891566 | Q60: 0.10060241
B61: ANA静岡 | C61: 静岡 | F61: ◎ | G61: 3194 | H61: 650 | I61: 4.9138462 | J61: 2544 | K61: 4972 | L61: 830 | M61: 5.9903614 | N61: 4142 | O61: 0.64239743 | P61: 0.78313253 | Q61: -0.1407351
B62: ANA広島 | C62: 広島 | F62: ◎ | G62: 5432 | H62: 5006 | I62: 1.0850979 | J62: 426 | K62: 5820 | L62: 5616 | M62: 1.0363248 | N62: 204 | O62: 0.93333333 | P62: 0.89138177 | Q62: 0.041951567
B63: ANA岩国 | C63: 岩国 | F63: ○ | G63: 4195 | H63: 4039 | I63: 1.0386234 | J63: 156 | K63: 4980 | L63: 4980 | M63: 1 | N63: 0 | O63: 0.84236948 | P63: 0.81104418 | Q63: 0.031325301
B64: ANA高松 | C64: 高松 | F64: ◎ | G64: 6108 | H64: 6826 | I64: 0.89481395 | J64: -718 | K64: 7645 | L64: 9200 | M64: 0.83097826 | N64: -1555 | O64: 0.79895356 | P64: 0.74195652 | Q64: 0.056997043
B65: ANA松山 | C65: 松山 | F65: ◎ | G65: 3826 | H65: 3836 | I65: 0.99739312 | J65: -10 | K65: 4980 | L65: 4980 | M65: 1 | N65: 0 | O65: 0.76827309 | P65: 0.77028112 | Q65: -0.0020080321
B66: ANA北九州 | C66: 北九州 | F66: ○ | G66: 0 | H66: 0 | I66: #DIV/0! | J66: 0 | K66: 0 | L66: 0 | M66: #DIV/0! | N66: 0 | O66: #DIV/0! | P66: #DIV/0! | Q66: #DIV/0!
B67: ANA熊本 | C67: 熊本 | F67: ◎ | G67: 4309 | H67: 3943 | I67: 1.0928227 | J67: 366 | K67: 4980 | L67: 4980 | M67: 1 | N67: 0 | O67: 0.86526104 | P67: 0.79176707 | Q67: 0.073493976
B68: ANA長崎 | C68: 長崎 | F68: ◎ | G68: 0 | H68: 0 | I68: #DIV/0! | J68: 0 | K68: 0 | L68: 0 | M68: #DIV/0! | N68: 0 | O68: #DIV/0! | P68: #DIV/0! | Q68: #DIV/0!
B69: ANA宮崎 | C69: 宮崎 | F69: ◎ | G69: 2130 | H69: 1984 | I69: 1.0735887 | J69: 146 | K69: 3150 | L69: 3041 | M69: 1.0358435 | N69: 109 | O69: 0.67619048 | P69: 0.65241697 | Q69: 0.023773508
B70: ANA鹿児島 | C70: 鹿児島 | F70: ◎ | G70: 4396 | H70: 4171 | I70: 1.0539439 | J70: 225 | K70: 6298 | L70: 6300 | M70: 0.99968254 | N70: -2 | O70: 0.69799936 | P70: 0.66206349 | Q70: 0.035935873
B71: ANA羽田石垣 | C71: 羽田 | D71: - | E71: 石垣 | F71: ◎ | G71: 19392 | H71: 16798 | I71: 1.1544231 | J71: 2594 | K71: 21578 | L71: 18556 | M71: 1.1628584 | N71: 3022 | O71: 0.89869311 | P71: 0.90525975 | Q71: -0.0065666409
B72: ANA羽田宮古 | C72: 羽田 | D72: - | E72: 宮古 | F72: ◎ | G72: 17639 | H72: 14998 | I72: 1.1760901 | J72: 2641 | K72: 20100 | L72: 16961 | M72: 1.1850716 | N72: 3139 | O72: 0.87756219 | P72: 0.8842639 | Q72: -0.0067017105
B73: ANA関西石垣 | C73: 関西 | D73: - | E73: 石垣 | F73: ◎ | G73: 4392 | H73: 3706 | I73: 1.1851052 | J73: 686 | K73: 5344 | L73: 4508 | M73: 1.1854481 | N73: 836 | O73: 0.82185629 | P73: 0.82209406 | Q73: -0.00023776759
B74: ANA関西宮古 | C74: 関西 | D74: - | E74: 宮古 | F74: ◎ | G74: 5159 | H74: 5846 | I74: 0.88248375 | J74: -687 | K74: 6276 | L74: 7882 | M74: 0.79624461 | N74: -1606 | O74: 0.8220204 | P74: 0.74168993 | Q74: 0.080330469
B75: ANA伊丹石垣 | C75: 伊丹 | D75: - | E75: 石垣 | F75: ○ | G75: 0 | H75: 0 | I75: #DIV/0! | J75: 0 | K75: 0 | L75: 0 | M75: #DIV/0! | N75: 0 | O75: #DIV/0! | P75: #DIV/0! | Q75: #DIV/0!
B76: ANA伊丹宮古 | C76: 伊丹 | D76: - | E76: 宮古 | F76: ○ | G76: 0 | H76: 0 | I76: #DIV/0! | J76: 0 | K76: 0 | L76: 0 | M76: #DIV/0! | N76: 0 | O76: #DIV/0! | P76: #DIV/0! | Q76: #DIV/0!
B77: ANA名古屋石垣 | C77: 名古屋 | D77: - | E77: 石垣 | F77: ◎ | G77: 4356 | H77: 4559 | I77: 0.95547269 | J77: -203 | K77: 4980 | L77: 4980 | M77: 1 | N77: 0 | O77: 0.8746988 | P77: 0.91546185 | Q77: -0.040763052
B78: ANA名古屋宮古 | C78: 名古屋 | D78: - | E78: 宮古 | F78: ◎ | G78: 4288 | H78: 4538 | I78: 0.94490965 | J78: -250 | K78: 4980 | L78: 4980 | M78: 1 | N78: 0 | O78: 0.86104418 | P78: 0.91124498 | Q78: -0.050200803
B79: ANA福岡石垣 | C79: 福岡 | D79: - | E79: 石垣 | F79: ◎ | G79: 0 | H79: 0 | I79: #DIV/0! | J79: 0 | K79: 0 | L79: 0 | M79: #DIV/0! | N79: 0 | O79: #DIV/0! | P79: #DIV/0! | Q79: #DIV/0!
B80: ANA福岡宮古 | C80: 福岡 | D80: - | E80: 宮古 | F80: ○ | G80: 0 | H80: 0 | I80: #DIV/0! | J80: 0 | K80: 0 | L80: 0 | M80: #DIV/0! | N80: 0 | O80: #DIV/0! | P80: #DIV/0! | Q80: #DIV/0!
B81: ANA沖永良部那覇 | C81: 沖永良部 | D81: - | E81: 那覇 | G81: - | H81: 0 | I81: - | J81: - | K81: - | L81: 0 | M81: - | N81: - | O81: - | P81: - | Q81: -
B82: ANA奄美那覇 | C82: 奄美 | D82: - | E82: 那覇 | G82: - | H82: 0 | I82: - | J82: - | K82: - | L82: 0 | M82: - | N82: - | O82: - | P82: - | Q82: -
B83: SNA | G83: 25772 | H83: 26197 | I83: 0.98377677 | J83: -425 | K83: 32549 | L83: 33291 | M83: 0.97771169 | N83: -742 | O83: 0.79179084 | P83: 0.78690937 | Q83: 0.0048814635
B84: SNA羽田 | C84: 羽田 | G84: 11481 | H84: 13035 | I84: 0.88078251 | J84: -1554 | K84: 14014 | L84: 14448 | M84: 0.96996124 | N84: -434 | O84: 0.81925218 | P84: 0.902201 | Q84: -0.08294882
B85: SNA宮崎 | C85: 宮崎 | G85: 1440 | H85: 1333 | I85: 1.0802701 | J85: 107 | K85: 2074 | L85: 2011 | M85: 1.0313277 | N85: 63 | O85: 0.69431051 | P85: 0.6628543 | Q85: 0.03145621
B86: SNA鹿児島 | C86: 鹿児島 | G86: 3076 | H86: 2865 | I86: 1.0736475 | J86: 211 | K86: 4154 | L86: 4150 | M86: 1.0009639 | N86: 4 | O86: 0.74049109 | P86: 0.69036145 | Q86: 0.050129647
B87: SNA神戸 | C87: 神戸 | G87: 4926 | H87: 4917 | I87: 1.0018304 | J87: 9 | K87: 6069 | L87: 6235 | M87: 0.9733761 | N87: -166 | O87: 0.81166584 | P87: 0.78861267 | Q87: 0.023053172
B88: SNA名古屋 | C88: 名古屋 | G88: 1278 | H88: 1465 | I88: 0.87235495 | J88: -187 | K88: 1537 | L88: 1923 | M88: 0.79927197 | N88: -386 | O88: 0.83148992 | P88: 0.76183047 | Q88: 0.069659442
B89: SNA福岡 | C89: 福岡 | G89: 3571 | H89: 2582 | I89: 1.3830364 | J89: 989 | K89: 4701 | L89: 4524 | M89: 1.0391247 | N89: 177 | O89: 0.75962561 | P89: 0.57073386 | Q89: 0.18889175
B90: SNA熊本 | C90: 熊本 | G90: 0 | I90: #DIV/0! | J90: 0 | K90: 0 | M90: #DIV/0! | N90: 0 | O90: #DIV/0! | P90: #DIV/0! | Q90: #DIV/0!
B91: SNA長崎 | C91: 長崎 | G91: 0 | I91: #DIV/0! | J91: 0 | K91: 0 | M91: #DIV/0! | N91: 0 | O91: #DIV/0! | P91: #DIV/0! | Q91: #DIV/0!
A92: ｃ | B92: SKY | G92: 70387 | H92: 81435 | I92: 0.86433352 | J92: -11048 | K92: 95226 | L92: 100359 | M92: 0.94885362 | N92: -5133 | O92: 0.73915737 | P92: 0.81143694 | Q92: -0.072279568
B93: SKY羽田 | C93: 羽田 | F93: ◎ | G93: 24377 | H93: 27131 | I93: 0.8984925 | J93: -2754 | K93: 31860 | L93: 31683 | M93: 1.0055866 | N93: 177 | O93: 0.76512869 | P93: 0.85632674 | Q93: -0.091198049
B94: SKY成田 | C94: 成田 | G94: 0 | H94: 0 | I94: #DIV/0! | J94: 0 | K94: 0 | L94: 0 | M94: #DIV/0! | N94: 0 | O94: #DIV/0! | P94: #DIV/0! | Q94: #DIV/0!
B95: SKY福岡 | C95: 福岡 | F95: ◎ | G95: 10937 | H95: 11625 | I95: 0.9408172 | J95: -688 | K95: 15930 | L95: 15753 | M95: 1.011236 | N95: 177 | O95: 0.68656623 | P95: 0.73795468 | Q95: -0.051388448
B96: SKY関西 | C96: 関西 | G96: 0 | H96: 0 | I96: #DIV/0! | J96: 0 | K96: 0 | L96: 0 | M96: #DIV/0! | N96: 0 | O96: #DIV/0! | P96: #DIV/0! | Q96: #DIV/0!
B97: SKY神戸 | C97: 神戸 | F97: ◎ | G97: 16273 | H97: 17479 | I97: 0.93100292 | J97: -1206 | K97: 21240 | L97: 21771 | M97: 0.97560976 | N97: -531 | O97: 0.76614878 | P97: 0.80285701 | Q97: -0.036708236
B98: SKY茨城 | C98: 茨城 | F98: ○ | G98: 3422 | H98: 3790 | I98: 0.90290237 | J98: -368 | K98: 5310 | L98: 5133 | M98: 1.0344828 | N98: 177 | O98: 0.64444444 | P98: 0.73835963 | Q98: -0.093915189
B99: SKY北九州 | C99: 北九州 | G99: 0 | H99: 0 | I99: #DIV/0! | J99: 0 | K99: 0 | L99: 0 | M99: #DIV/0! | N99: 0 | O99: #DIV/0! | P99: #DIV/0! | Q99: #DIV/0!
B100: SKY名古屋 | C100: 名古屋 | F100: ◎ | G100: 7055 | H100: 12602 | I100: 0.55983177 | J100: -5547 | K100: 10266 | L100: 15753 | M100: 0.65168539 | N100: -5487 | O100: 0.68721995 | P100: 0.79997461 | Q100: -0.11275466
...

Sheet ４月月間
A1: ='R７'!A1 -> 令和７年度 | F1: ４月月間 | G1: 航空旅客輸送実績
A2: R7 | B2: （2025）年 | C2: 4
C3: 輸送実績人数 | G3: 提供座席数 | K3: 利用率
C4: 25'4月間 | D4: 24'4月間 | E4: 対前年同月比較 | G4: 25'4月間 | H4: 24'4月間 | I4: 対前年同月比較 | K4: 25'4月間 | L4: 24'4月間 | M4: 対前年 増減
E5: 比率 | F5: 増減数 | I5: 比率 | J5: 増減数
A6: 合 計 | C6: 627551 | D6: 600018 | E6: 1.045887 | F6: 27533 | G6: 795095 | H6: 776689 | I6: 1.023698 | J6: 18406 | K6: 0.78927801 | L6: 0.77253315 | M6: 0.01674486
A7: ①＋②＋③＋④＋⑤
A8: ①東京方面（羽田、成田） | C8: 322211 | D8: 304972 | E8: 1.0565265 | F8: 17239 | G8: 397213 | H8: 386010 | I8: 1.0290226 | J8: 11203 | K8: 0.81117939 | L8: 0.79006243 | M8: 0.021116959
B9: JAL | C9: 123974 | D9: 107734 | E9: 1.1507416 | F9: 16240 | G9: 141022 | H9: 134525 | I9: 1.0482959 | J9: 6497 | K9: 0.87911106 | L9: 0.80084743 | M9: 0.078263635
B10: JTA | C10: 6630 | D10: 7934 | E10: 0.83564406 | F10: -1304 | G10: 7095 | H10: 8415 | I10: 0.84313725 | J10: -1320 | K10: 0.93446089 | L10: 0.94284017 | M10: -0.0083792784
B11: ANA | C11: 151399 | D11: 144564 | E11: 1.0472801 | F11: 6835 | G11: 197912 | H11: 191806 | I11: 1.0318342 | J11: 6106 | K11: 0.76498141 | L11: 0.75369905 | M11: 0.011282356
B12: SNA | C12: 11481 | D12: 13035 | E12: 0.88078251 | F12: -1554 | G12: 14014 | H12: 14448 | I12: 0.96996124 | J12: -434 | K12: 0.81925218 | L12: 0.902201 | M12: -0.08294882
B13: SKY | C13: 28727 | D13: 31705 | E13: 0.9060716 | F13: -2978 | G13: 37170 | H13: 36816 | I13: 1.0096154 | J13: 354 | K13: 0.77285445 | L13: 0.86117449 | M13: -0.088320037
A14: ②関西方面（関西、伊丹、神戸） | C14: 121797 | D14: 120514 | E14: 1.0106461 | F14: 1283 | G14: 155373 | H14: 155016 | I14: 1.002303 | J14: 357 | K14: 0.78390068 | L14: 0.77742943 | M14: 0.0064712511
B15: JAL | C15: 20699 | D15: 18534 | E15: 1.1168123 | F15: 2165 | G15: 23460 | H15: 23069 | I15: 1.0169492 | J15: 391 | K15: 0.88231032 | L15: 0.80341584 | M15: 0.078894476
B16: JTA | C16: 19350 | D16: 18019 | E16: 1.0738665 | F16: 1331 | G16: 24750 | H16: 24585 | I16: 1.0067114 | J16: 165 | K16: 0.78181818 | L16: 0.73292658 | M16: 0.048891601
B17: ANA | C17: 56576 | D17: 57331 | E17: 0.98683086 | F17: -755 | G17: 74544 | H17: 74223 | I17: 1.0043248 | J17: 321 | K17: 0.75896115 | L17: 0.77241556 | M17: -0.013454408
B18: SNA | C18: 4926 | D18: 4917 | E18: 1.0018304 | F18: 9 | G18: 6069 | H18: 6235 | I18: 0.9733761 | J18: -166 | K18: 0.81166584 | L18: 0.78861267 | M18: 0.023053172
B19: SKY | C19: 20246 | D19: 21713 | E19: 0.93243679 | F19: -1467 | G19: 26550 | H19: 26904 | I19: 0.98684211 | J19: -354 | K19: 0.76256121 | L19: 0.80705471 | M19: -0.044493508
A20: ③福岡方面（福岡、北九州） | C20: 70229 | D20: 64448 | E20: 1.0897002 | F20: 5781 | G20: 95502 | H20: 94507 | I20: 1.0105283 | J20: 995 | K20: 0.7353668 | L20: 0.6819389 | M20: 0.053427895
B21: JAL | C21: 0 | D21: 0 | E21: #DIV/0! | F21: 0 | G21: 0 | H21: 0 | I21: #DIV/0! | J21: 0 | K21: - | L21: - | M21: #VALUE!
B22: JTA | C22: 23575 | D22: 20255 | E22: 1.1639101 | F22: 3320 | G22: 29700 | H22: 29040 | I22: 1.0227273 | J22: 660 | K22: 0.79377104 | L22: 0.69748623 | M22: 0.096284818
B23: ANA | C23: 32146 | D23: 29986 | E23: 1.0720336 | F23: 2160 | G23: 45171 | H23: 45190 | I23: 0.99957955 | J23: -19 | K23: 0.71165128 | L23: 0.66355388 | M23: 0.048097397
B24: SNA | C24: 3571 | D24: 2582 | E24: 1.3830364 | F24: 989 | G24: 4701 | H24: 4524 | I24: 1.0391247 | J24: 177 | K24: 0.75962561 | L24: 0.57073386 | M24: 0.18889175
B25: SKY | C25: 10937 | D25: 11625 | E25: 0.9408172 | F25: -688 | G25: 15930 | H25: 15753 | I25: 1.011236 | J25: 177 | K25: 0.68656623 | L25: 0.73795468 | M25: -0.051388448
B26: SFJ | C26: 0 | D26: 0 | E26: #DIV/0! | F26: 0 | G26: 0 | H26: 0 | I26: #DIV/0! | J26: 0 | K26: - | L26: － | M26: #VALUE!
A27: ④名古屋方面 | C27: 51529 | D27: 53163 | E27: 0.96926434 | F27: -1634 | G27: 66854 | H27: 64503 | I27: 1.0364479 | J27: 2351 | K27: 0.77076914 | L27: 0.82419422 | M27: -0.053425085
B28: JAL | C28: 0 | D28: 0 | E28: #DIV/0! | F28: 0 | G28: 0 | H28: 0 | I28: #DIV/0! | J28: 0 | K28: - | L28: - | M28: #VALUE!
B29: JTA | C29: 17433 | D29: 18545 | E29: 0.94003775 | F29: -1112 | G29: 21780 | H29: 23430 | I29: 0.92957746 | J29: -1650 | K29: 0.80041322 | L29: 0.79150662 | M29: 0.0089066077
B30: ANA | C30: 25763 | D30: 20551 | E30: 1.253613 | F30: 5212 | G30: 33271 | H30: 23397 | I30: 1.4220199 | J30: 9874 | K30: 0.77433801 | L30: 0.87836047 | M30: -0.10402246
B31: SKY | C31: 7055 | D31: 12602 | E31: 0.55983177 | F31: -5547 | G31: 10266 | H31: 15753 | I31: 0.65168539 | J31: -5487 | K31: 0.68721995 | L31: 0.79997461 | M31: -0.11275466
B32: SNA | C32: 1278 | D32: 1465 | E32: 0.87235495 | F32: -187 | G32: 1537 | H32: 1923 | I32: 0.79927197 | J32: -386 | K32: 0.83148992 | L32: 0.76183047 | M32: 0.069659442
A33: ⑤その他方面 | C33: 61785 | D33: 56921 | E33: 1.0854518 | F33: 4864 | G33: 80153 | H33: 76653 | I33: 1.0456603 | J33: 3500 | K33: 0.77083827 | L33: 0.7425802 | M33: 0.028258073
B34: JAL | C34: 0 | D34: 0 | E34: #DIV/0! | F34: 0 | G34: 0 | H34: 0 | I34: #DIV/0! | J34: 0 | K34: - | L34: - | M34: #VALUE!
B35: JTA | C35: 8982 | D35: 8276 | E35: 1.0853069 | F35: 706 | G35: 10560 | H35: 9735 | I35: 1.0847458 | J35: 825 | K35: 0.85056818 | L35: 0.8501284 | M35: 0.00043977915
B36: RAC | C36: 1247 | D36: 995 | E36: 1.2532663 | F36: 252 | G36: 1550 | H36: 1450 | I36: 1.0689655 | J36: 100 | K36: 0.80451613 | L36: 0.6862069 | M36: 0.11830923
B37: JAC | C37: 2239 | D37: 2314 | E37: 0.96758859 | F37: -75 | G37: 2880 | H37: 2832 | I37: 1.0169492 | J37: 48 | K37: 0.77743056 | L37: 0.8170904 | M37: -0.03965984
B38: ANA | C38: 41379 | D38: 37348 | E38: 1.1079308 | F38: 4031 | G38: 53625 | H38: 51342 | I38: 1.0444665 | J38: 2283 | K38: 0.77163636 | L38: 0.72743563 | M38: 0.044200736
B39: SNA | C39: 4516 | D39: 4198 | E39: 1.0757504 | F39: 318 | G39: 6228 | H39: 6161 | I39: 1.0108749 | J39: 67 | K39: 0.7251124 | L39: 0.68138289 | M39: 0.043729503
B40: SKY | C40: 3422 | D40: 3790 | E40: 0.90290237 | F40: -368 | G40: 5310 | H40: 5133 | I40: 1.0344828 | J40: 177 | K40: 0.64444444 | L40: 0.73835963 | M40: -0.093915189
B41: 第一航空 | C41: 0 | D41: 0 | E41: #DIV/0! | F41: 0 | G41: 0 | H41: 0 | I41: #DIV/0! | J41: 0 | K41: - | L41: - | M41: #VALUE!

Sheet ５月（月間）
A1: ='R７'!A1 -> 令和７年度 | J1: =RIGHT(CELL("filename",$A$1),LEN(CELL("filename",$A$1))-FIND("]",CELL("filename",$A$1))) -> ５月（月間） | K1: 航空旅客輸送実績
A2: 7 | C2: 2025 | D2: 年 | E2: 5 | F2: 月 | G2: 輸送実績（旅客実績） | K2: 提供座席 | O2: 利用率
A3: キャリア・路線 | G3: 25'5/1-5/31 | H3: 24'5/1-5/31 (前年同月) | I3: 対前年同月比 | K3: 25'5/1-5/31 | L3: 24'5/1-5/31 (前年同月) | M3: 対前年同月比 | O3: 25'5/1-5/31 | P3: 24'5/1-5/31 (前年同月) | Q3: 増減数
I4: 比率 | J4: 増減数 | M4: 比率 | N4: 増減数
A5: 合計 a+b+c+d+e | G5: 590421 | H5: 566408 | I5: 1.0423952 | J5: 24013 | K5: 800924 | L5: 809471 | M5: 0.98944125 | N5: -8547 | O5: 0.73717481 | P5: 0.69972612 | Q5: 0.037448696
A6: a | B6: JAL + JTA + RAC+JAC | G6: 210401 | H6: 187904 | I6: 1.119726 | J6: 22497 | K6: 263998 | L6: 270560 | M6: 0.9757466 | N6: -6562 | O6: 0.79697952 | P6: 0.6945003 | Q6: 0.10247923
B7: JAL（日本航空） | G7: 128728 | H7: 115101 | I7: 1.1183917 | J7: 13627 | K7: 158277 | L7: 163218 | M7: 0.9697276 | N7: -4941 | O7: 0.81330831 | P7: 0.70519796 | Q7: 0.10811036
B8: JAL（日本航空）羽田 | C8: 羽田 | F8: ◎ | G8: 103312 | H8: 91797 | I8: 1.1254398 | J8: 11515 | K8: 129138 | L8: 134456 | M8: 0.96044803 | N8: -5318 | O8: 0.80001239 | P8: 0.68272892 | Q8: 0.11728347
B9: JAL（日本航空）伊丹 | C9: 伊丹 | F9: ◎ | G9: 21477 | H9: 20278 | I9: 1.0591281 | J9: 1199 | K9: 24242 | L9: 24242 | M9: 1 | N9: 0 | O9: 0.88594175 | P9: 0.83648214 | Q9: 0.049459616
B10: JAL（日本航空）関西 | C10: 関西 | G10: 0 | H10: 0 | I10: #DIV/0! | J10: 0 | K10: 0 | L10: 0 | M10: #DIV/0! | N10: 0 | O10: #DIV/0! | P10: #DIV/0! | Q10: #DIV/0!
B11: JAL（日本航空）福岡 | C11: 福岡 | G11: 0 | H11: 0 | I11: #DIV/0! | J11: 0 | K11: 0 | L11: 0 | M11: #DIV/0! | N11: 0 | O11: #DIV/0! | P11: #DIV/0! | Q11: #DIV/0!
B12: JAL（日本航空）名古屋 | C12: 名古屋 | G12: 0 | H12: 0 | I12: #DIV/0! | J12: 0 | K12: 0 | L12: 0 | M12: #DIV/0! | N12: 0 | O12: #DIV/0! | P12: #DIV/0! | Q12: #DIV/0!
B13: JAL（日本航空）成田 | C13: 成田 | G13: 0 | H13: 0 | I13: #DIV/0! | J13: 0 | K13: 0 | L13: 0 | M13: #DIV/0! | N13: 0 | O13: #DIV/0! | P13: #DIV/0! | Q13: #DIV/0!
B14: JAL（日本航空）仙台 | C14: 仙台 | G14: 0 | H14: 0 | I14: #DIV/0! | J14: 0 | K14: 0 | L14: 0 | M14: #DIV/0! | N14: 0 | O14: #DIV/0! | P14: #DIV/0! | Q14: #DIV/0!
B15: JAL（日本航空）神戸 | C15: 神戸 | G15: 0 | H15: 0 | I15: #DIV/0! | J15: 0 | K15: 0 | L15: 0 | M15: #DIV/0! | N15: 0 | O15: #DIV/0! | P15: #DIV/0! | Q15: #DIV/0!
B16: JAL（日本航空）花巻 | C16: 花巻 | G16: 0 | H16: 0 | I16: #DIV/0! | J16: 0 | K16: 0 | L16: 0 | M16: #DIV/0! | N16: 0 | O16: #DIV/0! | P16: #DIV/0! | Q16: #DIV/0!
B17: JAL（日本航空）羽田石垣 | C17: 羽田 | D17: - | E17: 石垣 | G17: 2598 | H17: 1975 | I17: 1.315443 | J17: 623 | K17: 3331 | L17: 3008 | M17: 1.1073803 | N17: 323 | O17: 0.77994596 | P17: 0.65658245 | Q17: 0.12336352
B18: JAL（日本航空）羽田宮古 | C18: 羽田 | D18: - | E18: 宮古 | G18: 1341 | H18: 1051 | I18: 1.2759277 | J18: 290 | K18: 1566 | L18: 1512 | M18: 1.0357143 | N18: 54 | O18: 0.85632184 | P18: 0.69510582 | Q18: 0.16121602
B19: JAL（日本航空）羽田久米島 | C19: 羽田 | D19: - | E19: 久米島 | G19: 0 | H19: 0 | I19: #DIV/0! | J19: 0 | K19: 0 | L19: 0 | M19: #DIV/0! | N19: 0 | O19: #DIV/0! | P19: #DIV/0! | Q19: #DIV/0!
B20: JAL（日本航空）沖永良部 | C20: 沖永良部 | G20: 0 | H20: 0 | I20: #DIV/0! | J20: 0 | K20: 0 | L20: 0 | M20: #DIV/0! | N20: 0 | O20: #DIV/0! | P20: #DIV/0! | Q20: #DIV/0!
B21: JTA（日本トランスオーシャン航空） | G21: 77806 | H21: 69252 | I21: 1.1235199 | J21: 8554 | K21: 101145 | L21: 102960 | M21: 0.98237179 | N21: -1815 | O21: 0.76925206 | P21: 0.67261072 | Q21: 0.096641341
B22: JTA（日本トランスオーシャン航空）羽田 | C22: 羽田 | G22: 116 | H22: 0 | I22: #DIV/0! | J22: 116 | K22: 165 | L22: 0 | M22: #DIV/0! | N22: 165 | O22: 0.7030303 | P22: #DIV/0! | Q22: #DIV/0!
B23: JTA（日本トランスオーシャン航空）関西 | C23: 関西 | F23: ◎ | G23: 11504 | H23: 9742 | I23: 1.1808664 | J23: 1762 | K23: 15345 | L23: 15345 | M23: 1 | N23: 0 | O23: 0.74969045 | P23: 0.63486478 | Q23: 0.11482568
B24: JTA（日本トランスオーシャン航空）福岡 | C24: 福岡 | F24: ◎ | G24: 23267 | H24: 20041 | I24: 1.16097 | J24: 3226 | K24: 30690 | L24: 30525 | M24: 1.0054054 | N24: 165 | O24: 0.75812968 | P24: 0.65654382 | Q24: 0.10158587
B25: JTA（日本トランスオーシャン航空）羽田石垣 | C25: 羽田 | D25: - | E25: 石垣 | F25: ◎ | G25: 6626 | H25: 6825 | I25: 0.97084249 | J25: -199 | K25: 7920 | L25: 8250 | M25: 0.96 | N25: -330 | O25: 0.83661616 | P25: 0.82727273 | Q25: 0.0093434343
B26: JTA（日本トランスオーシャン航空）羽田宮古 | C26: 羽田 | D26: - | E26: 宮古 | F26: ◎ | G26: 3956 | H26: 3605 | I26: 1.0973648 | J26: 351 | K26: 4125 | L26: 4125 | M26: 1 | N26: 0 | O26: 0.9590303 | P26: 0.87393939 | Q26: 0.085090909
B27: JTA（日本トランスオーシャン航空）羽田久米島 | C27: 羽田 | D27: - | E27: 久米島 | F27: ○ | H27: 0 | I27: #DIV/0! | J27: 0 | L27: 0 | M27: #DIV/0! | N27: 0 | O27: #DIV/0! | P27: #DIV/0! | Q27: #DIV/0!
B28: JTA（日本トランスオーシャン航空）関西石垣 | C28: 関西 | D28: - | E28: 石垣 | F28: ◎ | G28: 4131 | H28: 3567 | I28: 1.1581161 | J28: 564 | K28: 5115 | L28: 5115 | M28: 1 | N28: 0 | O28: 0.80762463 | P28: 0.6973607 | Q28: 0.11026393
B29: JTA（日本トランスオーシャン航空）関西宮古 | C29: 関西 | D29: - | E29: 宮古 | G29: 4070 | H29: 3137 | I29: 1.2974179 | J29: 933 | K29: 5115 | L29: 5115 | M29: 1 | N29: 0 | O29: 0.79569892 | P29: 0.61329423 | Q29: 0.18240469
B30: JTA（日本トランスオーシャン航空）神戸石垣 | C30: 神戸 | D30: - | E30: 石垣 | H30: 0 | I30: #DIV/0! | J30: 0 | L30: 0 | M30: #DIV/0! | N30: 0 | O30: #DIV/0! | P30: #DIV/0! | Q30: #DIV/0!
B31: JTA（日本トランスオーシャン航空）名古屋石垣 | C31: 名古屋 | D31: - | E31: 石垣 | H31: 480 | I31: 0 | J31: -480 | L31: 990 | M31: 0 | N31: -990 | O31: #DIV/0! | P31: 0.48484848 | Q31: #DIV/0!
B32: JTA（日本トランスオーシャン航空）名古屋宮古 | C32: 名古屋 | D32: - | E32: 宮古 | H32: 742 | I32: 0 | J32: -742 | L32: 990 | M32: 0 | N32: -990 | O32: #DIV/0! | P32: 0.74949495 | Q32: #DIV/0!
B33: JTA（日本トランスオーシャン航空）仙台 | C33: 仙台 | H33: 0 | I33: #DIV/0! | J33: 0 | L33: 0 | M33: #DIV/0! | N33: 0 | O33: #DIV/0! | P33: #DIV/0! | Q33: #DIV/0!
B34: JTA（日本トランスオーシャン航空）松山 | C34: 松山 | H34: 0 | I34: #DIV/0! | J34: 0 | L34: 0 | M34: #DIV/0! | N34: 0 | O34: #DIV/0! | P34: #DIV/0! | Q34: #DIV/0!
B35: JTA（日本トランスオーシャン航空）高知 | C35: 高知 | H35: 0 | I35: #DIV/0! | J35: 0 | L35: 0 | M35: #DIV/0! | N35: 0 | O35: #DIV/0! | P35: #DIV/0! | Q35: #DIV/0!
B36: JTA（日本トランスオーシャン航空）岡山 | C36: 岡山 | F36: ◎ | G36: 5682 | H36: 5545 | I36: 1.0247069 | J36: 137 | K36: 6600 | L36: 6765 | M36: 0.97560976 | N36: -165 | O36: 0.86090909 | P36: 0.81966001 | Q36: 0.041249076
B37: JTA（日本トランスオーシャン航空）福島 | C37: 福島 | H37: 0 | I37: #DIV/0! | J37: 0 | L37: 0 | M37: #DIV/0! | N37: 0 | O37: #DIV/0! | P37: #DIV/0! | Q37: #DIV/0!
B38: JTA（日本トランスオーシャン航空）小松 | C38: 小松 | F38: ◎ | G38: 3466 | H38: 3069 | I38: 1.1293581 | J38: 397 | K38: 5115 | L38: 5115 | M38: 1 | N38: 0 | O38: 0.67761486 | P38: 0.6 | Q38: 0.077614858
B39: JTA（日本トランスオーシャン航空）北九州 | C39: 北九州 | H39: 0 | I39: #DIV/0! | J39: 0 | L39: 0 | M39: #DIV/0! | N39: 0 | O39: #DIV/0! | P39: #DIV/0! | Q39: #DIV/0!
B40: JTA（日本トランスオーシャン航空）神戸 | C40: 神戸 | H40: 0 | I40: #DIV/0! | J40: 0 | L40: 0 | M40: #DIV/0! | N40: 0 | O40: #DIV/0! | P40: #DIV/0! | Q40: #DIV/0!
B41: JTA（日本トランスオーシャン航空）名古屋 | C41: 名古屋 | F41: ◎ | G41: 14988 | H41: 12499 | I41: 1.1991359 | J41: 2489 | K41: 20955 | L41: 20625 | M41: 1.016 | N41: 330 | O41: 0.71524696 | P41: 0.60601212 | Q41: 0.10923484
B42: RAC | G42: 1343 | H42: 1145 | I42: 1.1729258 | J42: 198 | K42: 1600 | L42: 1550 | M42: 1.0322581 | N42: 50 | O42: 0.839375 | P42: 0.73870968 | Q42: 0.10066532
B43: RAC与論 | C43: 与論 | F43: ◎ | G43: 1343 | H43: 1145 | I43: 1.1729258 | J43: 198 | K43: 1600 | L43: 1550 | M43: 1.0322581 | N43: 50 | O43: 0.839375 | P43: 0.73870968 | Q43: 0.10066532
B44: RAC奄美 | C44: 奄美 | F44: ◎ | H44: 0 | I44: #DIV/0! | J44: 0 | L44: 0 | M44: #DIV/0! | N44: 0 | O44: #DIV/0! | P44: #DIV/0! | Q44: #DIV/0!
B45: JAC | G45: 2524 | H45: 2406 | I45: 1.0490441 | J45: 118 | K45: 2976 | L45: 2832 | M45: 1.0508475 | N45: 144 | O45: 0.84811828 | P45: 0.84957627 | Q45: -0.0014579916
B46: JAC沖永良部 | C46: 沖永良部 | F46: ◎ | G46: 1122 | H46: 1076 | I46: 1.0427509 | J46: 46 | K46: 1488 | L46: 1392 | M46: 1.0689655 | N46: 96 | O46: 0.75403226 | P46: 0.77298851 | Q46: -0.018956248
B47: JAC与論 | C47: 与論 | F47: ◎ | G47: 1402 | H47: 1330 | I47: 1.0541353 | J47: 72 | K47: 1488 | L47: 1440 | M47: 1.0333333 | N47: 48 | O47: 0.9422043 | P47: 0.92361111 | Q47: 0.01859319
B48: JAC奄美 | C48: 奄美 | H48: 0 | I48: #DIV/0! | J48: 0 | L48: 0 | M48: #DIV/0! | N48: 0 | O48: #DIV/0! | P48: #DIV/0! | Q48: #DIV/0!
A49: b | B49: ANA + SNA | G49: 309245 | H49: 294397 | I49: 1.0504353 | J49: 14848 | K49: 438337 | L49: 434127 | M49: 1.0096976 | N49: 4210 | O49: 0.705496 | P49: 0.67813566 | Q49: 0.027360339
B50: ANA（全日空） | G50: 286632 | H50: 270776 | I50: 1.0585576 | J50: 15856 | K50: 405023 | L50: 400497 | M50: 1.011301 | N50: 4526 | O50: 0.70769314 | P50: 0.67609995 | Q50: 0.031593198
B51: ANA（全日空）羽田 | C51: 羽田 | F51: ◎ | G51: 106213 | H51: 101559 | I51: 1.0458256 | J51: 4654 | K51: 159484 | L51: 159758 | M51: 0.99828491 | N51: -274 | O51: 0.66597903 | P51: 0.63570525 | Q51: 0.030273778
B52: ANA（全日空）伊丹 | C52: 伊丹 | F52: ◎ | G52: 30181 | H52: 29617 | I52: 1.0190431 | J52: 564 | K52: 36641 | L52: 36145 | M52: 1.0137225 | N52: 496 | O52: 0.82369477 | P52: 0.81939411 | Q52: 0.0043006611
B53: ANA（全日空）関西 | C53: 関西 | F53: ◎ | G53: 12775 | H53: 13465 | I53: 0.94875603 | J53: -690 | K53: 16742 | L53: 18158 | M53: 0.92201784 | N53: -1416 | O53: 0.76305101 | P53: 0.74154643 | Q53: 0.021504584
B54: ANA（全日空）神戸 | C54: 神戸 | F54: ◎ | G54: 6656 | H54: 6233 | I54: 1.0678646 | J54: 423 | K54: 10378 | L54: 9995 | M54: 1.0383192 | N54: 383 | O54: 0.64135672 | P54: 0.62361181 | Q54: 0.01774491
B55: ANA（全日空）名古屋 | C55: 名古屋 | F55: ◎ | G55: 13524 | H55: 10553 | I55: 1.2815313 | J55: 2971 | K55: 21645 | L55: 14043 | M55: 1.5413373 | N55: 7602 | O55: 0.62480942 | P55: 0.7514776 | Q55: -0.12666818
B56: ANA（全日空）福岡 | C56: 福岡 | F56: ◎ | G56: 29814 | H56: 27921 | I56: 1.0677984 | J56: 1893 | K56: 46835 | L56: 49903 | M56: 0.93852073 | N56: -3068 | O56: 0.63657521 | P56: 0.55950544 | Q56: 0.07706977
B57: ANA（全日空）成田 | C57: 成田 | F57: ◎ | G57: 0 | H57: 0 | I57: #DIV/0! | J57: 0 | K57: 0 | L57: 0 | M57: #DIV/0! | N57: 0 | O57: #DIV/0! | P57: #DIV/0! | Q57: #DIV/0!
B58: ANA（全日空）札幌 | C58: 札幌 | F58: ◎ | G58: 0 | H58: 0 | I58: #DIV/0! | J58: 0 | K58: 0 | L58: 0 | M58: #DIV/0! | N58: 0 | O58: #DIV/0! | P58: #DIV/0! | Q58: #DIV/0!
B59: ANA（全日空）仙台 | C59: 仙台 | F59: ◎ | G59: 4678 | H59: 4236 | I59: 1.1043437 | J59: 442 | K59: 6014 | L59: 7580 | M59: 0.79340369 | N59: -1566 | O59: 0.77785168 | P59: 0.55883905 | Q59: 0.21901263
B60: ANA（全日空）新潟 | C60: 新潟 | F60: ○ | G60: 2847 | H60: 2321 | I60: 1.2266265 | J60: 526 | K60: 5146 | L60: 4980 | M60: 1.0333333 | N60: 166 | O60: 0.55324524 | P60: 0.46606426 | Q60: 0.087180982
B61: ANA（全日空）静岡 | C61: 静岡 | F61: ◎ | G61: 2979 | H61: 512 | I61: 5.8183594 | J61: 2467 | K61: 5146 | L61: 995 | M61: 5.1718593 | N61: 4151 | O61: 0.57889623 | P61: 0.51457286 | Q61: 0.064323366
B62: ANA（全日空）広島 | C62: 広島 | F62: ◎ | G62: 5152 | H62: 4926 | I62: 1.045879 | J62: 226 | K62: 6014 | L62: 5772 | M62: 1.0419265 | N62: 242 | O62: 0.85666778 | P62: 0.85343035 | Q62: 0.0032374218
B63: ANA（全日空）岩国 | C63: 岩国 | F63: ○ | G63: 3629 | H63: 2846 | I63: 1.275123 | J63: 783 | K63: 5146 | L63: 4980 | M63: 1.0333333 | N63: 166 | O63: 0.70520793 | P63: 0.57148594 | Q63: 0.13372198
B64: ANA（全日空）高松 | C64: 高松 | F64: ◎ | G64: 5687 | H64: 7448 | I64: 0.76356069 | J64: -1761 | K64: 6226 | L64: 8695 | M64: 0.7160437 | N64: -2469 | O64: 0.91342756 | P64: 0.85658424 | Q64: 0.056843318
B65: ANA（全日空）松山 | C65: 松山 | F65: ◎ | G65: 3763 | H65: 2906 | I65: 1.2949071 | J65: 857 | K65: 5146 | L65: 4980 | M65: 1.0333333 | N65: 166 | O65: 0.73124757 | P65: 0.58353414 | Q65: 0.14771343
B66: ANA（全日空）北九州 | C66: 北九州 | F66: ○ | G66: 0 | H66: 0 | I66: #DIV/0! | J66: 0 | K66: 0 | L66: 0 | M66: #DIV/0! | N66: 0 | O66: #DIV/0! | P66: #DIV/0! | Q66: #DIV/0!
B67: ANA（全日空）熊本 | C67: 熊本 | F67: ◎ | G67: 3842 | H67: 3819 | I67: 1.0060225 | J67: 23 | K67: 5146 | L67: 4980 | M67: 1.0333333 | N67: 166 | O67: 0.7465993 | P67: 0.76686747 | Q67: -0.020268169
B68: ANA（全日空）長崎 | C68: 長崎 | F68: ◎ | G68: 0 | H68: 0 | I68: #DIV/0! | J68: 0 | K68: 0 | L68: 0 | M68: #DIV/0! | N68: 0 | O68: #DIV/0! | P68: #DIV/0! | Q68: #DIV/0!
B69: ANA（全日空）宮崎 | C69: 宮崎 | F69: ◎ | G69: 1983 | H69: 1944 | I69: 1.0200617 | J69: 39 | K69: 3255 | L69: 3252 | M69: 1.0009225 | N69: 3 | O69: 0.60921659 | P69: 0.59778598 | Q69: 0.011430612
B70: ANA（全日空）鹿児島 | C70: 鹿児島 | F70: ◎ | G70: 4486 | H70: 4128 | I70: 1.0867248 | J70: 358 | K70: 6510 | L70: 6504 | M70: 1.0009225 | N70: 6 | O70: 0.6890937 | P70: 0.63468635 | Q70: 0.054407355
B71: ANA（全日空）羽田石垣 | C71: 羽田 | D71: - | E71: 石垣 | F71: ◎ | G71: 17782 | H71: 15771 | I71: 1.1275125 | J71: 2011 | K71: 21232 | L71: 19410 | M71: 1.0938691 | N71: 1822 | O71: 0.83750942 | P71: 0.81251932 | Q71: 0.0249901
B72: ANA（全日空）羽田宮古 | C72: 羽田 | D72: - | E72: 宮古 | F72: ◎ | G72: 13874 | H72: 15117 | I72: 0.91777469 | J72: -1243 | K72: 17397 | L72: 18820 | M72: 0.92438895 | N72: -1423 | O72: 0.79749382 | P72: 0.80324123 | Q72: -0.005747412
B73: ANA（全日空）関西石垣 | C73: 関西 | D73: - | E73: 石垣 | F73: ◎ | G73: 4055 | H73: 3542 | I73: 1.1448334 | J73: 513 | K73: 5314 | L73: 4525 | M73: 1.1743646 | N73: 789 | O73: 0.76307866 | P73: 0.78276243 | Q73: -0.019683771
B74: ANA（全日空）関西宮古 | C74: 関西 | D74: - | E74: 宮古 | F74: ◎ | G74: 4388 | H74: 5017 | I74: 0.87462627 | J74: -629 | K74: 5314 | L74: 6730 | M74: 0.78959881 | N74: -1416 | O74: 0.82574332 | P74: 0.74546805 | Q74: 0.080275266
B75: ANA（全日空）伊丹石垣 | C75: 伊丹 | D75: - | E75: 石垣 | F75: ○ | G75: 0 | H75: 0 | I75: #DIV/0! | J75: 0 | K75: 0 | L75: 0 | M75: #DIV/0! | N75: 0 | O75: #DIV/0! | P75: #DIV/0! | Q75: #DIV/0!
B76: ANA（全日空）伊丹宮古 | C76: 伊丹 | D76: - | E76: 宮古 | F76: ○ | G76: 0 | H76: 0 | I76: #DIV/0! | J76: 0 | K76: 0 | L76: 0 | M76: #DIV/0! | N76: 0 | O76: #DIV/0! | P76: #DIV/0! | Q76: #DIV/0!
B77: ANA（全日空）名古屋石垣 | C77: 名古屋 | D77: - | E77: 石垣 | F77: ◎ | G77: 4184 | H77: 3578 | I77: 1.1693684 | J77: 606 | K77: 5146 | L77: 5146 | M77: 1 | N77: 0 | O77: 0.81305869 | P77: 0.69529732 | Q77: 0.11776137
B78: ANA（全日空）名古屋宮古 | C78: 名古屋 | D78: - | E78: 宮古 | F78: ◎ | G78: 4140 | H78: 3317 | I78: 1.2481158 | J78: 823 | K78: 5146 | L78: 5146 | M78: 1 | N78: 0 | O78: 0.80450836 | P78: 0.64457831 | Q78: 0.15993004
B79: ANA（全日空）福岡石垣 | C79: 福岡 | D79: - | E79: 石垣 | F79: ◎ | G79: 0 | H79: 0 | I79: #DIV/0! | J79: 0 | K79: 0 | L79: 0 | M79: #DIV/0! | N79: 0 | O79: #DIV/0! | P79: #DIV/0! | Q79: #DIV/0!
B80: ANA（全日空）福岡宮古 | C80: 福岡 | D80: - | E80: 宮古 | F80: ○ | G80: 0 | H80: 0 | I80: #DIV/0! | J80: 0 | K80: 0 | L80: 0 | M80: #DIV/0! | N80: 0 | O80: #DIV/0! | P80: #DIV/0! | Q80: #DIV/0!
B81: ANA（全日空）沖永良部那覇 | C81: 沖永良部 | D81: - | E81: 那覇 | G81: - | H81: 0 | I81: - | J81: - | K81: - | L81: 0 | M81: - | N81: - | O81: - | P81: - | Q81: -
B82: ANA（全日空）奄美那覇 | C82: 奄美 | D82: - | E82: 那覇 | G82: - | H82: 0 | I82: - | J82: - | K82: - | L82: 0 | M82: - | N82: - | O82: - | P82: - | Q82: -
B83: SNA（ソラシドエア） | G83: 22613 | H83: 23621 | I83: 0.95732611 | J83: -1008 | K83: 33314 | L83: 33630 | M83: 0.99060363 | N83: -316 | O83: 0.67878369 | P83: 0.70237883 | Q83: -0.023595134
B84: SNA（ソラシドエア）羽田 | C84: 羽田 | G84: 9616 | H84: 11365 | I84: 0.84610647 | J84: -1749 | K84: 14507 | L84: 14647 | M84: 0.99044173 | N84: -140 | O84: 0.66285242 | P84: 0.77592681 | Q84: -0.11307439
B85: SNA（ソラシドエア）宮崎 | C85: 宮崎 | G85: 1415 | H85: 1462 | I85: 0.96785226 | J85: -47 | K85: 2149 | L85: 2146 | M85: 1.0013979 | N85: 3 | O85: 0.65844579 | P85: 0.68126747 | Q85: -0.022821686
B86: SNA（ソラシドエア）鹿児島 | C86: 鹿児島 | G86: 3146 | H86: 3077 | I86: 1.0224244 | J86: 69 | K86: 4288 | L86: 4294 | M86: 0.9986027 | N86: -6 | O86: 0.73367537 | P86: 0.71658128 | Q86: 0.017094097
B87: SNA（ソラシドエア）神戸 | C87: 神戸 | G87: 4507 | H87: 4437 | I87: 1.0157764 | J87: 70 | K87: 6170 | L87: 5851 | M87: 1.0545206 | N87: 319 | O87: 0.73047002 | P87: 0.75833191 | Q87: -0.027861893
B88: SNA（ソラシドエア）名古屋 | C88: 名古屋 | G88: 1204 | H88: 1092 | I88: 1.1025641 | J88: 112 | K88: 1644 | L88: 1821 | M88: 0.90280066 | N88: -177 | O88: 0.7323601 | P88: 0.59967051 | Q88: 0.13268959
B89: SNA（ソラシドエア）福岡 | C89: 福岡 | G89: 2725 | H89: 2188 | I89: 1.2454296 | J89: 537 | K89: 4556 | L89: 4871 | M89: 0.93533155 | N89: -315 | O89: 0.59811238 | P89: 0.44918908 | Q89: 0.1489233
B90: SNA（ソラシドエア）熊本 | C90: 熊本 | G90: 0 | H90: 0 | I90: #DIV/0! | J90: 0 | K90: 0 | L90: 0 | M90: #DIV/0! | N90: 0 | O90: #DIV/0! | P90: #DIV/0! | Q90: #DIV/0!
B91: SNA（ソラシドエア）長崎 | C91: 長崎 | G91: 0 | H91: 0 | I91: #DIV/0! | J91: 0 | K91: 0 | L91: 0 | M91: #DIV/0! | N91: 0 | O91: #DIV/0! | P91: #DIV/0! | Q91: #DIV/0!
A92: ｃ | B92: SKY | G92: 70775 | H92: 84107 | I92: 0.84148763 | J92: -13332 | K92: 98589 | L92: 104784 | M92: 0.94087838 | N92: -6195 | O92: 0.71787928 | P92: 0.80267026 | Q92: -0.084790978
B93: SKY羽田 | C93: 羽田 | F93: ◎ | G93: 24450 | H93: 27550 | I93: 0.88747731 | J93: -3100 | K93: 32745 | L93: 32922 | M93: 0.99462366 | N93: -177 | O93: 0.74667888 | P93: 0.83682644 | Q93: -0.090147556
B94: SKY成田 | C94: 成田 | G94: 0 | H94: 0 | I94: #DIV/0! | J94: 0 | K94: 0 | L94: 0 | M94: #DIV/0! | N94: 0 | O94: #DIV/0! | P94: #DIV/0! | Q94: #DIV/0!
B95: SKY福岡 | C95: 福岡 | F95: ◎ | G95: 10836 | H95: 12142 | I95: 0.89243947 | J95: -1306 | K95: 16461 | L95: 16284 | M95: 1.0108696 | N95: 177 | O95: 0.65828321 | P95: 0.74563989 | Q95: -0.087356677
B96: SKY関西 | C96: 関西 | G96: 0 | H96: 0 | I96: #DIV/0! | J96: 0 | K96: 0 | L96: 0 | M96: #DIV/0! | N96: 0 | O96: #DIV/0! | P96: #DIV/0! | Q96: #DIV/0!
B97: SKY神戸 | C97: 神戸 | F97: ◎ | G97: 16283 | H97: 18287 | I97: 0.89041396 | J97: -2004 | K97: 21594 | L97: 22656 | M97: 0.953125 | N97: -1062 | O97: 0.75405205 | P97: 0.80715925 | Q97: -0.0531072
B98: SKY茨城 | C98: 茨城 | F98: ○ | G98: 3298 | H98: 3913 | I98: 0.84283159 | J98: -615 | K98: 5487 | L98: 5487 | M98: 1 | N98: 0 | O98: 0.60105704 | P98: 0.71314015 | Q98: -0.11208311
B99: SKY北九州 | C99: 北九州 | G99: 0 | H99: 0 | I99: #DIV/0! | J99: 0 | K99: 0 | L99: 0 | M99: #DIV/0! | N99: 0 | O99: #DIV/0! | P99: #DIV/0! | Q99: #DIV/0!
B100: SKY名古屋 | C100: 名古屋 | F100: ◎ | G100: 7610 | H100: 13081 | I100: 0.5817598 | J100: -5471 | K100: 11328 | L100: 16461 | M100: 0.68817204 | N100: -5133 | O100: 0.67178672 | P100: 0.79466618 | Q100: -0.12287946
...

Sheet ５月月間
A1: ='R７'!A1 -> 令和７年度 | F1: =RIGHT(CELL("filename",$A$1),LEN(CELL("filename",$A$1))-FIND("]",CELL("filename",$A$1))) -> ５月月間 | G1: 航空旅客輸送実績
A2: R7 | B2: （2025）年 | C2: 5
C3: 輸送実績人数 | G3: 提供座席数 | K3: 利用率
C4: 25'5月間 | D4: 24'5月間 | E4: 対前年同月比較 | G4: 25'5月間 | H4: 24'5月間 | I4: 対前年同月比較 | K4: 25'5月間 | L4: 24'5月間 | M4: 対前年 増減
E5: 比率 | F5: 増減数 | I5: 比率 | J5: 増減数
A6: 合 計 | C6: 590421 | D6: 566408 | E6: 1.0423952 | F6: 24013 | G6: 800924 | H6: 809471 | I6: 0.98944125 | J6: -8547 | K6: 0.73717481 | L6: 0.69972612 | M6: 0.037448696
A7: ①＋②＋③＋④＋⑤
A8: ①東京方面（羽田、成田） | C8: 294243 | D8: 281254 | E8: 1.0461825 | F8: 12989 | G8: 397097 | H8: 402395 | I8: 0.98683383 | J8: -5298 | K8: 0.7409852 | L8: 0.69895004 | M8: 0.042035163
B9: JAL | C9: 107251 | D9: 94823 | E9: 1.1310652 | F9: 12428 | G9: 134035 | H9: 138976 | I9: 0.9644471 | J9: -4941 | K9: 0.8001716 | L9: 0.68229766 | M9: 0.11787393
B10: JTA | C10: 10698 | D10: 10430 | E10: 1.0256951 | F10: 268 | G10: 12210 | H10: 12375 | I10: 0.98666667 | J10: -165 | K10: 0.87616708 | L10: 0.84282828 | M10: 0.033338793
B11: ANA | C11: 137869 | D11: 132447 | E11: 1.0409371 | F11: 5422 | G11: 198113 | H11: 197988 | I11: 1.0006314 | J11: 125 | K11: 0.69591092 | L11: 0.66896479 | M11: 0.026946134
B12: SNA | C12: 9616 | D12: 11365 | E12: 0.84610647 | F12: -1749 | G12: 14507 | H12: 14647 | I12: 0.99044173 | J12: -140 | K12: 0.66285242 | L12: 0.77592681 | M12: -0.11307439
B13: SKY | C13: 28809 | D13: 32189 | E13: 0.89499518 | F13: -3380 | G13: 38232 | H13: 38409 | I13: 0.99539171 | J13: -177 | K13: 0.75353107 | L13: 0.83805879 | M13: -0.084527715
A14: ②関西方面（関西、伊丹、神戸） | C14: 123966 | D14: 121817 | E14: 1.0176412 | F14: 2149 | G14: 157457 | H14: 159364 | I14: 0.98803368 | J14: -1907 | K14: 0.78730066 | L14: 0.76439472 | M14: 0.022905941
B15: JAL | C15: 21477 | D15: 20278 | E15: 1.0591281 | F15: 1199 | G15: 24242 | H15: 24242 | I15: 1 | J15: 0 | K15: 0.88594175 | L15: 0.83648214 | M15: 0.049459616
B16: JTA | C16: 19705 | D16: 16446 | E16: 1.1981637 | F16: 3259 | G16: 25575 | H16: 25575 | I16: 1 | J16: 0 | K16: 0.77047898 | L16: 0.64304985 | M16: 0.12742913
B17: ANA | C17: 58055 | D17: 57874 | E17: 1.0031275 | F17: 181 | G17: 74389 | H17: 75553 | I17: 0.9845936 | J17: -1164 | K17: 0.78042453 | L17: 0.76600532 | M17: 0.014419204
B18: SNA | C18: 4507 | D18: 4437 | E18: 1.0157764 | F18: 70 | G18: 6170 | H18: 5851 | I18: 1.0545206 | J18: 319 | K18: 0.73047002 | L18: 0.75833191 | M18: -0.027861893
B19: SKY | C19: 20222 | D19: 22782 | E19: 0.88763059 | F19: -2560 | G19: 27081 | H19: 28143 | I19: 0.96226415 | J19: -1062 | K19: 0.74672279 | L19: 0.80950858 | M19: -0.062785787
A20: ③福岡方面（福岡、北九州） | C20: 66642 | D20: 62292 | E20: 1.0698324 | F20: 4350 | G20: 98542 | H20: 101583 | I20: 0.97006389 | J20: -3041 | K20: 0.67628016 | L20: 0.61321284 | M20: 0.063067324
B21: JAL | C21: 0 | D21: 0 | E21: #DIV/0! | F21: 0 | G21: 0 | H21: 0 | I21: #DIV/0! | J21: 0 | K21: - | L21: - | M21: #VALUE!
B22: JTA | C22: 23267 | D22: 20041 | E22: 1.16097 | F22: 3226 | G22: 30690 | H22: 30525 | I22: 1.0054054 | J22: 165 | K22: 0.75812968 | L22: 0.65654382 | M22: 0.10158587
B23: ANA | C23: 29814 | D23: 27921 | E23: 1.0677984 | F23: 1893 | G23: 46835 | H23: 49903 | I23: 0.93852073 | J23: -3068 | K23: 0.63657521 | L23: 0.55950544 | M23: 0.07706977
B24: SNA | C24: 2725 | D24: 2188 | E24: 1.2454296 | F24: 537 | G24: 4556 | H24: 4871 | I24: 0.93533155 | J24: -315 | K24: 0.59811238 | L24: 0.44918908 | M24: 0.1489233
B25: SKY | C25: 10836 | D25: 12142 | E25: 0.89243947 | F25: -1306 | G25: 16461 | H25: 16284 | I25: 1.0108696 | J25: 177 | K25: 0.65828321 | L25: 0.74563989 | M25: -0.087356677
B26: SFJ | C26: 0 | D26: 0 | E26: #DIV/0! | F26: 0 | G26: 0 | H26: 0 | I26: #DIV/0! | J26: 0 | K26: - | L26: － | M26: #VALUE!
A27: ④名古屋方面 | C27: 45650 | D27: 45342 | E27: 1.0067928 | F27: 308 | G27: 65864 | H27: 65222 | I27: 1.0098433 | J27: 642 | K27: 0.69309486 | L27: 0.69519487 | M27: -0.0021000108
B28: JAL | C28: 0 | D28: 0 | E28: #DIV/0! | F28: 0 | G28: 0 | H28: 0 | I28: #DIV/0! | J28: 0 | K28: - | L28: - | M28: #VALUE!
B29: JTA | C29: 14988 | D29: 13721 | E29: 1.0923402 | F29: 1267 | G29: 20955 | H29: 22605 | I29: 0.9270073 | J29: -1650 | K29: 0.71524696 | L29: 0.6069896 | M29: 0.10825735
B30: ANA | C30: 21848 | D30: 17448 | E30: 1.2521779 | F30: 4400 | G30: 31937 | H30: 24335 | I30: 1.3123896 | J30: 7602 | K30: 0.68409682 | L30: 0.71699199 | M30: -0.032895171
B31: SKY | C31: 7610 | D31: 13081 | E31: 0.5817598 | F31: -5471 | G31: 11328 | H31: 16461 | I31: 0.68817204 | J31: -5133 | K31: 0.67178672 | L31: 0.79466618 | M31: -0.12287946
B32: SNA | C32: 1204 | D32: 1092 | E32: 1.1025641 | F32: 112 | G32: 1644 | H32: 1821 | I32: 0.90280066 | J32: -177 | K32: 0.7323601 | L32: 0.59967051 | M32: 0.13268959
A33: ⑤その他方面 | C33: 59920 | D33: 55703 | E33: 1.0757051 | F33: 4217 | G33: 81964 | H33: 80907 | I33: 1.0130644 | J33: 1057 | K33: 0.73105266 | L33: 0.68848184 | M33: 0.04257082
B34: JAL | C34: 0 | D34: 0 | E34: #DIV/0! | F34: 0 | G34: 0 | H34: 0 | I34: #DIV/0! | J34: 0 | K34: - | L34: - | M34: #VALUE!
B35: JTA | C35: 9148 | D35: 8614 | E35: 1.0619921 | F35: 534 | G35: 11715 | H35: 11880 | I35: 0.98611111 | J35: -165 | K35: 0.78087921 | L35: 0.72508418 | M35: 0.05579504
B36: RAC | C36: 1343 | D36: 1145 | E36: 1.1729258 | F36: 198 | G36: 1600 | H36: 1550 | I36: 1.0322581 | J36: 50 | K36: 0.839375 | L36: 0.73870968 | M36: 0.10066532
B37: JAC | C37: 2524 | D37: 2406 | E37: 1.0490441 | F37: 118 | G37: 2976 | H37: 2832 | I37: 1.0508475 | J37: 144 | K37: 0.84811828 | L37: 0.84957627 | M37: -0.0014579916
B38: ANA | C38: 39046 | D38: 35086 | E38: 1.1128655 | F38: 3960 | G38: 53749 | H38: 52718 | I38: 1.0195569 | J38: 1031 | K38: 0.72645072 | L38: 0.66554118 | M38: 0.060909543
B39: SNA | C39: 4561 | D39: 4539 | E39: 1.0048469 | F39: 22 | G39: 6437 | H39: 6440 | I39: 0.99953416 | J39: -3 | K39: 0.70855989 | L39: 0.70481366 | M39: 0.0037462236
B40: SKY | C40: 3298 | D40: 3913 | E40: 0.84283159 | F40: -615 | G40: 5487 | H40: 5487 | I40: 1 | J40: 0 | K40: 0.60105704 | L40: 0.71314015 | M40: -0.11208311
B41: 第一航空 | C41: 0 | D41: 0 | E41: #DIV/0! | F41: 0 | G41: 0 | H41: 0 | I41: #DIV/0! | J41: 0 | K41: - | L41: - | M41: #VALUE!

Sheet ６月（月間）
A1: ='R７'!A1 -> 令和７年度 | J1: ６月（月間） | K1: 航空旅客輸送実績
A2: 7 | C2: 2025 | D2: 年 | E2: 6 | F2: 月 | G2: 輸送実績（旅客実績） | K2: 提供座席 | O2: 利用率
A3: キャリア・路線 | G3: 25'6/1-6/30 | H3: 24'6/1-6/30 (前年同月) | I3: 対前年同月比 | K3: 25'6/1-6/30 | L3: 24'6/1-6/30 (前年同月) | M3: 対前年同月比 | O3: 25'6/1-6/30 | P3: 24'6/1-6/30 (前年同月) | Q3: 増減数
I4: 比率 | J4: 増減数 | M4: 比率 | N4: 増減数
A5: 合計 a+b+c+d+e | G5: 606324 | H5: 587005 | I5: 1.0329111 | J5: 19319 | K5: 770277 | L5: 773085 | M5: 0.9963678 | N5: -2808 | O5: 0.7871506 | P5: 0.75930202 | Q5: 0.027848579
A6: a | B6: JAL + JTA + RAC+JAC | G6: 213486 | H6: 192731 | I6: 1.107689 | J6: 20755 | K6: 255245 | L6: 252200 | M6: 1.0120738 | N6: 3045 | O6: 0.8363964 | P6: 0.76419905 | Q6: 0.072197355
B7: JAL（日本航空） | G7: 129258 | H7: 118015 | I7: 1.0952676 | J7: 11243 | K7: 151763 | L7: 148920 | M7: 1.0190908 | N7: 2843 | O7: 0.85170957 | P7: 0.79247247 | Q7: 0.059237105
B8: JAL（日本航空）羽田 | C8: 羽田 | F8: ◎ | G8: 107890 | H8: 99753 | I8: 1.0815715 | J8: 8137 | K8: 128303 | L8: 125460 | M8: 1.0226606 | N8: 2843 | O8: 0.84090006 | P8: 0.79509804 | Q8: 0.045802018
B9: JAL（日本航空）伊丹 | C9: 伊丹 | F9: ◎ | G9: 21368 | H9: 18262 | I9: 1.1700799 | J9: 3106 | K9: 23460 | L9: 23460 | M9: 1 | N9: 0 | O9: 0.91082694 | P9: 0.77843137 | Q9: 0.13239557
B10: JAL（日本航空）関西 | C10: 関西 | H10: 0 | I10: #DIV/0! | J10: 0 | L10: 0 | M10: #DIV/0! | N10: 0 | O10: #DIV/0! | P10: #DIV/0! | Q10: #DIV/0!
B11: JAL（日本航空）福岡 | C11: 福岡 | H11: 0 | I11: #DIV/0! | J11: 0 | L11: 0 | M11: #DIV/0! | N11: 0 | O11: #DIV/0! | P11: #DIV/0! | Q11: #DIV/0!
B12: JAL（日本航空）名古屋 | C12: 名古屋 | H12: 0 | I12: #DIV/0! | J12: 0 | L12: 0 | M12: #DIV/0! | N12: 0 | O12: #DIV/0! | P12: #DIV/0! | Q12: #DIV/0!
B13: JAL（日本航空）成田 | C13: 成田 | H13: 0 | I13: #DIV/0! | J13: 0 | L13: 0 | M13: #DIV/0! | N13: 0 | O13: #DIV/0! | P13: #DIV/0! | Q13: #DIV/0!
B14: JAL（日本航空）仙台 | C14: 仙台 | H14: 0 | I14: #DIV/0! | J14: 0 | L14: 0 | M14: #DIV/0! | N14: 0 | O14: #DIV/0! | P14: #DIV/0! | Q14: #DIV/0!
B15: JAL（日本航空）神戸 | C15: 神戸 | H15: 0 | I15: #DIV/0! | J15: 0 | L15: 0 | M15: #DIV/0! | N15: 0 | O15: #DIV/0! | P15: #DIV/0! | Q15: #DIV/0!
B16: JAL（日本航空）花巻 | C16: 花巻 | H16: 0 | I16: #DIV/0! | J16: 0 | L16: 0 | M16: #DIV/0! | N16: 0 | O16: #DIV/0! | P16: #DIV/0! | Q16: #DIV/0!
B17: JAL（日本航空）羽田石垣 | C17: 羽田 | D17: - | E17: 石垣 | H17: 0 | I17: #DIV/0! | J17: 0 | L17: 0 | M17: #DIV/0! | N17: 0 | O17: #DIV/0! | P17: #DIV/0! | Q17: #DIV/0!
B18: JAL（日本航空）羽田宮古 | C18: 羽田 | D18: - | E18: 宮古 | H18: 0 | I18: #DIV/0! | J18: 0 | L18: 0 | M18: #DIV/0! | N18: 0 | O18: #DIV/0! | P18: #DIV/0! | Q18: #DIV/0!
B19: JAL（日本航空）羽田久米島 | C19: 羽田 | D19: - | E19: 久米島 | H19: 0 | I19: #DIV/0! | J19: 0 | L19: 0 | M19: #DIV/0! | N19: 0 | O19: #DIV/0! | P19: #DIV/0! | Q19: #DIV/0!
B20: JAL（日本航空）沖永良部 | C20: 沖永良部 | H20: 0 | I20: #DIV/0! | J20: 0 | K20: 0 | L20: 0 | M20: #DIV/0! | N20: 0 | O20: #DIV/0! | P20: #DIV/0! | Q20: #DIV/0!
B21: JTA（日本トランスオーシャン航空） | G21: 80655 | H21: 71509 | I21: 1.1279 | J21: 9146 | K21: 99000 | L21: 99000 | M21: 1 | N21: 0 | O21: 0.81469697 | P21: 0.72231313 | Q21: 0.092383838
B22: JTA（日本トランスオーシャン航空）羽田 | C22: 羽田 | G22: 100 | H22: 0 | I22: #DIV/0! | J22: 100 | K22: 165 | L22: 0 | M22: #DIV/0! | N22: 165 | O22: 0.60606061 | P22: #DIV/0! | Q22: #DIV/0!
B23: JTA（日本トランスオーシャン航空）関西 | C23: 関西 | F23: ◎ | G23: 12446 | H23: 10071 | I23: 1.2358256 | J23: 2375 | K23: 14850 | L23: 14850 | M23: 1 | N23: 0 | O23: 0.83811448 | P23: 0.67818182 | Q23: 0.15993266
B24: JTA（日本トランスオーシャン航空）福岡 | C24: 福岡 | F24: ◎ | G24: 23381 | H24: 20471 | I24: 1.1421523 | J24: 2910 | K24: 29700 | L24: 29700 | M24: 1 | N24: 0 | O24: 0.78723906 | P24: 0.68925926 | Q24: 0.097979798
B25: JTA（日本トランスオーシャン航空）羽田石垣 | C25: 羽田 | D25: - | E25: 石垣 | F25: ◎ | G25: 8929 | H25: 8282 | I25: 1.0781212 | J25: 647 | K25: 9735 | L25: 9900 | M25: 0.98333333 | N25: -165 | O25: 0.91720596 | P25: 0.83656566 | Q25: 0.080640301
B26: JTA（日本トランスオーシャン航空）羽田宮古 | C26: 羽田 | D26: - | E26: 宮古 | F26: ◎ | G26: 4770 | H26: 4438 | I26: 1.0748085 | J26: 332 | K26: 4950 | L26: 4950 | M26: 1 | N26: 0 | O26: 0.96363636 | P26: 0.89656566 | Q26: 0.067070707
B27: JTA（日本トランスオーシャン航空）羽田久米島 | C27: 羽田 | D27: - | E27: 久米島 | F27: ○ | H27: 0 | I27: #DIV/0! | J27: 0 | L27: 0 | M27: #DIV/0! | N27: 0 | O27: #DIV/0! | P27: #DIV/0! | Q27: #DIV/0!
B28: JTA（日本トランスオーシャン航空）関西石垣 | C28: 関西 | D28: - | E28: 石垣 | F28: ◎ | G28: 4104 | H28: 3681 | I28: 1.1149144 | J28: 423 | K28: 4785 | L28: 4950 | M28: 0.96666667 | N28: -165 | O28: 0.85768025 | P28: 0.74363636 | Q28: 0.11404389
B29: JTA（日本トランスオーシャン航空）関西宮古 | C29: 関西 | D29: - | E29: 宮古 | G29: 3984 | H29: 3465 | I29: 1.1497835 | J29: 519 | K29: 4950 | L29: 4950 | M29: 1 | N29: 0 | O29: 0.80484848 | P29: 0.7 | Q29: 0.10484848
B30: JTA（日本トランスオーシャン航空）神戸石垣 | C30: 神戸 | D30: - | E30: 石垣 | H30: 0 | I30: #DIV/0! | J30: 0 | L30: 0 | M30: #DIV/0! | N30: 0 | O30: #DIV/0! | P30: #DIV/0! | Q30: #DIV/0!
B31: JTA（日本トランスオーシャン航空）名古屋石垣 | C31: 名古屋 | D31: - | E31: 石垣 | H31: 0 | I31: #DIV/0! | J31: 0 | L31: 0 | M31: #DIV/0! | N31: 0 | O31: #DIV/0! | P31: #DIV/0! | Q31: #DIV/0!
B32: JTA（日本トランスオーシャン航空）名古屋宮古 | C32: 名古屋 | D32: - | E32: 宮古 | H32: 0 | I32: #DIV/0! | J32: 0 | L32: 0 | M32: #DIV/0! | N32: 0 | O32: #DIV/0! | P32: #DIV/0! | Q32: #DIV/0!
B33: JTA（日本トランスオーシャン航空）仙台 | C33: 仙台 | H33: 0 | I33: #DIV/0! | J33: 0 | L33: 0 | M33: #DIV/0! | N33: 0 | O33: #DIV/0! | P33: #DIV/0! | Q33: #DIV/0!
B34: JTA（日本トランスオーシャン航空）松山 | C34: 松山 | H34: 0 | I34: #DIV/0! | J34: 0 | L34: 0 | M34: #DIV/0! | N34: 0 | O34: #DIV/0! | P34: #DIV/0! | Q34: #DIV/0!
B35: JTA（日本トランスオーシャン航空）高知 | C35: 高知 | H35: 0 | I35: #DIV/0! | J35: 0 | L35: 0 | M35: #DIV/0! | N35: 0 | O35: #DIV/0! | P35: #DIV/0! | Q35: #DIV/0!
B36: JTA（日本トランスオーシャン航空）岡山 | C36: 岡山 | F36: ◎ | G36: 4026 | H36: 4083 | I36: 0.98603968 | J36: -57 | K36: 4785 | L36: 4950 | M36: 0.96666667 | N36: -165 | O36: 0.84137931 | P36: 0.82484848 | Q36: 0.016530825
B37: JTA（日本トランスオーシャン航空）福島 | C37: 福島 | H37: 0 | I37: #DIV/0! | J37: 0 | K37: 0 | L37: 0 | M37: #DIV/0! | N37: 0 | O37: #DIV/0! | P37: #DIV/0! | Q37: #DIV/0!
B38: JTA（日本トランスオーシャン航空）小松 | C38: 小松 | F38: ◎ | G38: 3638 | H38: 3259 | I38: 1.1162933 | J38: 379 | K38: 4950 | L38: 4950 | M38: 1 | N38: 0 | O38: 0.73494949 | P38: 0.65838384 | Q38: 0.076565657
B39: JTA（日本トランスオーシャン航空）北九州 | C39: 北九州 | H39: 0 | I39: #DIV/0! | J39: 0 | L39: 0 | M39: #DIV/0! | N39: 0 | O39: #DIV/0! | P39: #DIV/0! | Q39: #DIV/0!
B40: JTA（日本トランスオーシャン航空）神戸 | C40: 神戸 | H40: 0 | I40: #DIV/0! | J40: 0 | L40: 0 | M40: #DIV/0! | N40: 0 | O40: #DIV/0! | P40: #DIV/0! | Q40: #DIV/0!
B41: JTA（日本トランスオーシャン航空）名古屋 | C41: 名古屋 | F41: ◎ | G41: 15277 | H41: 13759 | I41: 1.1103278 | J41: 1518 | K41: 20130 | L41: 19800 | M41: 1.0166667 | N41: 330 | O41: 0.75891704 | P41: 0.69489899 | Q41: 0.064018049
B42: RAC | G42: 1289 | H42: 1004 | I42: 1.2838645 | J42: 285 | K42: 1650 | L42: 1400 | M42: 1.1785714 | N42: 250 | O42: 0.78121212 | P42: 0.71714286 | Q42: 0.064069264
B43: RAC与論 | C43: 与論 | F43: ◎ | G43: 1289 | H43: 1004 | I43: 1.2838645 | J43: 285 | K43: 1650 | L43: 1400 | M43: 1.1785714 | N43: 250 | O43: 0.78121212 | P43: 0.71714286 | Q43: 0.064069264
B44: RAC奄美 | C44: 奄美 | F44: ◎ | H44: 0 | I44: #DIV/0! | J44: 0 | L44: 0 | M44: #DIV/0! | N44: 0 | O44: #DIV/0! | P44: #DIV/0! | Q44: #DIV/0!
B45: JAC | G45: 2284 | H45: 2203 | I45: 1.036768 | J45: 81 | K45: 2832 | L45: 2880 | M45: 0.98333333 | N45: -48 | O45: 0.80649718 | P45: 0.76493056 | Q45: 0.04156662
B46: JAC沖永良部 | C46: 沖永良部 | F46: ◎ | G46: 947 | H46: 903 | I46: 1.0487265 | J46: 44 | K46: 1392 | L46: 1440 | M46: 0.96666667 | N46: -48 | O46: 0.68031609 | P46: 0.62708333 | Q46: 0.053232759
B47: JAC与論 | C47: 与論 | F47: ◎ | G47: 1337 | H47: 1237 | I47: 1.0808407 | J47: 100 | K47: 1440 | L47: 1296 | M47: 1.1111111 | N47: 144 | O47: 0.92847222 | P47: 0.95447531 | Q47: -0.026003086
B48: JAC奄美 | C48: 奄美 | H48: 63 | I48: 0 | J48: -63 | L48: 144 | M48: 0 | N48: -144 | O48: #DIV/0! | P48: 0.4375 | Q48: #DIV/0!
A49: b | B49: ANA + SNA | G49: 316765 | H49: 310148 | I49: 1.021335 | J49: 6617 | K49: 417151 | L49: 420172 | M49: 0.99281009 | N49: -3021 | O49: 0.75935333 | P49: 0.73814533 | Q49: 0.021207997
B50: ANA（全日空） | G50: 291291 | H50: 286552 | I50: 1.016538 | J50: 4739 | K50: 383368 | L50: 386762 | M50: 0.99122458 | N50: -3394 | O50: 0.75982085 | P50: 0.74090009 | Q50: 0.018920763
B51: ANA（全日空）羽田 | C51: 羽田 | F51: ◎ | G51: 111753 | H51: 112652 | I51: 0.99201967 | J51: -899 | K51: 151999 | L51: 152288 | M51: 0.99810228 | N51: -289 | O51: 0.73522194 | P51: 0.73972999 | Q51: -0.004508043
B52: ANA（全日空）伊丹 | C52: 伊丹 | F52: ◎ | G52: 30539 | H52: 30905 | I52: 0.98815726 | J52: -366 | K52: 35505 | L52: 36016 | M52: 0.98581186 | N52: -511 | O52: 0.86013238 | P52: 0.85809085 | Q52: 0.0020415272
B53: ANA（全日空）関西 | C53: 関西 | F53: ◎ | G53: 12405 | H53: 14800 | I53: 0.83817568 | J53: -2395 | K53: 16116 | L53: 18260 | M53: 0.88258488 | N53: -2144 | O53: 0.76973194 | P53: 0.81051479 | Q53: -0.040782843
B54: ANA（全日空）神戸 | C54: 神戸 | F54: ◎ | G54: 6411 | H54: 5736 | I54: 1.1176778 | J54: 675 | K54: 9520 | L54: 9565 | M54: 0.99529535 | N54: -45 | O54: 0.67342437 | P54: 0.59968636 | Q54: 0.073738013
B55: ANA（全日空）名古屋 | C55: 名古屋 | F55: ◎ | G55: 12918 | H55: 11291 | I55: 1.1440971 | J55: 1627 | K55: 18279 | L55: 13621 | M55: 1.341972 | N55: 4658 | O55: 0.70671262 | P55: 0.82894061 | Q55: -0.12222799
B56: ANA（全日空）福岡 | C56: 福岡 | F56: ◎ | G56: 31184 | H56: 30036 | I56: 1.0382208 | J56: 1148 | K56: 45164 | L56: 52714 | M56: 0.85677429 | N56: -7550 | O56: 0.69046143 | P56: 0.56979171 | Q56: 0.12066972
B57: ANA（全日空）成田 | C57: 成田 | F57: ◎ | H57: 0 | I57: #DIV/0! | J57: 0 | L57: 0 | M57: #DIV/0! | N57: 0 | O57: #DIV/0! | P57: #DIV/0! | Q57: #DIV/0!
B58: ANA（全日空）札幌 | C58: 札幌 | F58: ◎ | H58: 0 | I58: #DIV/0! | J58: 0 | L58: 0 | M58: #DIV/0! | N58: 0 | O58: #DIV/0! | P58: #DIV/0! | Q58: #DIV/0!
B59: ANA（全日空）仙台 | C59: 仙台 | F59: ◎ | G59: 4683 | H59: 4646 | I59: 1.0079638 | J59: 37 | K59: 5820 | L59: 8100 | M59: 0.71851852 | N59: -2280 | O59: 0.80463918 | P59: 0.57358025 | Q59: 0.23105893
B60: ANA（全日空）新潟 | C60: 新潟 | F60: ○ | G60: 0 | H60: 0 | I60: #DIV/0! | J60: 0 | L60: 0 | M60: #DIV/0! | N60: 0 | O60: #DIV/0! | P60: #DIV/0! | Q60: #DIV/0!
B61: ANA（全日空）静岡 | C61: 静岡 | F61: ◎ | G61: 2862 | H61: 0 | I61: #DIV/0! | J61: 2862 | K61: 4979 | L61: 0 | M61: #DIV/0! | N61: 4979 | O61: 0.57481422 | P61: #DIV/0! | Q61: #DIV/0!
B62: ANA（全日空）広島 | C62: 広島 | F62: ◎ | G62: 4851 | H62: 5827 | I62: 0.83250386 | J62: -976 | K62: 5820 | L62: 7236 | M62: 0.80431177 | N62: -1416 | O62: 0.83350515 | P62: 0.80527916 | Q62: 0.028225995
B63: ANA（全日空）岩国 | C63: 岩国 | F63: ○ | G63: 3413 | H63: 3208 | I63: 1.0639027 | J63: 205 | K63: 4980 | L63: 4980 | M63: 1 | N63: 0 | O63: 0.68534137 | P63: 0.64417671 | Q63: 0.041164659
B64: ANA（全日空）高松 | C64: 高松 | F64: ◎ | G64: 4506 | H64: 5543 | I64: 0.81291719 | J64: -1037 | K64: 5606 | L64: 8100 | M64: 0.69209877 | N64: -2494 | O64: 0.80378166 | P64: 0.68432099 | Q64: 0.11946067
B65: ANA（全日空）松山 | C65: 松山 | F65: ◎ | G65: 3507 | H65: 3331 | I65: 1.052837 | J65: 176 | K65: 4980 | L65: 4980 | M65: 1 | N65: 0 | O65: 0.70421687 | P65: 0.6688755 | Q65: 0.035341365
B66: ANA（全日空）北九州 | C66: 北九州 | F66: ○ | H66: 0 | I66: #DIV/0! | J66: 0 | L66: 0 | M66: #DIV/0! | N66: 0 | O66: #DIV/0! | P66: #DIV/0! | Q66: #DIV/0!
B67: ANA（全日空）熊本 | C67: 熊本 | F67: ◎ | G67: 3850 | H67: 3772 | I67: 1.0206787 | J67: 78 | K67: 4980 | L67: 4980 | M67: 1 | N67: 0 | O67: 0.77309237 | P67: 0.75742972 | Q67: 0.015662651
B68: ANA（全日空）長崎 | C68: 長崎 | F68: ◎ | H68: 0 | I68: #DIV/0! | J68: 0 | L68: 0 | M68: #DIV/0! | N68: 0 | O68: #DIV/0! | P68: #DIV/0! | Q68: #DIV/0!
B69: ANA（全日空）宮崎 | C69: 宮崎 | F69: ◎ | G69: 1991 | H69: 1900 | I69: 1.0478947 | J69: 91 | K69: 3150 | L69: 3141 | M69: 1.0028653 | N69: 9 | O69: 0.63206349 | P69: 0.6049029 | Q69: 0.027160595
B70: ANA（全日空）鹿児島 | C70: 鹿児島 | F70: ◎ | G70: 4296 | H70: 3974 | I70: 1.0810267 | J70: 322 | K70: 6301 | L70: 6296 | M70: 1.0007942 | N70: 5 | O70: 0.68179654 | P70: 0.63119441 | Q70: 0.050602131
B71: ANA（全日空）羽田石垣 | C71: 羽田 | D71: - | E71: 石垣 | F71: ◎ | G71: 17805 | H71: 16712 | I71: 1.0654021 | J71: 1093 | K71: 20448 | L71: 19057 | M71: 1.0729916 | N71: 1391 | O71: 0.87074531 | P71: 0.8769481 | Q71: -0.0062027979
B72: ANA（全日空）羽田宮古 | C72: 羽田 | D72: - | E72: 宮古 | F72: ◎ | G72: 15800 | H72: 16224 | I72: 0.97386588 | J72: -424 | K72: 18149 | L72: 18080 | M72: 1.0038164 | N72: 69 | O72: 0.87057138 | P72: 0.89734513 | Q72: -0.026773751
B73: ANA（全日空）関西石垣 | C73: 関西 | D73: - | E73: 石垣 | F73: ◎ | G73: 4783 | H73: 3884 | I73: 1.2314624 | J73: 899 | K73: 5820 | L73: 4380 | M73: 1.3287671 | N73: 1440 | O73: 0.82182131 | P73: 0.88675799 | Q73: -0.064936685
B74: ANA（全日空）関西宮古 | C74: 関西 | D74: - | E74: 宮古 | F74: ◎ | G74: 5031 | H74: 4245 | I74: 1.185159 | J74: 786 | K74: 5792 | L74: 5008 | M74: 1.1565495 | N74: 784 | O74: 0.86861188 | P74: 0.84764377 | Q74: 0.020968108
B75: ANA（全日空）伊丹石垣 | C75: 伊丹 | D75: - | E75: 石垣 | F75: ○ | H75: 0 | I75: #DIV/0! | J75: 0 | L75: 0 | M75: #DIV/0! | N75: 0 | O75: #DIV/0! | P75: #DIV/0! | Q75: #DIV/0!
B76: ANA（全日空）伊丹宮古 | C76: 伊丹 | D76: - | E76: 宮古 | F76: ○ | H76: 0 | I76: #DIV/0! | J76: 0 | L76: 0 | M76: #DIV/0! | N76: 0 | O76: #DIV/0! | P76: #DIV/0! | Q76: #DIV/0!
B77: ANA（全日空）名古屋石垣 | C77: 名古屋 | D77: - | E77: 石垣 | F77: ◎ | G77: 4354 | H77: 4058 | I77: 1.0729423 | J77: 296 | K77: 4980 | L77: 4980 | M77: 1 | N77: 0 | O77: 0.87429719 | P77: 0.81485944 | Q77: 0.059437751
B78: ANA（全日空）名古屋宮古 | C78: 名古屋 | D78: - | E78: 宮古 | F78: ◎ | G78: 4349 | H78: 3808 | I78: 1.1420693 | J78: 541 | K78: 4980 | L78: 4980 | M78: 1 | N78: 0 | O78: 0.87329317 | P78: 0.76465863 | Q78: 0.10863454
B79: ANA（全日空）福岡石垣 | C79: 福岡 | D79: - | E79: 石垣 | F79: ◎ | H79: 0 | I79: #DIV/0! | J79: 0 | L79: 0 | M79: #DIV/0! | N79: 0 | O79: #DIV/0! | P79: #DIV/0! | Q79: #DIV/0!
B80: ANA（全日空）福岡宮古 | C80: 福岡 | D80: - | E80: 宮古 | F80: ○ | H80: 0 | I80: #DIV/0! | J80: 0 | L80: 0 | M80: #DIV/0! | N80: 0 | O80: #DIV/0! | P80: #DIV/0! | Q80: #DIV/0!
B81: ANA（全日空）沖永良部那覇 | C81: 沖永良部 | D81: - | E81: 那覇 | G81: - | H81: 0 | I81: - | J81: - | K81: - | L81: 0 | M81: - | N81: - | O81: - | P81: - | Q81: -
B82: ANA（全日空）奄美那覇 | C82: 奄美 | D82: - | E82: 那覇 | G82: - | H82: 0 | I82: - | J82: - | K82: - | L82: 0 | M82: - | N82: - | O82: - | P82: - | Q82: -
B83: SNA（ソラシドエア） | G83: 25474 | H83: 23596 | I83: 1.0795898 | J83: 1878 | K83: 33783 | L83: 33410 | M83: 1.0111643 | N83: 373 | O83: 0.75404789 | P83: 0.70625561 | Q83: 0.047792282
B84: SNA（ソラシドエア）羽田 | C84: 羽田 | G84: 11303 | H84: 10809 | I84: 1.0457027 | J84: 494 | K84: 15134 | L84: 14058 | M84: 1.07654 | N84: 1076 | O84: 0.74686137 | P84: 0.76888604 | Q84: -0.022024672
B85: SNA（ソラシドエア）宮崎 | C85: 宮崎 | G85: 1455 | H85: 1417 | I85: 1.0268172 | J85: 38 | K85: 2078 | L85: 2085 | M85: 0.99664269 | N85: -7 | O85: 0.70019249 | P85: 0.67961631 | Q85: 0.020576186
B86: SNA（ソラシドエア）鹿児島 | C86: 鹿児島 | G86: 3048 | H86: 2830 | I86: 1.0770318 | J86: 218 | K86: 4149 | L86: 4154 | M86: 0.99879634 | N86: -5 | O86: 0.73463485 | P86: 0.68127106 | Q86: 0.053363788
B87: SNA（ソラシドエア）神戸 | C87: 神戸 | G87: 5165 | H87: 5126 | I87: 1.0076083 | J87: 39 | K87: 6160 | L87: 6809 | M87: 0.90468498 | N87: -649 | O87: 0.83847403 | P87: 0.75282714 | Q87: 0.085646885
B88: SNA（ソラシドエア）名古屋 | C88: 名古屋 | G88: 1235 | H88: 1285 | I88: 0.96108949 | J88: -50 | K88: 1546 | L88: 1591 | M88: 0.9717159 | N88: -45 | O88: 0.79883571 | P88: 0.80766813 | Q88: -0.0088324282
B89: SNA（ソラシドエア）福岡 | C89: 福岡 | G89: 3268 | H89: 2129 | I89: 1.534993 | J89: 1139 | K89: 4716 | L89: 4713 | M89: 1.0006365 | N89: 3 | O89: 0.69296014 | P89: 0.45172926 | Q89: 0.24123088
B90: SNA（ソラシドエア）熊本 | C90: 熊本 | G90: 0 | H90: 0 | I90: #DIV/0! | J90: 0 | K90: 0 | L90: 0 | M90: #DIV/0! | N90: 0 | O90: #DIV/0! | P90: #DIV/0! | Q90: #DIV/0!
B91: SNA（ソラシドエア）長崎 | C91: 長崎 | G91: 0 | H91: 0 | I91: #DIV/0! | J91: 0 | K91: 0 | L91: 0 | M91: #DIV/0! | N91: 0 | O91: #DIV/0! | P91: #DIV/0! | Q91: #DIV/0!
A92: ｃ | B92: SKY | G92: 76073 | H92: 84126 | I92: 0.90427454 | J92: -8053 | K92: 97881 | L92: 100713 | M92: 0.97188049 | N92: -2832 | O92: 0.77719884 | P92: 0.83530428 | Q92: -0.058105437
B93: SKY羽田 | C93: 羽田 | F93: ◎ | G93: 25403 | H93: 27953 | I93: 0.90877544 | J93: -2550 | K93: 32214 | L93: 31860 | M93: 1.0111111 | N93: 354 | O93: 0.78857019 | P93: 0.87736974 | Q93: -0.088799556
B94: SKY成田 | C94: 成田 | H94: 0 | I94: #DIV/0! | J94: 0 | K94: 0 | L94: 0 | M94: #DIV/0! | N94: 0 | O94: #DIV/0! | P94: #DIV/0! | Q94: #DIV/0!
B95: SKY福岡 | C95: 福岡 | F95: ◎ | G95: 11528 | H95: 11595 | I95: 0.99422165 | J95: -67 | K95: 15930 | L95: 15930 | M95: 1 | N95: 0 | O95: 0.72366604 | P95: 0.72787194 | Q95: -0.0042059008
B96: SKY関西 | C96: 関西 | H96: 0 | I96: #DIV/0! | J96: 0 | L96: 0 | M96: #DIV/0! | N96: 0 | O96: #DIV/0! | P96: #DIV/0! | Q96: #DIV/0!
B97: SKY神戸 | C97: 神戸 | F97: ◎ | G97: 16953 | H97: 17833 | I97: 0.95065328 | J97: -880 | K97: 21240 | L97: 21240 | M97: 1 | N97: 0 | O97: 0.79816384 | P97: 0.8395951 | Q97: -0.041431262
B98: SKY茨城 | C98: 茨城 | F98: ○ | G98: 3581 | H98: 3967 | I98: 0.90269725 | J98: -386 | K98: 5133 | L98: 5310 | M98: 0.96666667 | N98: -177 | O98: 0.6976427 | P98: 0.74708098 | Q98: -0.049438275
B99: SKY北九州 | C99: 北九州 | H99: 0 | I99: #DIV/0! | J99: 0 | L99: 0 | M99: #DIV/0! | N99: 0 | O99: #DIV/0! | P99: #DIV/0! | Q99: #DIV/0!
B100: SKY名古屋 | C100: 名古屋 | F100: ◎ | G100: 8057 | H100: 13419 | I100: 0.60041732 | J100: -5362 | K100: 10797 | L100: 15753 | M100: 0.68539326 | N100: -4956 | O100: 0.7462258 | P100: 0.85183775 | Q100: -0.10561194
...

Sheet ６月月間
A1: ='R７'!A1 -> 令和７年度 | G1: 【月間】航空旅客輸送実績
A2: R7 | B2: （2025）年 | C2: 6
C3: 輸送実績人数 | G3: 提供座席数 | K3: 利用率
C4: 25'6月間 | D4: 24'6月間 | E4: 対前年同月比較 | G4: 25'6月間 | H4: 24'6月間 | I4: 対前年同月比較 | K4: 25'6月間 | L4: 24'6月間 | M4: 対前年 増減
E5: 比率 | F5: 増減数 | I5: 比率 | J5: 増減数
A6: 合 計 | C6: 606324 | D6: 587005 | E6: 1.0329111 | F6: 19319 | G6: 770277 | H6: 773085 | I6: 0.9963678 | J6: -2808 | K6: 0.7871506 | L6: 0.75930202 | M6: 0.027848579
A7: ①＋②＋③＋④＋⑤
A8: ①東京方面（羽田、成田） | C8: 308307 | D8: 301474 | E8: 1.0226653 | F8: 6833 | G8: 386407 | H8: 380963 | I8: 1.0142901 | J8: 5444 | K8: 0.79788151 | L8: 0.79134719 | M8: 0.0065343172
B9: JAL | C9: 107890 | D9: 99753 | E9: 1.0815715 | F9: 8137 | G9: 128303 | H9: 125460 | I9: 1.0226606 | J9: 2843 | K9: 0.84090006 | L9: 0.79509804 | M9: 0.045802018
B10: JTA | C10: 13799 | D10: 12720 | E10: 1.084827 | F10: 1079 | G10: 14850 | H10: 14850 | I10: 1 | J10: 0 | K10: 0.92922559 | L10: 0.85656566 | M10: 0.072659933
B11: ANA | C11: 145358 | D11: 145588 | E11: 0.9984202 | F11: -230 | G11: 190596 | H11: 189425 | I11: 1.0061819 | J11: 1171 | K11: 0.76264979 | L11: 0.76857859 | M11: -0.0059287998
B12: SNA | C12: 11303 | D12: 10809 | E12: 1.0457027 | F12: 494 | G12: 15134 | H12: 14058 | I12: 1.07654 | J12: 1076 | K12: 0.74686137 | L12: 0.76888604 | M12: -0.022024672
B13: SKY | C13: 29957 | D13: 32604 | E13: 0.91881364 | F13: -2647 | G13: 37524 | H13: 37170 | I13: 1.0095238 | J13: 354 | K13: 0.79834239 | L13: 0.877159 | M13: -0.078816605
A14: ②関西方面（関西、伊丹、神戸） | C14: 127475 | D14: 122716 | E14: 1.0387806 | F14: 4759 | G14: 153508 | H14: 154798 | I14: 0.99166656 | J14: -1290 | K14: 0.83041275 | L14: 0.79274926 | M14: 0.037663487
B15: JAL | C15: 21368 | D15: 18262 | E15: 1.1700799 | F15: 3106 | G15: 23460 | H15: 23460 | I15: 1 | J15: 0 | K15: 0.91082694 | L15: 0.77843137 | M15: 0.13239557
B16: JTA | C16: 20534 | D16: 17217 | E16: 1.1926584 | F16: 3317 | G16: 24585 | H16: 24750 | I16: 0.99333333 | J16: -165 | K16: 0.83522473 | L16: 0.69563636 | M16: 0.13958837
B17: ANA | C17: 59169 | D17: 59570 | E17: 0.99326842 | F17: -401 | G17: 72753 | H17: 73229 | I17: 0.99349984 | J17: -476 | K17: 0.81328605 | L17: 0.81347554 | M17: -0.00018948559
B18: SNA | C18: 5165 | D18: 5126 | E18: 1.0076083 | F18: 39 | G18: 6160 | H18: 6809 | I18: 0.90468498 | J18: -649 | K18: 0.83847403 | L18: 0.75282714 | M18: 0.085646885
B19: SKY | C19: 21239 | D19: 22541 | E19: 0.94223859 | F19: -1302 | G19: 26550 | H19: 26550 | I19: 1 | J19: 0 | K19: 0.79996234 | L19: 0.84900188 | M19: -0.049039548
A20: ③福岡方面（福岡、北九州） | C20: 71072 | D20: 64231 | E20: 1.1065062 | F20: 6841 | G20: 97457 | H20: 103057 | I20: 0.94566114 | J20: -5600 | K20: 0.72926521 | L20: 0.62325703 | M20: 0.10600818
B21: JAL | C21: 0 | D21: 0 | E21: #DIV/0! | F21: 0 | G21: 0 | H21: 0 | I21: #DIV/0! | J21: 0 | K21: - | L21: - | M21: #VALUE!
B22: JTA | C22: 23381 | D22: 20471 | E22: 1.1421523 | F22: 2910 | G22: 29700 | H22: 29700 | I22: 1 | J22: 0 | K22: 0.78723906 | L22: 0.68925926 | M22: 0.097979798
B23: ANA | C23: 31184 | D23: 30036 | E23: 1.0382208 | F23: 1148 | G23: 45164 | H23: 52714 | I23: 0.85677429 | J23: -7550 | K23: 0.69046143 | L23: 0.56979171 | M23: 0.12066972
B24: SNA | C24: 3268 | D24: 2129 | E24: 1.534993 | F24: 1139 | G24: 4716 | H24: 4713 | I24: 1.0006365 | J24: 3 | K24: 0.69296014 | L24: 0.45172926 | M24: 0.24123088
B25: SKY | C25: 13239 | D25: 11595 | E25: 1.1417853 | F25: 1644 | G25: 17877 | H25: 15930 | I25: 1.1222222 | J25: 1947 | K25: 0.7405605 | L25: 0.72787194 | M25: 0.012688557
B26: SFJ | C26: 0 | D26: 0 | E26: #DIV/0! | F26: 0 | G26: 0 | H26: 0 | I26: #DIV/0! | J26: 0 | K26: - | L26: － | M26: #VALUE!
A27: ④名古屋方面 | C27: 46190 | D27: 47620 | E27: 0.9699706 | F27: -1430 | G27: 60712 | H27: 60725 | I27: 0.99978592 | J27: -13 | K27: 0.76080511 | L27: 0.78419103 | M27: -0.023385912
B28: JAL | C28: 0 | D28: 0 | E28: #DIV/0! | F28: 0 | G28: 0 | H28: 0 | I28: #DIV/0! | J28: 0 | K28: - | L28: - | M28: #VALUE!
B29: JTA | C29: 15277 | D29: 13759 | E29: 1.1103278 | F29: 1518 | G29: 20130 | H29: 19800 | I29: 1.0166667 | J29: 330 | K29: 0.75891704 | L29: 0.69489899 | M29: 0.064018049
B30: ANA | C30: 21621 | D30: 19157 | E30: 1.1286214 | F30: 2464 | G30: 28239 | H30: 23581 | I30: 1.1975319 | J30: 4658 | K30: 0.76564326 | L30: 0.81239133 | M30: -0.046748073
B31: SKY | C31: 8057 | D31: 13419 | E31: 0.60041732 | F31: -5362 | G31: 10797 | H31: 15753 | I31: 0.68539326 | J31: -4956 | K31: 0.7462258 | L31: 0.85183775 | M31: -0.10561194
B32: SNA | C32: 1235 | D32: 1285 | E32: 0.96108949 | F32: -50 | G32: 1546 | H32: 1591 | I32: 0.9717159 | J32: -45 | K32: 0.79883571 | L32: 0.80766813 | M32: -0.0088324282
A33: ⑤その他方面 | C33: 53280 | D33: 50964 | E33: 1.0454438 | F33: 2316 | G33: 72193 | H33: 73542 | I33: 0.98165674 | J33: -1349 | K33: 0.73802169 | L33: 0.69299176 | M33: 0.045029932
B34: JAL | C34: 0 | D34: 0 | E34: #DIV/0! | F34: 0 | G34: 0 | H34: 0 | I34: #DIV/0! | J34: 0 | K34: - | L34: - | M34: #VALUE!
B35: JTA | C35: 7664 | D35: 7342 | E35: 1.0438573 | F35: 322 | G35: 9735 | H35: 9900 | I35: 0.98333333 | J35: -165 | K35: 0.78726246 | L35: 0.74161616 | M35: 0.045646293
B36: RAC | C36: 1289 | D36: 1004 | E36: 1.2838645 | F36: 285 | G36: 1650 | H36: 1400 | I36: 1.1785714 | J36: 250 | K36: 0.78121212 | L36: 0.71714286 | M36: 0.064069264
B37: JAC | C37: 2284 | D37: 2203 | E37: 1.036768 | F37: 81 | G37: 2832 | H37: 2880 | I37: 0.98333333 | J37: -48 | K37: 0.80649718 | L37: 0.76493056 | M37: 0.04156662
B38: ANA | C38: 33959 | D38: 32201 | E38: 1.0545946 | F38: 1758 | G38: 46616 | H38: 47813 | I38: 0.97496497 | J38: -1197 | K38: 0.72848378 | L38: 0.67347792 | M38: 0.055005858
B39: SNA | C39: 4503 | D39: 4247 | E39: 1.0602778 | F39: 256 | G39: 6227 | H39: 6239 | I39: 0.99807661 | J39: -12 | K39: 0.72314116 | L39: 0.68071806 | M39: 0.042423096
B40: SKY | C40: 3581 | D40: 3967 | E40: 0.90269725 | F40: -386 | G40: 5133 | H40: 5310 | I40: 0.96666667 | J40: -177 | K40: 0.6976427 | L40: 0.74708098 | M40: -0.049438275
B41: 第一航空 | C41: 0 | D41: 0 | E41: #DIV/0! | F41: 0 | G41: 0 | H41: 0 | I41: #DIV/0! | J41: 0 | K41: - | L41: - | M41: #VALUE!

Sheet ７月（月間）
A1: ='R７'!A1 -> 令和７年度 | J1: =RIGHT(CELL("filename",$A$1),LEN(CELL("filename",$A$1))-FIND("]",CELL("filename",$A$1))) -> ７月（月間） | K1: 航空旅客輸送実績
A2: 7 | C2: 2025 | D2: 年 | E2: 7 | F2: 月 | G2: 輸送実績（旅客実績） | K2: 提供座席 | O2: 利用率
A3: キャリア・路線 | G3: 25'7/1-7/31 | H3: 24'7/1-7/31 (前年同月) | I3: 対前年同月比 | K3: 25'7/1-7/31 | L3: 24'7/1-7/31 (前年同月) | M3: 対前年同月比 | O3: 25'7/1-7/31 | P3: 24'7/1-7/31 (前年同月) | Q3: 増減数
I4: 比率 | J4: 増減数 | M4: 比率 | N4: 増減数
A5: 合計 a+b+c+d+e | G5: 726817 | H5: 706459 | I5: 1.028817 | J5: 20358 | K5: 849460 | L5: 853872 | M5: 0.99483295 | N5: -4412 | O5: 0.8556224 | P5: 0.82735937 | Q5: 0.028263025
A6: a | B6: JAL + JTA + RAC+JAC | G6: 249137 | H6: 240764 | I6: 1.0347768 | J6: 8373 | K6: 281989 | L6: 287922 | M6: 0.97939372 | N6: -5933 | O6: 0.883499 | P6: 0.83621259 | Q6: 0.047286416
B7: JAL（日本航空） | G7: 168179 | H7: 163573 | I7: 1.0281587 | J7: 4606 | K7: 184104 | L7: 188676 | M7: 0.97576798 | N7: -4572 | O7: 0.91349998 | P7: 0.86695181 | Q7: 0.046548167
B8: JAL（日本航空）羽田 | C8: 羽田 | F8: ◎ | G8: 119898 | H8: 120384 | I8: 0.99596292 | J8: -486 | K8: 131714 | L8: 135121 | M8: 0.97478556 | N8: -3407 | O8: 0.91029048 | P8: 0.89093479 | Q8: 0.019355686
B9: JAL（日本航空）伊丹 | C9: 伊丹 | F9: ◎ | G9: 24270 | H9: 22606 | I9: 1.0736088 | J9: 1664 | K9: 26530 | L9: 27542 | M9: 0.96325612 | N9: -1012 | O9: 0.91481342 | P9: 0.8207828 | Q9: 0.094030614
B10: JAL（日本航空）関西 | C10: 関西 | G10: 0 | H10: 0 | I10: #DIV/0! | J10: 0 | K10: 0 | L10: 0 | M10: #DIV/0! | N10: 0 | O10: #DIV/0! | P10: #DIV/0! | Q10: #DIV/0!
B11: JAL（日本航空）福岡 | C11: 福岡 | G11: 0 | H11: 0 | I11: #DIV/0! | J11: 0 | K11: 0 | L11: 0 | M11: #DIV/0! | N11: 0 | O11: #DIV/0! | P11: #DIV/0! | Q11: #DIV/0!
B12: JAL（日本航空）名古屋 | C12: 名古屋 | G12: 0 | H12: 0 | I12: #DIV/0! | J12: 0 | K12: 0 | L12: 0 | M12: #DIV/0! | N12: 0 | O12: #DIV/0! | P12: #DIV/0! | Q12: #DIV/0!
B13: JAL（日本航空）成田 | C13: 成田 | G13: 0 | H13: 0 | I13: #DIV/0! | J13: 0 | K13: 0 | L13: 0 | M13: #DIV/0! | N13: 0 | O13: #DIV/0! | P13: #DIV/0! | Q13: #DIV/0!
B14: JAL（日本航空）仙台 | C14: 仙台 | G14: 0 | H14: 0 | I14: #DIV/0! | J14: 0 | K14: 0 | L14: 0 | M14: #DIV/0! | N14: 0 | O14: #DIV/0! | P14: #DIV/0! | Q14: #DIV/0!
B15: JAL（日本航空）神戸 | C15: 神戸 | G15: 0 | H15: 0 | I15: #DIV/0! | J15: 0 | K15: 0 | L15: 0 | M15: #DIV/0! | N15: 0 | O15: #DIV/0! | P15: #DIV/0! | Q15: #DIV/0!
B16: JAL（日本航空）花巻 | C16: 花巻 | G16: 0 | H16: 0 | I16: #DIV/0! | J16: 0 | K16: 0 | L16: 0 | M16: #DIV/0! | N16: 0 | O16: #DIV/0! | P16: #DIV/0! | Q16: #DIV/0!
B17: JAL（日本航空）羽田石垣 | C17: 羽田 | D17: - | E17: 石垣 | G17: 14601 | H17: 11683 | I17: 1.2497646 | J17: 2918 | K17: 15624 | L17: 15120 | M17: 1.0333333 | N17: 504 | O17: 0.93452381 | P17: 0.77268519 | Q17: 0.16183862
B18: JAL（日本航空）羽田宮古 | C18: 羽田 | D18: - | E18: 宮古 | G18: 7803 | H18: 6776 | I18: 1.1515643 | J18: 1027 | K18: 8091 | L18: 7758 | M18: 1.0429234 | N18: 333 | O18: 0.96440489 | P18: 0.87342098 | Q18: 0.09098391
B19: JAL（日本航空）羽田久米島 | C19: 羽田 | D19: - | E19: 久米島 | G19: 1607 | H19: 2124 | I19: 0.75659134 | J19: -517 | K19: 2145 | L19: 3135 | M19: 0.68421053 | N19: -990 | O19: 0.74918415 | P19: 0.67751196 | Q19: 0.071672187
B20: JAL（日本航空）沖永良部 | C20: 沖永良部 | G20: 0 | H20: 0 | I20: #DIV/0! | J20: 0 | K20: 0 | L20: 0 | M20: #DIV/0! | N20: 0 | O20: #DIV/0! | P20: #DIV/0! | Q20: #DIV/0!
B21: JTA（日本トランスオーシャン航空） | G21: 76593 | H21: 72319 | I21: 1.0590993 | J21: 4274 | K21: 92895 | L21: 93720 | M21: 0.99119718 | N21: -825 | O21: 0.82451155 | P21: 0.77164959 | Q21: 0.052861951
B22: JTA（日本トランスオーシャン航空）羽田 | C22: 羽田 | G22: 173 | H22: 165 | I22: 1.0484848 | J22: 8 | K22: 330 | L22: 165 | M22: 2 | N22: 165 | O22: 0.52424242 | P22: 1 | Q22: -0.47575758
B23: JTA（日本トランスオーシャン航空）関西 | C23: 関西 | F23: ◎ | G23: 13107 | H23: 10742 | I23: 1.2201638 | J23: 2365 | K23: 16170 | L23: 15345 | M23: 1.0537634 | N23: 825 | O23: 0.81057514 | P23: 0.70003258 | Q23: 0.11054256
B24: JTA（日本トランスオーシャン航空）福岡 | C24: 福岡 | F24: ◎ | G24: 25307 | H24: 23580 | I24: 1.07324 | J24: 1727 | K24: 30690 | L24: 30525 | M24: 1.0054054 | N24: 165 | O24: 0.82460085 | P24: 0.77248157 | Q24: 0.052119275
B25: JTA（日本トランスオーシャン航空）羽田石垣 | C25: 羽田 | D25: - | E25: 石垣 | F25: ◎ | G25: 0 | H25: 0 | I25: #DIV/0! | J25: 0 | K25: 0 | L25: 0 | M25: #DIV/0! | N25: 0 | O25: #DIV/0! | P25: #DIV/0! | Q25: #DIV/0!
B26: JTA（日本トランスオーシャン航空）羽田宮古 | C26: 羽田 | D26: - | E26: 宮古 | F26: ◎ | G26: 0 | H26: 0 | I26: #DIV/0! | J26: 0 | K26: 0 | L26: 0 | M26: #DIV/0! | N26: 0 | O26: #DIV/0! | P26: #DIV/0! | Q26: #DIV/0!
B27: JTA（日本トランスオーシャン航空）羽田久米島 | C27: 羽田 | D27: - | E27: 久米島 | F27: ○ | G27: 0 | H27: 0 | I27: #DIV/0! | J27: 0 | K27: 0 | L27: 0 | M27: #DIV/0! | N27: 0 | O27: #DIV/0! | P27: #DIV/0! | Q27: #DIV/0!
B28: JTA（日本トランスオーシャン航空）関西石垣 | C28: 関西 | D28: - | E28: 石垣 | F28: ◎ | G28: 4516 | H28: 4276 | I28: 1.0561272 | J28: 240 | K28: 5115 | L28: 4950 | M28: 1.0333333 | N28: 165 | O28: 0.88289345 | P28: 0.86383838 | Q28: 0.019055067
B29: JTA（日本トランスオーシャン航空）関西宮古 | C29: 関西 | D29: - | E29: 宮古 | G29: 4614 | H29: 4365 | I29: 1.0570447 | J29: 249 | K29: 5115 | L29: 4950 | M29: 1.0333333 | N29: 165 | O29: 0.90205279 | P29: 0.88181818 | Q29: 0.020234604
B30: JTA（日本トランスオーシャン航空）神戸石垣 | C30: 神戸 | D30: - | E30: 石垣 | G30: 0 | H30: 0 | I30: #DIV/0! | J30: 0 | K30: 0 | L30: 0 | M30: #DIV/0! | N30: 0 | O30: #DIV/0! | P30: #DIV/0! | Q30: #DIV/0!
B31: JTA（日本トランスオーシャン航空）名古屋石垣 | C31: 名古屋 | D31: - | E31: 石垣 | G31: 0 | H31: 1764 | I31: 0 | J31: -1764 | K31: 0 | L31: 3135 | M31: 0 | N31: -3135 | O31: #DIV/0! | P31: 0.56267943 | Q31: #DIV/0!
B32: JTA（日本トランスオーシャン航空）名古屋宮古 | C32: 名古屋 | D32: - | E32: 宮古 | G32: 0 | H32: 2626 | I32: 0 | J32: -2626 | K32: 0 | L32: 3135 | M32: 0 | N32: -3135 | O32: #DIV/0! | P32: 0.83763955 | Q32: #DIV/0!
B33: JTA（日本トランスオーシャン航空）仙台 | C33: 仙台 | G33: 0 | H33: 0 | I33: #DIV/0! | J33: 0 | K33: 0 | L33: 0 | M33: #DIV/0! | N33: 0 | O33: #DIV/0! | P33: #DIV/0! | Q33: #DIV/0!
B34: JTA（日本トランスオーシャン航空）松山 | C34: 松山 | G34: 0 | H34: 0 | I34: #DIV/0! | J34: 0 | K34: 0 | L34: 0 | M34: #DIV/0! | N34: 0 | O34: #DIV/0! | P34: #DIV/0! | Q34: #DIV/0!
B35: JTA（日本トランスオーシャン航空）高知 | C35: 高知 | G35: 0 | H35: 0 | I35: #DIV/0! | J35: 0 | K35: 0 | L35: 0 | M35: #DIV/0! | N35: 0 | O35: #DIV/0! | P35: #DIV/0! | Q35: #DIV/0!
B36: JTA（日本トランスオーシャン航空）岡山 | C36: 岡山 | F36: ◎ | G36: 4465 | H36: 4382 | I36: 1.0189411 | J36: 83 | K36: 5115 | L36: 5115 | M36: 1 | N36: 0 | O36: 0.87292278 | P36: 0.85669599 | Q36: 0.016226784
B37: JTA（日本トランスオーシャン航空）福島 | C37: 福島 | G37: 0 | H37: 0 | I37: #DIV/0! | J37: 0 | K37: 0 | L37: 0 | M37: #DIV/0! | N37: 0 | O37: #DIV/0! | P37: #DIV/0! | Q37: #DIV/0!
B38: JTA（日本トランスオーシャン航空）小松 | C38: 小松 | F38: ◎ | G38: 3908 | H38: 3655 | I38: 1.0692202 | J38: 253 | K38: 5115 | L38: 5115 | M38: 1 | N38: 0 | O38: 0.76402737 | P38: 0.714565 | Q38: 0.049462366
B39: JTA（日本トランスオーシャン航空）北九州 | C39: 北九州 | G39: 0 | H39: 0 | I39: #DIV/0! | J39: 0 | K39: 0 | L39: 0 | M39: #DIV/0! | N39: 0 | O39: #DIV/0! | P39: #DIV/0! | Q39: #DIV/0!
B40: JTA（日本トランスオーシャン航空）神戸 | C40: 神戸 | G40: 0 | H40: 0 | I40: #DIV/0! | J40: 0 | K40: 0 | L40: 0 | M40: #DIV/0! | N40: 0 | O40: #DIV/0! | P40: #DIV/0! | Q40: #DIV/0!
B41: JTA（日本トランスオーシャン航空）名古屋 | C41: 名古屋 | F41: ◎ | G41: 20503 | H41: 16764 | I41: 1.2230375 | J41: 3739 | K41: 25245 | L41: 21285 | M41: 1.1860465 | N41: 3960 | O41: 0.81216082 | P41: 0.7875969 | Q41: 0.024563925
B42: RAC | G42: 2072 | H42: 2204 | I42: 0.94010889 | J42: -132 | K42: 2350 | L42: 2550 | M42: 0.92156863 | N42: -200 | O42: 0.88170213 | P42: 0.86431373 | Q42: 0.017388402
B43: RAC与論 | C43: 与論 | F43: ◎ | G43: 2072 | H43: 2204 | I43: 0.94010889 | J43: -132 | K43: 2350 | L43: 2550 | M43: 0.92156863 | N43: -200 | O43: 0.88170213 | P43: 0.86431373 | Q43: 0.017388402
B44: RAC奄美 | C44: 奄美 | F44: ◎ | G44: 0 | H44: 0 | I44: #DIV/0! | J44: 0 | K44: 0 | L44: 0 | M44: #DIV/0! | N44: 0 | O44: #DIV/0! | P44: #DIV/0! | Q44: #DIV/0!
B45: JAC | G45: 2293 | H45: 2668 | I45: 0.85944528 | J45: -375 | K45: 2640 | L45: 2976 | M45: 0.88709677 | N45: -336 | O45: 0.86856061 | P45: 0.89650538 | Q45: -0.02794477
B46: JAC沖永良部 | C46: 沖永良部 | F46: ◎ | G46: 1064 | H46: 1233 | I46: 0.86293593 | J46: -169 | K46: 1344 | L46: 1488 | M46: 0.90322581 | N46: -144 | O46: 0.79166667 | P46: 0.82862903 | Q46: -0.036962366
B47: JAC与論 | C47: 与論 | F47: ◎ | G47: 1229 | H47: 1435 | I47: 0.85644599 | J47: -206 | K47: 1296 | L47: 1488 | M47: 0.87096774 | N47: -192 | O47: 0.94830247 | P47: 0.96438172 | Q47: -0.016079251
B48: JAC奄美 | C48: 奄美 | G48: 0 | H48: 0 | I48: #DIV/0! | J48: 0 | K48: 0 | L48: 0 | M48: #DIV/0! | N48: 0 | O48: #DIV/0! | P48: #DIV/0! | Q48: #DIV/0!
A49: b | B49: ANA + SNA | G49: 394450 | H49: 375049 | I49: 1.0517292 | J49: 19401 | K49: 462333 | L49: 461166 | M49: 1.0025305 | N49: 1167 | O49: 0.85317293 | P49: 0.81326247 | Q49: 0.03991046
B50: ANA（全日空） | G50: 366019 | H50: 351260 | I50: 1.0420173 | J50: 14759 | K50: 427448 | L50: 431164 | M50: 0.99138147 | N50: -3716 | O50: 0.85628895 | P50: 0.81467841 | Q50: 0.041610547
B51: ANA（全日空）羽田 | C51: 羽田 | F51: ◎ | G51: 152884 | H51: 147592 | I51: 1.0358556 | J51: 5292 | K51: 172377 | L51: 170388 | M51: 1.0116734 | N51: 1989 | O51: 0.88691647 | P51: 0.86621124 | Q51: 0.020705232
B52: ANA（全日空）伊丹 | C52: 伊丹 | F52: ◎ | G52: 35373 | H52: 33180 | I52: 1.066094 | J52: 2193 | K52: 38886 | L52: 39461 | M52: 0.98542865 | N52: -575 | O52: 0.909659 | P52: 0.84083019 | Q52: 0.068828816
B53: ANA（全日空）関西 | C53: 関西 | F53: ◎ | G53: 13350 | H53: 15972 | I53: 0.83583772 | J53: -2622 | K53: 16786 | L53: 20584 | M53: 0.81548776 | N53: -3798 | O53: 0.79530561 | P53: 0.77594248 | Q53: 0.019363132
B54: ANA（全日空）神戸 | C54: 神戸 | F54: ◎ | G54: 7428 | H54: 7250 | I54: 1.0245517 | J54: 178 | K54: 9660 | L54: 11283 | M54: 0.85615528 | N54: -1623 | O54: 0.7689441 | P54: 0.6425596 | Q54: 0.1263845
B55: ANA（全日空）名古屋 | C55: 名古屋 | F55: ◎ | G55: 21467 | H55: 12773 | I55: 1.6806545 | J55: 8694 | K55: 28715 | L55: 14758 | M55: 1.9457244 | N55: 13957 | O55: 0.74758837 | P55: 0.86549668 | Q55: -0.11790831
B56: ANA（全日空）福岡 | C56: 福岡 | F56: ◎ | G56: 35084 | H56: 35871 | I56: 0.97806027 | J56: -787 | K56: 46451 | L56: 51816 | M56: 0.89646055 | N56: -5365 | O56: 0.75529052 | P56: 0.69227652 | Q56: 0.063014004
B57: ANA（全日空）成田 | C57: 成田 | F57: ◎ | G57: 0 | H57: 0 | I57: #DIV/0! | J57: 0 | K57: 0 | L57: 0 | M57: #DIV/0! | N57: 0 | O57: #DIV/0! | P57: #DIV/0! | Q57: #DIV/0!
B58: ANA（全日空）札幌 | C58: 札幌 | F58: ◎ | G58: 0 | H58: 0 | I58: #DIV/0! | J58: 0 | K58: 0 | L58: 0 | M58: #DIV/0! | N58: 0 | O58: #DIV/0! | P58: #DIV/0! | Q58: #DIV/0!
B59: ANA（全日空）仙台 | C59: 仙台 | F59: ◎ | G59: 5193 | H59: 6345 | I59: 0.81843972 | J59: -1152 | K59: 5820 | L59: 8369 | M59: 0.69542359 | N59: -2549 | O59: 0.89226804 | P59: 0.7581551 | Q59: 0.13411295
B60: ANA（全日空）新潟 | C60: 新潟 | F60: ○ | G60: 0 | H60: 0 | I60: #DIV/0! | J60: 0 | K60: 0 | L60: 0 | M60: #DIV/0! | N60: 0 | O60: #DIV/0! | P60: #DIV/0! | Q60: #DIV/0!
B61: ANA（全日空）静岡 | C61: 静岡 | F61: ◎ | G61: 3758 | H61: 3470 | I61: 1.0829971 | J61: 288 | K61: 5146 | L61: 5146 | M61: 1 | N61: 0 | O61: 0.73027594 | P61: 0.67431014 | Q61: 0.055965799
B62: ANA（全日空）広島 | C62: 広島 | F62: ◎ | G62: 5129 | H62: 5657 | I62: 0.90666431 | J62: -528 | K62: 6014 | L62: 6782 | M62: 0.88675907 | N62: -768 | O62: 0.85284337 | P62: 0.83411973 | Q62: 0.018723637
B63: ANA（全日空）岩国 | C63: 岩国 | F63: ○ | G63: 4133 | H63: 3852 | I63: 1.0729491 | J63: 281 | K63: 5146 | L63: 5146 | M63: 1 | N63: 0 | O63: 0.80314808 | P63: 0.74854256 | Q63: 0.054605519
B64: ANA（全日空）高松 | C64: 高松 | F64: ◎ | G64: 4145 | H64: 5072 | I64: 0.81723186 | J64: -927 | K64: 5142 | L64: 8291 | M64: 0.62019057 | N64: -3149 | O64: 0.80610657 | P64: 0.61174768 | Q64: 0.1943589
B65: ANA（全日空）松山 | C65: 松山 | F65: ◎ | G65: 3906 | H65: 3764 | I65: 1.0377258 | J65: 142 | K65: 4886 | L65: 5146 | M65: 0.94947532 | N65: -260 | O65: 0.79942693 | P65: 0.7314419 | Q65: 0.067985037
B66: ANA（全日空）北九州 | C66: 北九州 | F66: ○ | G66: 0 | H66: 0 | I66: #DIV/0! | J66: 0 | K66: 0 | L66: 0 | M66: #DIV/0! | N66: 0 | O66: #DIV/0! | P66: #DIV/0! | Q66: #DIV/0!
B67: ANA（全日空）熊本 | C67: 熊本 | F67: ◎ | G67: 4404 | H67: 4469 | I67: 0.98545536 | J67: -65 | K67: 5146 | L67: 5146 | M67: 1 | N67: 0 | O67: 0.85581034 | P67: 0.86844151 | Q67: -0.01263117
B68: ANA（全日空）長崎 | C68: 長崎 | F68: ◎ | G68: 0 | H68: 0 | I68: #DIV/0! | J68: 0 | K68: 0 | L68: 0 | M68: #DIV/0! | N68: 0 | O68: #DIV/0! | P68: #DIV/0! | Q68: #DIV/0!
B69: ANA（全日空）宮崎 | C69: 宮崎 | F69: ◎ | G69: 2260 | H69: 2400 | I69: 0.94166667 | J69: -140 | K69: 3150 | L69: 3768 | M69: 0.83598726 | N69: -618 | O69: 0.71746032 | P69: 0.63694268 | Q69: 0.080517642
B70: ANA（全日空）鹿児島 | C70: 鹿児島 | F70: ◎ | G70: 4611 | H70: 4982 | I70: 0.92553191 | J70: -371 | K70: 6300 | L70: 7550 | M70: 0.83443709 | N70: -1250 | O70: 0.73190476 | P70: 0.65986755 | Q70: 0.072037212
B71: ANA（全日空）羽田石垣 | C71: 羽田 | D71: - | E71: 石垣 | F71: ◎ | G71: 21290 | H71: 19548 | I71: 1.089114 | J71: 1742 | K71: 23100 | L71: 22529 | M71: 1.0253451 | N71: 571 | O71: 0.92164502 | P71: 0.86768165 | Q71: 0.053963367
B72: ANA（全日空）羽田宮古 | C72: 羽田 | D72: - | E72: 宮古 | F72: ◎ | G72: 18965 | H72: 16823 | I72: 1.1273257 | J72: 2142 | K72: 20313 | L72: 18149 | M72: 1.1192352 | N72: 2164 | O72: 0.93363856 | P72: 0.92693812 | Q72: 0.0067004333
B73: ANA（全日空）関西石垣 | C73: 関西 | D73: - | E73: 石垣 | F73: ◎ | G73: 5544 | H73: 3826 | I73: 1.4490329 | J73: 1718 | K73: 6014 | L73: 4428 | M73: 1.3581752 | N73: 1586 | O73: 0.92184902 | P73: 0.86404697 | Q73: 0.057802045
B74: ANA（全日空）関西宮古 | C74: 関西 | D74: - | E74: 宮古 | F74: ◎ | G74: 5721 | H74: 7542 | I74: 0.75855211 | J74: -1821 | K74: 6014 | L74: 9310 | M74: 0.64597207 | N74: -3296 | O74: 0.95128035 | P74: 0.81009667 | Q74: 0.14118368
B75: ANA（全日空）伊丹石垣 | C75: 伊丹 | D75: - | E75: 石垣 | F75: ○ | G75: 1857 | H75: 2288 | I75: 0.81162587 | J75: -431 | K75: 2092 | L75: 3154 | M75: 0.66328472 | N75: -1062 | O75: 0.8876673 | P75: 0.72542803 | Q75: 0.16223928
B76: ANA（全日空）伊丹宮古 | C76: 伊丹 | D76: - | E76: 宮古 | F76: ○ | G76: 0 | H76: 0 | I76: #DIV/0! | J76: 0 | K76: 0 | L76: 0 | M76: #DIV/0! | N76: 0 | O76: #DIV/0! | P76: #DIV/0! | Q76: #DIV/0!
B77: ANA（全日空）名古屋石垣 | C77: 名古屋 | D77: - | E77: 石垣 | F77: ◎ | G77: 4654 | H77: 4373 | I77: 1.0642579 | J77: 281 | K77: 5145 | L77: 4980 | M77: 1.0331325 | N77: 165 | O77: 0.90456754 | P77: 0.87811245 | Q77: 0.026455092
B78: ANA（全日空）名古屋宮古 | C78: 名古屋 | D78: - | E78: 宮古 | F78: ◎ | G78: 4863 | H78: 4211 | I78: 1.1548326 | J78: 652 | K78: 5145 | L78: 4980 | M78: 1.0331325 | N78: 165 | O78: 0.9451895 | P78: 0.84558233 | Q78: 0.099607175
B79: ANA（全日空）福岡石垣 | C79: 福岡 | D79: - | E79: 石垣 | F79: ◎ | G79: 0 | H79: 0 | I79: #DIV/0! | J79: 0 | K79: 0 | L79: 0 | M79: #DIV/0! | N79: 0 | O79: #DIV/0! | P79: #DIV/0! | Q79: #DIV/0!
B80: ANA（全日空）福岡宮古 | C80: 福岡 | D80: - | E80: 宮古 | F80: ○ | G80: 0 | H80: 0 | I80: #DIV/0! | J80: 0 | K80: 0 | L80: 0 | M80: #DIV/0! | N80: 0 | O80: #DIV/0! | P80: #DIV/0! | Q80: #DIV/0!
B81: ANA（全日空）沖永良部那覇 | C81: 沖永良部 | D81: - | E81: 那覇 | G81: - | H81: - | I81: - | J81: - | K81: - | L81: - | M81: - | N81: - | O81: - | P81: - | Q81: -
B82: ANA（全日空）奄美那覇 | C82: 奄美 | D82: - | E82: 那覇 | G82: - | H82: - | I82: - | J82: - | K82: - | L82: - | M82: - | N82: - | O82: - | P82: - | Q82: -
B83: SNA（ソラシドエア） | G83: 28431 | H83: 23789 | I83: 1.1951322 | J83: 4642 | K83: 34885 | L83: 30002 | M83: 1.1627558 | N83: 4883 | O83: 0.81499212 | P83: 0.79291381 | Q83: 0.022078311
B84: SNA（ソラシドエア）羽田 | C84: 羽田 | G84: 13543 | H84: 12177 | I84: 1.1121787 | J84: 1366 | K84: 15772 | L84: 14281 | M84: 1.1044045 | N84: 1491 | O84: 0.8586736 | P84: 0.85267138 | Q84: 0.0060022172
B85: SNA（ソラシドエア）宮崎 | C85: 宮崎 | G85: 1555 | H85: 1235 | I85: 1.2591093 | J85: 320 | K85: 2072 | L85: 1632 | M85: 1.2696078 | N85: 440 | O85: 0.75048263 | P85: 0.7567402 | Q85: -0.0062575706
B86: SNA（ソラシドエア）鹿児島 | C86: 鹿児島 | G86: 3087 | H86: 2545 | I86: 1.2129666 | J86: 542 | K86: 4148 | L86: 3248 | M86: 1.2770936 | N86: 900 | O86: 0.74421408 | P86: 0.78355911 | Q86: -0.039345034
B87: SNA（ソラシドエア）神戸 | C87: 神戸 | G87: 5242 | H87: 4023 | I87: 1.3030077 | J87: 1219 | K87: 6358 | L87: 4917 | M87: 1.2930649 | N87: 1441 | O87: 0.8244731 | P87: 0.81818182 | Q87: 0.0062912866
B88: SNA（ソラシドエア）名古屋 | C88: 名古屋 | G88: 1443 | H88: 1055 | I88: 1.3677725 | J88: 388 | K88: 1677 | L88: 1160 | M88: 1.4456897 | N88: 517 | O88: 0.86046512 | P88: 0.90948276 | Q88: -0.049017642
B89: SNA（ソラシドエア）福岡 | C89: 福岡 | G89: 3561 | H89: 2754 | I89: 1.2930283 | J89: 807 | K89: 4858 | L89: 4764 | M89: 1.0197313 | N89: 94 | O89: 0.7330177 | P89: 0.57808564 | Q89: 0.15493206
B90: SNA（ソラシドエア）熊本 | C90: 熊本 | G90: 0 | H90: 0 | I90: #DIV/0! | J90: 0 | K90: 0 | L90: 0 | M90: #DIV/0! | N90: 0 | O90: #DIV/0! | P90: #DIV/0! | Q90: #DIV/0!
B91: SNA（ソラシドエア）長崎 | C91: 長崎 | G91: 0 | H91: 0 | I91: #DIV/0! | J91: 0 | K91: 0 | L91: 0 | M91: #DIV/0! | N91: 0 | O91: #DIV/0! | P91: #DIV/0! | Q91: #DIV/0!
A92: ｃ | B92: SKY | G92: 83230 | H92: 90646 | I92: 0.91818723 | J92: -7416 | K92: 105138 | L92: 104784 | M92: 1.0033784 | N92: 354 | O92: 0.79162624 | P92: 0.86507482 | Q92: -0.073448577
B93: SKY羽田 | C93: 羽田 | F93: ◎ | G93: 27440 | H93: 29831 | I93: 0.91984848 | J93: -2391 | K93: 32745 | L93: 32922 | M93: 0.99462366 | N93: -177 | O93: 0.83799053 | P93: 0.90611141 | Q93: -0.068120882
B94: SKY成田 | C94: 成田 | G94: 0 | H94: 0 | I94: #DIV/0! | J94: 0 | K94: 0 | L94: 0 | M94: #DIV/0! | N94: 0 | O94: #DIV/0! | P94: #DIV/0! | Q94: #DIV/0!
B95: SKY福岡 | C95: 福岡 | F95: ◎ | G95: 12389 | H95: 8791 | I95: 1.4092822 | J95: 3598 | K95: 16461 | L95: 10974 | M95: 1.5 | N95: 5487 | O95: 0.75262742 | P95: 0.80107527 | Q95: -0.048447846
B96: SKY関西 | C96: 関西 | G96: 0 | H96: 0 | I96: #DIV/0! | J96: 0 | K96: 0 | L96: 0 | M96: #DIV/0! | N96: 0 | O96: #DIV/0! | P96: #DIV/0! | Q96: #DIV/0!
B97: SKY神戸 | C97: 神戸 | F97: ◎ | G97: 18387 | H97: 19660 | I97: 0.93524924 | J97: -1273 | K97: 23187 | L97: 23010 | M97: 1.0076923 | N97: 177 | O97: 0.79298745 | P97: 0.85441113 | Q97: -0.061423676
B98: SKY茨城 | C98: 茨城 | F98: ○ | G98: 4041 | H98: 4452 | I98: 0.90768194 | J98: -411 | K98: 5487 | L98: 5487 | M98: 1 | N98: 0 | O98: 0.73646802 | P98: 0.81137233 | Q98: -0.074904319
B99: SKY北九州 | C99: 北九州 | G99: 0 | H99: 0 | I99: #DIV/0! | J99: 0 | K99: 0 | L99: 0 | M99: #DIV/0! | N99: 0 | O99: #DIV/0! | P99: #DIV/0! | Q99: #DIV/0!
B100: SKY名古屋 | C100: 名古屋 | F100: ◎ | G100: 8625 | H100: 14906 | I100: 0.57862606 | J100: -6281 | K100: 10797 | L100: 16461 | M100: 0.65591398 | N100: -5664 | O100: 0.79883301 | P100: 0.90553429 | Q100: -0.10670128
...

Sheet ７月月間
A1: ='R７'!A1 -> 令和７年度 | F1: =RIGHT(CELL("filename",$A$1),LEN(CELL("filename",$A$1))-FIND("]",CELL("filename",$A$1))) -> ７月月間 | G1: 航空旅客輸送実績
A2: R7 | B2: （2025）年 | C2: 7
C3: 輸送実績人数 | G3: 提供座席数 | K3: 利用率
C4: 25'7月間 | D4: 24'7月間 | E4: 対前年同月比較 | G4: 25'7月間 | H4: 24'7月間 | I4: 対前年同月比較 | K4: 25'7月間 | L4: 24'7月間 | M4: 対前年 増減
E5: 比率 | F5: 増減数 | I5: 比率 | J5: 増減数
A6: 合 計 | C6: 726817 | D6: 706459 | E6: 1.028817 | F6: 20358 | G6: 849460 | H6: 853872 | I6: 0.99483295 | J6: -4412 | K6: 0.8556224 | L6: 0.82735937 | M6: 0.028263025
A7: ①＋②＋③＋④＋⑤
A8: ①東京方面（羽田、成田） | C8: 382608 | D8: 371715 | E8: 1.0293047 | F8: 10893 | G8: 427698 | H8: 424878 | I8: 1.0066372 | J8: 2820 | K8: 0.89457514 | L8: 0.87487467 | M8: 0.019700474
B9: JAL | C9: 143909 | D9: 140967 | E9: 1.0208701 | F9: 2942 | G9: 157574 | H9: 161134 | I9: 0.97790659 | J9: -3560 | K9: 0.91327884 | L9: 0.8748433 | M9: 0.038435542
B10: JTA | C10: 173 | D10: 165 | E10: 1.0484848 | F10: 8 | G10: 330 | H10: 165 | I10: 2 | J10: 165 | K10: 0.52424242 | L10: 1 | M10: -0.47575758
B11: ANA | C11: 193139 | D11: 183963 | E11: 1.0498796 | F11: 9176 | G11: 215790 | H11: 211066 | I11: 1.0223816 | J11: 4724 | K11: 0.89503221 | L11: 0.87158993 | M11: 0.023442278
B12: SNA | C12: 13543 | D12: 12177 | E12: 1.1121787 | F12: 1366 | G12: 15772 | H12: 14281 | I12: 1.1044045 | J12: 1491 | K12: 0.8586736 | L12: 0.85267138 | M12: 0.0060022172
B13: SKY | C13: 31844 | D13: 34443 | E13: 0.924542 | F13: -2599 | G13: 38232 | H13: 38232 | I13: 1 | J13: 0 | K13: 0.83291484 | L13: 0.90089454 | M13: -0.067979703
A14: ②関西方面（関西、伊丹、神戸） | C14: 143548 | D14: 139979 | E14: 1.0254967 | F14: 3569 | G14: 167414 | H14: 174244 | I14: 0.96080209 | J14: -6830 | K14: 0.85744322 | L14: 0.80335047 | M14: 0.054092751
B15: JAL | C15: 24270 | D15: 22606 | E15: 1.0736088 | F15: 1664 | G15: 26530 | H15: 27542 | I15: 0.96325612 | J15: -1012 | K15: 0.91481342 | L15: 0.8207828 | M15: 0.094030614
B16: JTA | C16: 22237 | D16: 19383 | E16: 1.1472424 | F16: 2854 | G16: 26400 | H16: 25245 | I16: 1.0457516 | J16: 1155 | K16: 0.84231061 | L16: 0.7677956 | M16: 0.074515003
B17: ANA | C17: 69273 | D17: 70058 | E17: 0.988795 | F17: -785 | G17: 79452 | H17: 88220 | I17: 0.90061211 | J17: -8768 | K17: 0.87188491 | L17: 0.79412832 | M17: 0.077756596
B18: SNA | C18: 5242 | D18: 4023 | E18: 1.3030077 | F18: 1219 | G18: 6358 | H18: 4917 | I18: 1.2930649 | J18: 1441 | K18: 0.8244731 | L18: 0.81818182 | M18: 0.0062912866
B19: SKY | C19: 22526 | D19: 23909 | E19: 0.94215567 | F19: -1383 | G19: 28674 | H19: 28320 | I19: 1.0125 | J19: 354 | K19: 0.78558973 | L19: 0.84424435 | M19: -0.058654617
A20: ③福岡方面（福岡、北九州） | C20: 80146 | D20: 75141 | E20: 1.0666081 | F20: 5005 | G20: 103947 | H20: 103389 | I20: 1.0053971 | J20: 558 | K20: 0.77102754 | L20: 0.72677944 | M20: 0.044248098
B21: JAL | C21: 0 | D21: 0 | E21: #DIV/0! | F21: 0 | G21: 0 | H21: 0 | I21: #DIV/0! | J21: 0 | K21: - | L21: - | M21: #VALUE!
B22: JTA | C22: 25307 | D22: 23580 | E22: 1.07324 | F22: 1727 | G22: 30690 | H22: 30525 | I22: 1.0054054 | J22: 165 | K22: 0.82460085 | L22: 0.77248157 | M22: 0.052119275
B23: ANA | C23: 35084 | D23: 35871 | E23: 0.97806027 | F23: -787 | G23: 46451 | H23: 51816 | I23: 0.89646055 | J23: -5365 | K23: 0.75529052 | L23: 0.69227652 | M23: 0.063014004
B24: SNA | C24: 3561 | D24: 2754 | E24: 1.2930283 | F24: 807 | G24: 4858 | H24: 4764 | I24: 1.0197313 | J24: 94 | K24: 0.7330177 | L24: 0.57808564 | M24: 0.15493206
B25: SKY | C25: 16194 | D25: 12936 | E25: 1.2518553 | F25: 3258 | G25: 21948 | H25: 16284 | I25: 1.3478261 | J25: 5664 | K25: 0.73783488 | L25: 0.79439941 | M25: -0.056564528
B26: SFJ | C26: 0 | D26: 0 | E26: #DIV/0! | F26: 0 | G26: 0 | H26: 0 | I26: #DIV/0! | J26: 0 | K26: - | L26: － | M26: #VALUE!
A27: ④名古屋方面 | C27: 61555 | D27: 58472 | E27: 1.0527261 | F27: 3083 | G27: 76724 | H27: 69894 | I27: 1.0977194 | J27: 6830 | K27: 0.80229133 | L27: 0.83658111 | M27: -0.034289779
B28: JAL | C28: 0 | D28: 0 | E28: #DIV/0! | F28: 0 | G28: 0 | H28: 0 | I28: #DIV/0! | J28: 0 | K28: - | L28: - | M28: #VALUE!
B29: JTA | C29: 20503 | D29: 21154 | E29: 0.96922568 | F29: -651 | G29: 25245 | H29: 27555 | I29: 0.91616766 | J29: -2310 | K29: 0.81216082 | L29: 0.76770096 | M29: 0.044459862
B30: ANA | C30: 30984 | D30: 21357 | E30: 1.4507656 | F30: 9627 | G30: 39005 | H30: 24718 | I30: 1.5779998 | J30: 14287 | K30: 0.7943597 | L30: 0.86402622 | M30: -0.069666518
B31: SKY | C31: 8625 | D31: 14906 | E31: 0.57862606 | F31: -6281 | G31: 10797 | H31: 16461 | I31: 0.65591398 | J31: -5664 | K31: 0.79883301 | L31: 0.90553429 | M31: -0.10670128
B32: SNA | C32: 1443 | D32: 1055 | E32: 1.3677725 | F32: 388 | G32: 1677 | H32: 1160 | I32: 1.4456897 | J32: 517 | K32: 0.86046512 | L32: 0.90948276 | M32: -0.049017642
A33: ⑤その他方面 | C33: 58960 | D33: 61152 | E33: 0.96415489 | F33: -2192 | G33: 73677 | H33: 81467 | I33: 0.90437846 | J33: -7790 | K33: 0.80024974 | L33: 0.75063523 | M33: 0.049614512
B34: JAL | C34: 0 | D34: 0 | E34: #DIV/0! | F34: 0 | G34: 0 | H34: 0 | I34: #DIV/0! | J34: 0 | K34: - | L34: - | M34: #VALUE!
B35: JTA | C35: 8373 | D35: 8037 | E35: 1.0418066 | F35: 336 | G35: 10230 | H35: 10230 | I35: 1 | J35: 0 | K35: 0.81847507 | L35: 0.7856305 | M35: 0.032844575
B36: RAC | C36: 2072 | D36: 2204 | E36: 0.94010889 | F36: -132 | G36: 2350 | H36: 2550 | I36: 0.92156863 | J36: -200 | K36: 0.88170213 | L36: 0.86431373 | M36: 0.017388402
B37: JAC | C37: 2293 | D37: 2668 | E37: 0.85944528 | F37: -375 | G37: 2640 | H37: 2976 | I37: 0.88709677 | J37: -336 | K37: 0.86856061 | L37: 0.89650538 | M37: -0.02794477
B38: ANA | C38: 37539 | D38: 40011 | E38: 0.93821699 | F38: -2472 | G38: 46750 | H38: 55344 | I38: 0.84471668 | J38: -8594 | K38: 0.80297326 | L38: 0.722951 | M38: 0.080022265
B39: SNA | C39: 4642 | D39: 3780 | E39: 1.2280423 | F39: 862 | G39: 6220 | H39: 4880 | I39: 1.2745902 | J39: 1340 | K39: 0.74630225 | L39: 0.77459016 | M39: -0.028287913
B40: SKY | C40: 4041 | D40: 4452 | E40: 0.90768194 | F40: -411 | G40: 5487 | H40: 5487 | I40: 1 | J40: 0 | K40: 0.73646802 | L40: 0.81137233 | M40: -0.074904319
B41: 第一航空 | C41: 0 | D41: 0 | E41: #DIV/0! | F41: 0 | G41: 0 | H41: 0 | I41: #DIV/0! | J41: 0 | K41: - | L41: - | M41: #VALUE!

Sheet ８月（月間）
A1: ='R７'!A1 -> 令和７年度 | J1: ８月（月間） | K1: 航空旅客輸送実績
A2: 7 | C2: 2025 | D2: 年 | E2: 8 | F2: 月 | G2: 輸送実績（旅客実績） | K2: 提供座席 | O2: 利用率
A3: キャリア・路線 | G3: 25'8/1-8/31 | H3: 24'8/1-8/31 (前年同月) | I3: 対前年同月比 | K3: 25'8/1-8/31 | L3: 24'8/1-8/31 (前年同月) | M3: 対前年同月比 | O3: 25'8/1-8/31 | P3: 24'8/1-8/31 (前年同月) | Q3: 増減数
I4: 比率 | J4: 増減数 | M4: 比率 | N4: 増減数
A5: 合計 a+b+c+d+e | G5: 805895 | H5: 789822 | I5: 1.0203502 | J5: 16073 | K5: 874449 | L5: 873354 | M5: 1.0012538 | N5: 1095 | O5: 0.9216032 | P5: 0.90435494 | Q5: 0.017248269
A6: a | B6: JAL + JTA + RAC+JAC | G6: 271398 | H6: 265915 | I6: 1.0206194 | J6: 5483 | K6: 291930 | L6: 292950 | M6: 0.99651818 | N6: -1020 | O6: 0.92966807 | P6: 0.90771463 | Q6: 0.021953444
B7: JAL（日本航空） | G7: 177311 | H7: 177559 | I7: 0.99860328 | J7: -248 | K7: 188270 | L7: 190258 | M7: 0.98955103 | N7: -1988 | O7: 0.94179104 | P7: 0.93325379 | Q7: 0.0085372526
B8: JAL（日本航空）羽田 | C8: 羽田 | F8: ◎ | G8: 120391 | H8: 123546 | I8: 0.97446295 | J8: -3155 | K8: 127395 | L8: 130409 | M8: 0.9768881 | N8: -3014 | O8: 0.94502139 | P8: 0.94737326 | Q8: -0.002351874
B9: JAL（日本航空）伊丹 | C9: 伊丹 | F9: ◎ | G9: 27672 | H9: 25312 | I9: 1.0932364 | J9: 2360 | K9: 28862 | L9: 29357 | M9: 0.9831386 | N9: -495 | O9: 0.95876932 | P9: 0.86221344 | Q9: 0.096555875
B10: JAL（日本航空）関西 | C10: 関西 | H10: 0 | I10: #DIV/0! | J10: 0 | L10: 0 | M10: #DIV/0! | N10: 0 | O10: #DIV/0! | P10: #DIV/0! | Q10: #DIV/0!
B11: JAL（日本航空）福岡 | C11: 福岡 | H11: 0 | I11: #DIV/0! | J11: 0 | L11: 0 | M11: #DIV/0! | N11: 0 | O11: #DIV/0! | P11: #DIV/0! | Q11: #DIV/0!
B12: JAL（日本航空）名古屋 | C12: 名古屋 | H12: 0 | I12: #DIV/0! | J12: 0 | L12: 0 | M12: #DIV/0! | N12: 0 | O12: #DIV/0! | P12: #DIV/0! | Q12: #DIV/0!
B13: JAL（日本航空）成田 | C13: 成田 | H13: 0 | I13: #DIV/0! | J13: 0 | L13: 0 | M13: #DIV/0! | N13: 0 | O13: #DIV/0! | P13: #DIV/0! | Q13: #DIV/0!
B14: JAL（日本航空）仙台 | C14: 仙台 | H14: 0 | I14: #DIV/0! | J14: 0 | L14: 0 | M14: #DIV/0! | N14: 0 | O14: #DIV/0! | P14: #DIV/0! | Q14: #DIV/0!
B15: JAL（日本航空）神戸 | C15: 神戸 | H15: 0 | I15: #DIV/0! | J15: 0 | L15: 0 | M15: #DIV/0! | N15: 0 | O15: #DIV/0! | P15: #DIV/0! | Q15: #DIV/0!
B16: JAL（日本航空）花巻 | C16: 花巻 | H16: 0 | I16: #DIV/0! | J16: 0 | L16: 0 | M16: #DIV/0! | N16: 0 | O16: #DIV/0! | P16: #DIV/0! | Q16: #DIV/0!
B17: JAL（日本航空）羽田石垣 | C17: 羽田 | D17: - | E17: 石垣 | G17: 16446 | H17: 16697 | I17: 0.98496736 | J17: -251 | K17: 18042 | L17: 17460 | M17: 1.0333333 | N17: 582 | O17: 0.91153974 | P17: 0.95630011 | Q17: -0.044760374
B18: JAL（日本航空）羽田宮古 | C18: 羽田 | D18: - | E18: 宮古 | G18: 8636 | H18: 7850 | I18: 1.1001274 | J18: 786 | K18: 9021 | L18: 8082 | M18: 1.1161841 | N18: 939 | O18: 0.9573218 | P18: 0.97129423 | Q18: -0.013972429
B19: JAL（日本航空）羽田久米島 | C19: 羽田 | D19: - | E19: 久米島 | G19: 4166 | H19: 4154 | I19: 1.0028888 | J19: 12 | K19: 4950 | L19: 4950 | M19: 1 | N19: 0 | O19: 0.84161616 | P19: 0.83919192 | Q19: 0.0024242424
B20: JAL（日本航空）沖永良部 | C20: 沖永良部 | H20: 0 | I20: #DIV/0! | J20: 0 | K20: 0 | L20: 0 | M20: #DIV/0! | N20: 0 | O20: #DIV/0! | P20: #DIV/0! | Q20: #DIV/0!
B21: JTA（日本トランスオーシャン航空） | G21: 88829 | H21: 82787 | I21: 1.0729825 | J21: 6042 | K21: 97680 | L21: 96690 | M21: 1.0102389 | N21: 990 | O21: 0.9093878 | P21: 0.85621057 | Q21: 0.053177227
B22: JTA（日本トランスオーシャン航空）羽田 | C22: 羽田 | H22: 147 | I22: 0 | J22: -147 | L22: 165 | M22: 0 | N22: -165 | O22: #DIV/0! | P22: 0.89090909 | Q22: #DIV/0!
B23: JTA（日本トランスオーシャン航空）関西 | C23: 関西 | F23: ◎ | G23: 17135 | H23: 12252 | I23: 1.3985472 | J23: 4883 | K23: 18645 | L23: 15345 | M23: 1.2150538 | N23: 3300 | O23: 0.91901314 | P23: 0.79843597 | Q23: 0.12057717
B24: JTA（日本トランスオーシャン航空）福岡 | C24: 福岡 | F24: ◎ | G24: 30132 | H24: 26340 | I24: 1.1439636 | J24: 3792 | K24: 33000 | L24: 29535 | M24: 1.1173184 | N24: 3465 | O24: 0.91309091 | P24: 0.89182326 | Q24: 0.021267649
B25: JTA（日本トランスオーシャン航空）羽田石垣 | C25: 羽田 | D25: - | E25: 石垣 | F25: ◎ | H25: 0 | I25: #DIV/0! | J25: 0 | L25: 0 | M25: #DIV/0! | N25: 0 | O25: #DIV/0! | P25: #DIV/0! | Q25: #DIV/0!
B26: JTA（日本トランスオーシャン航空）羽田宮古 | C26: 羽田 | D26: - | E26: 宮古 | F26: ◎ | H26: 0 | I26: #DIV/0! | J26: 0 | L26: 0 | M26: #DIV/0! | N26: 0 | O26: #DIV/0! | P26: #DIV/0! | Q26: #DIV/0!
B27: JTA（日本トランスオーシャン航空）羽田久米島 | C27: 羽田 | D27: - | E27: 久米島 | F27: ○ | H27: 0 | I27: #DIV/0! | J27: 0 | L27: 0 | M27: #DIV/0! | N27: 0 | O27: #DIV/0! | P27: #DIV/0! | Q27: #DIV/0!
B28: JTA（日本トランスオーシャン航空）関西石垣 | C28: 関西 | D28: - | E28: 石垣 | F28: ◎ | G28: 4754 | H28: 4723 | I28: 1.0065636 | J28: 31 | K28: 5115 | L28: 5115 | M28: 1 | N28: 0 | O28: 0.92942326 | P28: 0.92336266 | Q28: 0.0060606061
B29: JTA（日本トランスオーシャン航空）関西宮古 | C29: 関西 | D29: - | E29: 宮古 | G29: 4751 | H29: 4805 | I29: 0.98876171 | J29: -54 | K29: 5115 | L29: 5115 | M29: 1 | N29: 0 | O29: 0.92883675 | P29: 0.93939394 | Q29: -0.010557185
B30: JTA（日本トランスオーシャン航空）神戸石垣 | C30: 神戸 | D30: - | E30: 石垣 | H30: 0 | I30: #DIV/0! | J30: 0 | L30: 0 | M30: #DIV/0! | N30: 0 | O30: #DIV/0! | P30: #DIV/0! | Q30: #DIV/0!
B31: JTA（日本トランスオーシャン航空）名古屋石垣 | C31: 名古屋 | D31: - | E31: 石垣 | H31: 3038 | I31: 0 | J31: -3038 | L31: 5115 | M31: 0 | N31: -5115 | O31: #DIV/0! | P31: 0.59393939 | Q31: #DIV/0!
B32: JTA（日本トランスオーシャン航空）名古屋宮古 | C32: 名古屋 | D32: - | E32: 宮古 | H32: 4458 | I32: 0 | J32: -4458 | L32: 5115 | M32: 0 | N32: -5115 | O32: #DIV/0! | P32: 0.87155425 | Q32: #DIV/0!
B33: JTA（日本トランスオーシャン航空）仙台 | C33: 仙台 | H33: 0 | I33: #DIV/0! | J33: 0 | L33: 0 | M33: #DIV/0! | N33: 0 | O33: #DIV/0! | P33: #DIV/0! | Q33: #DIV/0!
B34: JTA（日本トランスオーシャン航空）松山 | C34: 松山 | H34: 0 | I34: #DIV/0! | J34: 0 | L34: 0 | M34: #DIV/0! | N34: 0 | O34: #DIV/0! | P34: #DIV/0! | Q34: #DIV/0!
B35: JTA（日本トランスオーシャン航空）高知 | C35: 高知 | H35: 0 | I35: #DIV/0! | J35: 0 | L35: 0 | M35: #DIV/0! | N35: 0 | O35: #DIV/0! | P35: #DIV/0! | Q35: #DIV/0!
B36: JTA（日本トランスオーシャン航空）岡山 | C36: 岡山 | F36: ◎ | G36: 4817 | H36: 4641 | I36: 1.0379229 | J36: 176 | K36: 5115 | L36: 5115 | M36: 1 | N36: 0 | O36: 0.94173998 | P36: 0.90733138 | Q36: 0.034408602
B37: JTA（日本トランスオーシャン航空）福島 | C37: 福島 | H37: 0 | I37: #DIV/0! | J37: 0 | L37: 0 | M37: #DIV/0! | N37: 0 | O37: #DIV/0! | P37: #DIV/0! | Q37: #DIV/0!
B38: JTA（日本トランスオーシャン航空）小松 | C38: 小松 | F38: ◎ | G38: 4247 | H38: 4078 | I38: 1.0414419 | J38: 169 | K38: 5115 | L38: 5115 | M38: 1 | N38: 0 | O38: 0.83030303 | P38: 0.79726295 | Q38: 0.033040078
B39: JTA（日本トランスオーシャン航空）北九州 | C39: 北九州 | H39: 0 | I39: #DIV/0! | J39: 0 | L39: 0 | M39: #DIV/0! | N39: 0 | O39: #DIV/0! | P39: #DIV/0! | Q39: #DIV/0!
B40: JTA（日本トランスオーシャン航空）神戸 | C40: 神戸 | H40: 0 | I40: #DIV/0! | J40: 0 | L40: 0 | M40: #DIV/0! | N40: 0 | O40: #DIV/0! | P40: #DIV/0! | Q40: #DIV/0!
B41: JTA（日本トランスオーシャン航空）名古屋 | C41: 名古屋 | F41: ◎ | G41: 22993 | H41: 18305 | I41: 1.2561049 | J41: 4688 | K41: 25575 | L41: 20955 | M41: 1.2204724 | N41: 4620 | O41: 0.89904203 | P41: 0.87353853 | Q41: 0.025503498
B42: RAC | G42: 2591 | H42: 2880 | I42: 0.89965278 | J42: -289 | K42: 3100 | L42: 3100 | M42: 1 | N42: 0 | O42: 0.83580645 | P42: 0.92903226 | Q42: -0.093225806
B43: RAC与論 | C43: 与論 | F43: ◎ | G43: 2591 | H43: 2880 | I43: 0.89965278 | J43: -289 | K43: 3100 | L43: 3100 | M43: 1 | N43: 0 | O43: 0.83580645 | P43: 0.92903226 | Q43: -0.093225806
B44: RAC奄美 | C44: 奄美 | F44: ◎ | H44: 0 | I44: #DIV/0! | J44: 0 | L44: 0 | M44: #DIV/0! | N44: 0 | O44: #DIV/0! | P44: #DIV/0! | Q44: #DIV/0!
B45: JAC | G45: 2667 | H45: 2689 | I45: 0.99181852 | J45: -22 | K45: 2880 | L45: 2902 | M45: 0.99241902 | N45: -22 | O45: 0.92604167 | P45: 0.92660234 | Q45: -0.00056067654
B46: JAC沖永良部 | C46: 沖永良部 | F46: ◎ | G46: 1274 | H46: 1300 | I46: 0.98 | J46: -26 | K46: 1440 | L46: 1462 | M46: 0.98495212 | N46: -22 | O46: 0.88472222 | P46: 0.88919289 | Q46: -0.0044706642
B47: JAC与論 | C47: 与論 | F47: ◎ | G47: 1393 | H47: 1389 | I47: 1.0028798 | J47: 4 | K47: 1440 | L47: 1440 | M47: 1 | N47: 0 | O47: 0.96736111 | P47: 0.96458333 | Q47: 0.0027777778
B48: JAC奄美 | C48: 奄美 | H48: 0 | I48: #DIV/0! | J48: 0 | L48: 0 | M48: #DIV/0! | N48: 0 | O48: #DIV/0! | P48: #DIV/0! | Q48: #DIV/0!
A49: b | B49: ANA + SNA | G49: 439303 | H49: 425887 | I49: 1.0315013 | J49: 13416 | K49: 472956 | L49: 472257 | M49: 1.0014801 | N49: 699 | O49: 0.92884539 | P49: 0.90181194 | Q49: 0.027033452
B50: ANA（全日空） | G50: 407889 | H50: 397937 | I50: 1.025009 | J50: 9952 | K50: 438470 | L50: 441804 | M50: 0.99245367 | N50: -3334 | O50: 0.93025521 | P50: 0.90070936 | Q50: 0.029545841
B51: ANA（全日空）羽田 | C51: 羽田 | F51: ◎ | G51: 167597 | H51: 160182 | I51: 1.0462911 | J51: 7415 | K51: 177088 | L51: 171960 | M51: 1.0298209 | N51: 5128 | O51: 0.94640518 | P51: 0.93150733 | Q51: 0.01489785
B52: ANA（全日空）伊丹 | C52: 伊丹 | F52: ◎ | G52: 39216 | H52: 36905 | I52: 1.0626202 | J52: 2311 | K52: 41190 | L52: 42115 | M52: 0.97803633 | N52: -925 | O52: 0.95207575 | P52: 0.87629111 | Q52: 0.075784639
B53: ANA（全日空）関西 | C53: 関西 | F53: ◎ | G53: 15653 | H53: 16506 | I53: 0.94832182 | J53: -853 | K53: 17755 | L53: 18884 | M53: 0.94021394 | N53: -1129 | O53: 0.88161081 | P53: 0.87407329 | Q53: 0.0075375243
B54: ANA（全日空）神戸 | C54: 神戸 | F54: ◎ | G54: 8754 | H54: 9123 | I54: 0.95955278 | J54: -369 | K54: 9752 | L54: 11166 | M54: 0.87336557 | N54: -1414 | O54: 0.89766202 | P54: 0.81703385 | Q54: 0.080628165
B55: ANA（全日空）名古屋 | C55: 名古屋 | F55: ◎ | G55: 25840 | H55: 19487 | I55: 1.3260122 | J55: 6353 | K55: 29675 | L55: 21891 | M55: 1.3555799 | N55: 7784 | O55: 0.87076664 | P55: 0.89018318 | Q55: -0.019416542
B56: ANA（全日空）福岡 | C56: 福岡 | F56: ◎ | G56: 41164 | H56: 44806 | I56: 0.91871624 | J56: -3642 | K56: 46520 | L56: 52769 | M56: 0.8815782 | N56: -6249 | O56: 0.88486672 | P56: 0.84909701 | Q56: 0.035769716
B57: ANA（全日空）成田 | C57: 成田 | F57: ◎ | H57: 0 | I57: #DIV/0! | J57: 0 | L57: 0 | M57: #DIV/0! | N57: 0 | O57: #DIV/0! | P57: #DIV/0! | Q57: #DIV/0!
B58: ANA（全日空）札幌 | C58: 札幌 | F58: ◎ | H58: 0 | I58: #DIV/0! | J58: 0 | L58: 0 | M58: #DIV/0! | N58: 0 | O58: #DIV/0! | P58: #DIV/0! | Q58: #DIV/0!
B59: ANA（全日空）仙台 | C59: 仙台 | F59: ◎ | G59: 5634 | H59: 6397 | I59: 0.88072534 | J59: -763 | K59: 6014 | L59: 8370 | M59: 0.71851852 | N59: -2356 | O59: 0.9368141 | P59: 0.76427718 | Q59: 0.17253692
B60: ANA（全日空）新潟 | C60: 新潟 | F60: ○ | H60: 0 | I60: #DIV/0! | J60: 0 | L60: 0 | M60: #DIV/0! | N60: 0 | O60: #DIV/0! | P60: #DIV/0! | Q60: #DIV/0!
B61: ANA（全日空）静岡 | C61: 静岡 | F61: ◎ | G61: 4558 | H61: 4414 | I61: 1.0326235 | J61: 144 | K61: 5146 | L61: 5146 | M61: 1 | N61: 0 | O61: 0.88573649 | P61: 0.8577536 | Q61: 0.027982899
B62: ANA（全日空）広島 | C62: 広島 | F62: ◎ | G62: 5753 | H62: 5580 | I62: 1.0310036 | J62: 173 | K62: 6014 | L62: 5819 | M62: 1.0335109 | N62: 195 | O62: 0.95660126 | P62: 0.95892765 | Q62: -0.0023263871
B63: ANA（全日空）岩国 | C63: 岩国 | F63: ○ | G63: 4903 | H63: 4637 | I63: 1.0573647 | J63: 266 | K63: 5146 | L63: 4980 | M63: 1.0333333 | N63: 166 | O63: 0.95277886 | P63: 0.9311245 | Q63: 0.021654359
B64: ANA（全日空）高松 | C64: 高松 | F64: ◎ | G64: 4919 | H64: 6560 | I64: 0.74984756 | J64: -1641 | K64: 5144 | L64: 8100 | M64: 0.63506173 | N64: -2956 | O64: 0.95625972 | P64: 0.80987654 | Q64: 0.14638318
B65: ANA（全日空）松山 | C65: 松山 | F65: ◎ | G65: 4392 | H65: 4573 | I65: 0.96041986 | J65: -181 | K65: 4666 | L65: 4980 | M65: 0.93694779 | N65: -314 | O65: 0.94127733 | P65: 0.91827309 | Q65: 0.023004233
B66: ANA（全日空）北九州 | C66: 北九州 | F66: ○ | H66: 0 | I66: #DIV/0! | J66: 0 | L66: 0 | M66: #DIV/0! | N66: 0 | O66: #DIV/0! | P66: #DIV/0! | Q66: #DIV/0!
B67: ANA（全日空）熊本 | C67: 熊本 | F67: ◎ | G67: 4741 | H67: 4562 | I67: 1.0392372 | J67: 179 | K67: 5146 | L67: 4814 | M67: 1.0689655 | N67: 332 | O67: 0.9212981 | P67: 0.94765268 | Q67: -0.026354584
B68: ANA（全日空）長崎 | C68: 長崎 | F68: ◎ | H68: 0 | I68: #DIV/0! | J68: 0 | L68: 0 | M68: #DIV/0! | N68: 0 | O68: #DIV/0! | P68: #DIV/0! | Q68: #DIV/0!
B69: ANA（全日空）宮崎 | C69: 宮崎 | F69: ◎ | G69: 2887 | H69: 2979 | I69: 0.96911715 | J69: -92 | K69: 3255 | L69: 3415 | M69: 0.95314788 | N69: -160 | O69: 0.88694316 | P69: 0.87232796 | Q69: 0.0146152
B70: ANA（全日空）鹿児島 | C70: 鹿児島 | F70: ◎ | G70: 5694 | H70: 6282 | I70: 0.90639924 | J70: -588 | K70: 6508 | L70: 7052 | M70: 0.92285876 | N70: -544 | O70: 0.87492317 | P70: 0.89081112 | Q70: -0.015887946
B71: ANA（全日空）羽田石垣 | C71: 羽田 | D71: - | E71: 石垣 | F71: ◎ | G71: 21415 | H71: 21136 | I71: 1.0132002 | J71: 279 | K71: 22593 | L71: 22272 | M71: 1.0144127 | N71: 321 | O71: 0.94785996 | P71: 0.94899425 | Q71: -0.0011342962
B72: ANA（全日空）羽田宮古 | C72: 羽田 | D72: - | E72: 宮古 | F72: ◎ | G72: 19720 | H72: 17994 | I72: 1.0959209 | J72: 1726 | K72: 20250 | L72: 18485 | M72: 1.0954828 | N72: 1765 | O72: 0.97382716 | P72: 0.97343792 | Q72: 0.00038923785
B73: ANA（全日空）関西石垣 | C73: 関西 | D73: - | E73: 石垣 | F73: ◎ | G73: 5598 | H73: 4163 | I73: 1.3447033 | J73: 1435 | K73: 6014 | L73: 4574 | M73: 1.3148229 | N73: 1440 | O73: 0.93082807 | P73: 0.91014429 | Q73: 0.020683774
B74: ANA（全日空）関西宮古 | C74: 関西 | D74: - | E74: 宮古 | F74: ◎ | G74: 5740 | H74: 8399 | I74: 0.68341469 | J74: -2659 | K74: 6022 | L74: 9574 | M74: 0.6289952 | N74: -3552 | O74: 0.9531717 | P74: 0.87727178 | Q74: 0.075899926
B75: ANA（全日空）伊丹石垣 | C75: 伊丹 | D75: - | E75: 石垣 | F75: ○ | G75: 3786 | H75: 4265 | I75: 0.8876905 | J75: -479 | K75: 4280 | L75: 5146 | M75: 0.83171395 | N75: -866 | O75: 0.88457944 | P75: 0.82879907 | Q75: 0.055780372
B76: ANA（全日空）伊丹宮古 | C76: 伊丹 | D76: - | E76: 宮古 | F76: ○ | H76: 0 | I76: #DIV/0! | J76: 0 | L76: 0 | M76: #DIV/0! | N76: 0 | O76: #DIV/0! | P76: #DIV/0! | Q76: #DIV/0!
B77: ANA（全日空）名古屋石垣 | C77: 名古屋 | D77: - | E77: 石垣 | F77: ◎ | G77: 4944 | H77: 4761 | I77: 1.0384373 | J77: 183 | K77: 5146 | L77: 5146 | M77: 1 | N77: 0 | O77: 0.96074621 | P77: 0.92518461 | Q77: 0.035561601
B78: ANA（全日空）名古屋宮古 | C78: 名古屋 | D78: - | E78: 宮古 | F78: ◎ | G78: 4981 | H78: 4226 | I78: 1.1786559 | J78: 755 | K78: 5146 | L78: 5146 | M78: 1 | N78: 0 | O78: 0.96793626 | P78: 0.82122037 | Q78: 0.1467159
B79: ANA（全日空）福岡石垣 | C79: 福岡 | D79: - | E79: 石垣 | F79: ◎ | H79: 0 | I79: #DIV/0! | J79: 0 | L79: 0 | M79: #DIV/0! | N79: 0 | O79: #DIV/0! | P79: #DIV/0! | Q79: #DIV/0!
B80: ANA（全日空）福岡宮古 | C80: 福岡 | D80: - | E80: 宮古 | F80: ○ | H80: 0 | I80: #DIV/0! | J80: 0 | L80: 0 | M80: #DIV/0! | N80: 0 | O80: #DIV/0! | P80: #DIV/0! | Q80: #DIV/0!
B81: ANA（全日空）沖永良部那覇 | C81: 沖永良部 | D81: - | E81: 那覇 | G81: - | H81: - | I81: - | J81: - | K81: - | L81: - | M81: - | N81: - | O81: - | P81: - | Q81: -
B82: ANA（全日空）奄美那覇 | C82: 奄美 | D82: - | E82: 那覇 | G82: - | H82: - | I82: - | J82: - | K82: - | L82: - | M82: - | N82: - | O82: - | P82: - | Q82: -
B83: SNA（ソラシドエア） | G83: 31414 | H83: 27950 | I83: 1.1239356 | J83: 3464 | K83: 34486 | L83: 30453 | M83: 1.1324336 | N83: 4033 | O83: 0.91092037 | P83: 0.91780777 | Q83: -0.0068873959
B84: SNA（ソラシドエア）羽田 | C84: 羽田 | G84: 14171 | H84: 13712 | I84: 1.0334743 | J84: 459 | K84: 15063 | L84: 14415 | M84: 1.0449532 | N84: 648 | O84: 0.94078205 | P84: 0.95123136 | Q84: -0.010449307
B85: SNA（ソラシドエア）宮崎 | C85: 宮崎 | G85: 1832 | H85: 1312 | I85: 1.3963415 | J85: 520 | K85: 2141 | L85: 1469 | M85: 1.4574541 | N85: 672 | O85: 0.85567492 | P85: 0.89312457 | Q85: -0.037449656
B86: SNA（ソラシドエア）鹿児島 | C86: 鹿児島 | G86: 3863 | H86: 2895 | I86: 1.3343696 | J86: 968 | K86: 4290 | L86: 3047 | M86: 1.4079422 | N86: 1243 | O86: 0.9004662 | P86: 0.95011487 | Q86: -0.049648667
B87: SNA（ソラシドエア）神戸 | C87: 神戸 | G87: 5827 | H87: 4345 | I87: 1.3410817 | J87: 1482 | K87: 6450 | L87: 4862 | M87: 1.3266146 | N87: 1588 | O87: 0.90341085 | P87: 0.89366516 | Q87: 0.0097456943
B88: SNA（ソラシドエア）名古屋 | C88: 名古屋 | G88: 1550 | H88: 1688 | I88: 0.91824645 | J88: -138 | K88: 1675 | L88: 1976 | M88: 0.84767206 | N88: -301 | O88: 0.92537313 | P88: 0.85425101 | Q88: 0.071122122
B89: SNA（ソラシドエア）福岡 | C89: 福岡 | G89: 4171 | H89: 3998 | I89: 1.0432716 | J89: 173 | K89: 4867 | L89: 4684 | M89: 1.0390692 | N89: 183 | O89: 0.8569961 | P89: 0.85354398 | Q89: 0.0034521167
B90: SNA（ソラシドエア）熊本 | C90: 熊本 | H90: 0 | I90: #DIV/0! | J90: 0 | L90: 0 | M90: #DIV/0! | N90: 0 | O90: #DIV/0! | P90: #DIV/0! | Q90: #DIV/0!
B91: SNA（ソラシドエア）長崎 | C91: 長崎 | H91: 0 | I91: #DIV/0! | J91: 0 | L91: 0 | M91: #DIV/0! | N91: 0 | O91: #DIV/0! | P91: #DIV/0! | Q91: #DIV/0!
A92: ｃ | B92: SKY | G92: 95194 | H92: 98020 | I92: 0.97116915 | J92: -2826 | K92: 109563 | L92: 108147 | M92: 1.0130933 | N92: 1416 | O92: 0.86885171 | P92: 0.90635894 | Q92: -0.037507226
B93: SKY羽田 | C93: 羽田 | F93: ◎ | G93: 29616 | H93: 30092 | I93: 0.98418184 | J93: -476 | K93: 32922 | L93: 32037 | M93: 1.0276243 | N93: 885 | O93: 0.89958083 | P93: 0.93928895 | Q93: -0.03970812
B94: SKY成田 | C94: 成田 | H94: 0 | I94: #DIV/0! | J94: 0 | L94: 0 | M94: #DIV/0! | N94: 0 | O94: #DIV/0! | P94: #DIV/0! | Q94: #DIV/0!
B95: SKY福岡 | C95: 福岡 | F95: ◎ | G95: 14701 | H95: 9345 | I95: 1.5731407 | J95: 5356 | K95: 16461 | L95: 10620 | M95: 1.55 | N95: 5841 | O95: 0.89308061 | P95: 0.8799435 | Q95: 0.013137112
B96: SKY関西 | C96: 関西 | H96: 0 | I96: #DIV/0! | J96: 0 | L96: 0 | M96: #DIV/0! | N96: 0 | O96: #DIV/0! | P96: #DIV/0! | Q96: #DIV/0!
B97: SKY神戸 | C97: 神戸 | F97: ◎ | G97: 23285 | H97: 24129 | I97: 0.96502134 | J97: -844 | K97: 27258 | L97: 27258 | M97: 1 | N97: 0 | O97: 0.85424463 | P97: 0.88520801 | Q97: -0.030963387
B98: SKY茨城 | C98: 茨城 | F98: ○ | G98: 4612 | H98: 4864 | I98: 0.94819079 | J98: -252 | K98: 5487 | L98: 5487 | M98: 1 | N98: 0 | O98: 0.84053217 | P98: 0.8864589 | Q98: -0.045926736
B99: SKY北九州 | C99: 北九州 | H99: 0 | I99: #DIV/0! | J99: 0 | L99: 0 | M99: #DIV/0! | N99: 0 | O99: #DIV/0! | P99: #DIV/0! | Q99: #DIV/0!
B100: SKY名古屋 | C100: 名古屋 | F100: ◎ | G100: 9350 | H100: 15054 | I100: 0.62109738 | J100: -5704 | K100: 10974 | L100: 16461 | M100: 0.66666667 | N100: -5487 | O100: 0.85201385 | P100: 0.91452524 | Q100: -0.062511391
...

Sheet ８月月間
A1: ='R７'!A1 -> 令和７年度 | F1: ８月月間 | G1: 航空旅客輸送実績
A2: R7 | B2: （2025）年 | C2: 8
C3: 輸送実績人数 | G3: 提供座席数 | K3: 利用率
C4: 25'8月間 | D4: 24'8月間 | E4: 対前年同月比較 | G4: 25'8月間 | H4: 24'8月間 | I4: 対前年同月比較 | K4: 25'8月間 | L4: 24'8月間 | M4: 対前年 増減
E5: 比率 | F5: 増減数 | I5: 比率 | J5: 増減数
A6: 合 計 | C6: 805895 | D6: 789822 | E6: 1.0203502 | F6: 16073 | G6: 874449 | H6: 873354 | I6: 1.0012538 | J6: 1095 | K6: 0.9216032 | L6: 0.90435494 | M6: 0.017248269
A7: ①＋②＋③＋④＋⑤
A8: ①東京方面（羽田、成田） | C8: 406836 | D8: 400565 | E8: 1.0156554 | F8: 6271 | G8: 432811 | H8: 425722 | I8: 1.0166517 | J8: 7089 | K8: 0.93998535 | L8: 0.94090745 | M8: -0.00092209507
B9: JAL | C9: 149639 | D9: 152247 | E9: 0.98286994 | F9: -2608 | G9: 159408 | H9: 160901 | I9: 0.990721 | J9: -1493 | K9: 0.938717 | L9: 0.94621537 | M9: -0.0074983718
B10: JTA | C10: 0 | D10: 147 | E10: 0 | F10: -147 | G10: 0 | H10: 165 | I10: 0 | J10: -165 | K10: - | L10: 0.89090909 | M10: #VALUE!
B11: ANA | C11: 208732 | D11: 199312 | E11: 1.0472626 | F11: 9420 | G11: 219931 | H11: 212717 | I11: 1.0339136 | J11: 7214 | K11: 0.94907948 | L11: 0.936982 | M11: 0.012097484
B12: SNA | C12: 14171 | D12: 13712 | E12: 1.0334743 | F12: 459 | G12: 15063 | H12: 14415 | I12: 1.0449532 | J12: 648 | K12: 0.94078205 | L12: 0.95123136 | M12: -0.010449307
B13: SKY | C13: 34294 | D13: 35147 | E13: 0.9757305 | F13: -853 | G13: 38409 | H13: 37524 | I13: 1.0235849 | J13: 885 | K13: 0.89286365 | L13: 0.93665387 | M13: -0.043790223
A14: ②関西方面（関西、伊丹、神戸） | C14: 166555 | D14: 159809 | E14: 1.0422129 | F14: 6746 | G14: 181945 | H14: 183998 | I14: 0.98884227 | J14: -2053 | K14: 0.915414 | L14: 0.86853661 | M14: 0.046877384
B15: JAL | C15: 27672 | D15: 25312 | E15: 1.0932364 | F15: 2360 | G15: 28862 | H15: 29357 | I15: 0.9831386 | J15: -495 | K15: 0.95876932 | L15: 0.86221344 | M15: 0.096555875
B16: JTA | C16: 26640 | D16: 21780 | E16: 1.2231405 | F16: 4860 | G16: 28875 | H16: 25575 | I16: 1.1290323 | J16: 3300 | K16: 0.9225974 | L16: 0.8516129 | M16: 0.070984499
B17: ANA | C17: 78747 | D17: 79361 | E17: 0.9922632 | F17: -614 | G17: 85013 | H17: 91459 | I17: 0.92952033 | J17: -6446 | K17: 0.92629363 | L17: 0.86772215 | M17: 0.058571477
B18: SNA | C18: 5827 | D18: 4345 | E18: 1.3410817 | F18: 1482 | G18: 6450 | H18: 4862 | I18: 1.3266146 | J18: 1588 | K18: 0.90341085 | L18: 0.89366516 | M18: 0.0097456943
B19: SKY | C19: 27669 | D19: 29011 | E19: 0.95374168 | F19: -1342 | G19: 32745 | H19: 32745 | I19: 1 | J19: 0 | K19: 0.84498397 | L19: 0.88596732 | M19: -0.040983356
A20: ③福岡方面（福岡、北九州） | C20: 94736 | D20: 89088 | E20: 1.063398 | F20: 5648 | G20: 106335 | H20: 102918 | I20: 1.0332012 | J20: 3417 | K20: 0.89092021 | L20: 0.86562117 | M20: 0.025299031
B21: JAL | C21: 0 | D21: 0 | E21: #DIV/0! | F21: 0 | G21: 0 | H21: 0 | I21: #DIV/0! | J21: 0 | K21: - | L21: - | M21: #VALUE!
B22: JTA | C22: 30132 | D22: 26340 | E22: 1.1439636 | F22: 3792 | G22: 33000 | H22: 29535 | I22: 1.1173184 | J22: 3465 | K22: 0.91309091 | L22: 0.89182326 | M22: 0.021267649
B23: ANA | C23: 41164 | D23: 44806 | E23: 0.91871624 | F23: -3642 | G23: 46520 | H23: 52769 | I23: 0.8815782 | J23: -6249 | K23: 0.88486672 | L23: 0.84909701 | M23: 0.035769716
B24: SNA | C24: 4171 | D24: 3998 | E24: 1.0432716 | F24: 173 | G24: 4867 | H24: 4684 | I24: 1.0390692 | J24: 183 | K24: 0.8569961 | L24: 0.85354398 | M24: 0.0034521167
B25: SKY | C25: 19269 | D25: 13944 | E25: 1.3818847 | F25: 5325 | G25: 21948 | H25: 15930 | I25: 1.3777778 | J25: 6018 | K25: 0.87793876 | L25: 0.87532957 | M25: 0.0026091975
B26: SFJ | C26: 0 | D26: 0 | E26: #DIV/0! | F26: 0 | G26: 0 | H26: 0 | I26: #DIV/0! | J26: 0 | K26: - | L26: － | M26: #VALUE!
A27: ④名古屋方面 | C27: 69658 | D27: 71017 | E27: 0.98086374 | F27: -1359 | G27: 78191 | H27: 81805 | I27: 0.95582177 | J27: -3614 | K27: 0.89086979 | L27: 0.86812542 | M27: 0.022744373
B28: JAL | C28: 0 | D28: 0 | E28: #DIV/0! | F28: 0 | G28: 0 | H28: 0 | I28: #DIV/0! | J28: 0 | K28: - | L28: - | M28: #VALUE!
B29: JTA | C29: 22993 | D29: 25801 | E29: 0.89116701 | F29: -2808 | G29: 25575 | H29: 31185 | I29: 0.82010582 | J29: -5610 | K29: 0.89904203 | L29: 0.82735289 | M29: 0.071689139
B30: ANA | C30: 35765 | D30: 28474 | E30: 1.2560582 | F30: 7291 | G30: 39967 | H30: 32183 | I30: 1.2418668 | J30: 7784 | K30: 0.89486326 | L30: 0.88475282 | M30: 0.010110442
B31: SKY | C31: 9350 | D31: 15054 | E31: 0.62109738 | F31: -5704 | G31: 10974 | H31: 16461 | I31: 0.66666667 | J31: -5487 | K31: 0.85201385 | L31: 0.91452524 | M31: -0.062511391
B32: SNA | C32: 1550 | D32: 1688 | E32: 0.91824645 | F32: -138 | G32: 1675 | H32: 1976 | I32: 0.84767206 | J32: -301 | K32: 0.92537313 | L32: 0.85425101 | M32: 0.071122122
A33: ⑤その他方面 | C33: 68110 | D33: 69343 | E33: 0.98221883 | F33: -1233 | G33: 75167 | H33: 78911 | I33: 0.95255414 | J33: -3744 | K33: 0.90611572 | L33: 0.87874948 | M33: 0.027366238
B34: JAL | C34: 0 | D34: 0 | E34: #DIV/0! | F34: 0 | G34: 0 | H34: 0 | I34: #DIV/0! | J34: 0 | K34: - | L34: - | M34: #VALUE!
B35: JTA | C35: 9064 | D35: 8719 | E35: 1.0395688 | F35: 345 | G35: 10230 | H35: 10230 | I35: 1 | J35: 0 | K35: 0.88602151 | L35: 0.85229717 | M35: 0.03372434
B36: RAC | C36: 2591 | D36: 2880 | E36: 0.89965278 | F36: -289 | G36: 3100 | H36: 3100 | I36: 1 | J36: 0 | K36: 0.83580645 | L36: 0.92903226 | M36: -0.093225806
B37: JAC | C37: 2667 | D37: 2689 | E37: 0.99181852 | F37: -22 | G37: 2880 | H37: 2902 | I37: 0.99241902 | J37: -22 | K37: 0.92604167 | L37: 0.92660234 | M37: -0.00056067654
B38: ANA | C38: 43481 | D38: 45984 | E38: 0.94556802 | F38: -2503 | G38: 47039 | H38: 52676 | I38: 0.89298732 | J38: -5637 | K38: 0.92436064 | L38: 0.87295922 | M38: 0.051401415
B39: SNA | C39: 5695 | D39: 4207 | E39: 1.3536962 | F39: 1488 | G39: 6431 | H39: 4516 | I39: 1.4240478 | J39: 1915 | K39: 0.88555435 | L39: 0.93157662 | M39: -0.04602227
B40: SKY | C40: 4612 | D40: 4864 | E40: 0.94819079 | F40: -252 | G40: 5487 | H40: 5487 | I40: 1 | J40: 0 | K40: 0.84053217 | L40: 0.8864589 | M40: -0.045926736
B41: 第一航空 | C41: 0 | D41: 0 | E41: #DIV/0! | F41: 0 | G41: 0 | H41: 0 | I41: #DIV/0! | J41: 0 | K41: - | L41: - | M41: #VALUE!

Sheet ９月（月間）
A1: ='R７'!A1 -> 令和７年度 | J1: =RIGHT(CELL("filename",$A$1),LEN(CELL("filename",$A$1))-FIND("]",CELL("filename",$A$1))) -> ９月（月間） | K1: 航空旅客輸送実績
A2: 7 | C2: 2025 | D2: 年 | E2: 9 | F2: 月 | G2: 輸送実績（旅客実績） | K2: 提供座席 | O2: 利用率
A3: キャリア・路線 | G3: 25'9/1-9/30 | H3: 24'9/1-9/30 (前年同月) | I3: 対前年同月比 | K3: 25'9/1-9/30 | L3: 24'9/1-9/30 (前年同月) | M3: 対前年同月比 | O3: 25'9/1-9/30 | P3: 24'9/1-9/30 (前年同月) | Q3: 増減数
I4: 比率 | J4: 増減数 | M4: 比率 | N4: 増減数
A5: 合計 a+b+c+d+e | G5: 701849 | H5: 639007 | I5: 1.0983432 | J5: 62842 | K5: 801000 | L5: 803136 | M5: 0.99734043 | N5: -2136 | O5: 0.87621598 | P5: 0.79563984 | Q5: 0.080576138
A6: a | B6: JAL + JTA + RAC+JAC | G6: 243761 | H6: 209269 | I6: 1.1648214 | J6: 34492 | K6: 268976 | L6: 261016 | M6: 1.0304962 | N6: 7960 | O6: 0.90625558 | P6: 0.80174779 | Q6: 0.10450779
B7: JAL（日本航空） | G7: 167592 | H7: 144485 | I7: 1.1599266 | J7: 23107 | K7: 178909 | L7: 172776 | M7: 1.0354968 | N7: 6133 | O7: 0.93674438 | P7: 0.83625619 | Q7: 0.10048819
B8: JAL（日本航空）羽田 | C8: 羽田 | F8: ◎ | G8: 124052 | H8: 107492 | I8: 1.154058 | J8: 16560 | K8: 132508 | L8: 126315 | M8: 1.0490282 | N8: 6193 | O8: 0.93618499 | P8: 0.85098365 | Q8: 0.085201333
B9: JAL（日本航空）伊丹 | C9: 伊丹 | F9: ◎ | G9: 22298 | H9: 18501 | I9: 1.2052321 | J9: 3797 | K9: 23460 | L9: 23460 | M9: 1 | N9: 0 | O9: 0.95046888 | P9: 0.78861893 | Q9: 0.16184996
B10: JAL（日本航空）関西 | C10: 関西 | G10: 0 | H10: 0 | I10: #DIV/0! | J10: 0 | K10: 0 | L10: 0 | M10: #DIV/0! | N10: 0 | O10: #DIV/0! | P10: #DIV/0! | Q10: #DIV/0!
B11: JAL（日本航空）福岡 | C11: 福岡 | G11: 0 | H11: 0 | I11: #DIV/0! | J11: 0 | K11: 0 | L11: 0 | M11: #DIV/0! | N11: 0 | O11: #DIV/0! | P11: #DIV/0! | Q11: #DIV/0!
B12: JAL（日本航空）名古屋 | C12: 名古屋 | G12: 0 | H12: 0 | I12: #DIV/0! | J12: 0 | K12: 0 | L12: 0 | M12: #DIV/0! | N12: 0 | O12: #DIV/0! | P12: #DIV/0! | Q12: #DIV/0!
B13: JAL（日本航空）成田 | C13: 成田 | G13: 0 | H13: 0 | I13: #DIV/0! | J13: 0 | K13: 0 | L13: 0 | M13: #DIV/0! | N13: 0 | O13: #DIV/0! | P13: #DIV/0! | Q13: #DIV/0!
B14: JAL（日本航空）仙台 | C14: 仙台 | G14: 0 | H14: 0 | I14: #DIV/0! | J14: 0 | K14: 0 | L14: 0 | M14: #DIV/0! | N14: 0 | O14: #DIV/0! | P14: #DIV/0! | Q14: #DIV/0!
B15: JAL（日本航空）神戸 | C15: 神戸 | G15: 0 | H15: 0 | I15: #DIV/0! | J15: 0 | K15: 0 | L15: 0 | M15: #DIV/0! | N15: 0 | O15: #DIV/0! | P15: #DIV/0! | Q15: #DIV/0!
B16: JAL（日本航空）花巻 | C16: 花巻 | G16: 0 | H16: 0 | I16: #DIV/0! | J16: 0 | K16: 0 | L16: 0 | M16: #DIV/0! | N16: 0 | O16: #DIV/0! | P16: #DIV/0! | Q16: #DIV/0!
B17: JAL（日本航空）羽田石垣 | C17: 羽田 | D17: - | E17: 石垣 | G17: 13665 | H17: 11556 | I17: 1.1825026 | J17: 2109 | K17: 15120 | L17: 15198 | M17: 0.99486775 | N17: -78 | O17: 0.90376984 | P17: 0.76036321 | Q17: 0.14340664
B18: JAL（日本航空）羽田宮古 | C18: 羽田 | D18: - | E18: 宮古 | G18: 7577 | H18: 6936 | I18: 1.0924164 | J18: 641 | K18: 7821 | L18: 7803 | M18: 1.0023068 | N18: 18 | O18: 0.96880194 | P18: 0.88888889 | Q18: 0.079913055
B19: JAL（日本航空）羽田久米島 | C19: 羽田 | D19: - | E19: 久米島 | G19: 0 | H19: 0 | I19: #DIV/0! | J19: 0 | K19: 0 | L19: 0 | M19: #DIV/0! | N19: 0 | O19: #DIV/0! | P19: #DIV/0! | Q19: #DIV/0!
B20: JAL（日本航空）沖永良部 | C20: 沖永良部 | G20: 0 | H20: 0 | I20: #DIV/0! | J20: 0 | K20: 0 | L20: 0 | M20: #DIV/0! | N20: 0 | O20: #DIV/0! | P20: #DIV/0! | Q20: #DIV/0!
B21: JTA（日本トランスオーシャン航空） | G21: 72407 | H21: 61172 | I21: 1.1836625 | J21: 11235 | K21: 85635 | L21: 84150 | M21: 1.0176471 | N21: 1485 | O21: 0.84553045 | P21: 0.72693999 | Q21: 0.11859046
B22: JTA（日本トランスオーシャン航空）羽田 | C22: 羽田 | G22: 0 | H22: 0 | I22: #DIV/0! | J22: 0 | K22: 0 | L22: 0 | M22: #DIV/0! | N22: 0 | O22: #DIV/0! | P22: #DIV/0! | Q22: #DIV/0!
B23: JTA（日本トランスオーシャン航空）関西 | C23: 関西 | F23: ◎ | G23: 13385 | H23: 9949 | I23: 1.3453613 | J23: 3436 | K23: 14850 | L23: 14850 | M23: 1 | N23: 0 | O23: 0.9013468 | P23: 0.66996633 | Q23: 0.23138047
B24: JTA（日本トランスオーシャン航空）福岡 | C24: 福岡 | F24: ◎ | G24: 24828 | H24: 20086 | I24: 1.2360848 | J24: 4742 | K24: 29535 | L24: 29370 | M24: 1.005618 | N24: 165 | O24: 0.84062976 | P24: 0.68389513 | Q24: 0.15673463
B25: JTA（日本トランスオーシャン航空）羽田石垣 | C25: 羽田 | D25: - | E25: 石垣 | F25: ◎ | G25: 0 | H25: 0 | I25: #DIV/0! | J25: 0 | K25: 0 | L25: 0 | M25: #DIV/0! | N25: 0 | O25: #DIV/0! | P25: #DIV/0! | Q25: #DIV/0!
B26: JTA（日本トランスオーシャン航空）羽田宮古 | C26: 羽田 | D26: - | E26: 宮古 | F26: ◎ | G26: 0 | H26: 0 | I26: #DIV/0! | J26: 0 | K26: 0 | L26: 0 | M26: #DIV/0! | N26: 0 | O26: #DIV/0! | P26: #DIV/0! | Q26: #DIV/0!
B27: JTA（日本トランスオーシャン航空）羽田久米島 | C27: 羽田 | D27: - | E27: 久米島 | F27: ○ | G27: 0 | H27: 0 | I27: #DIV/0! | J27: 0 | K27: 0 | L27: 0 | M27: #DIV/0! | N27: 0 | O27: #DIV/0! | P27: #DIV/0! | Q27: #DIV/0!
B28: JTA（日本トランスオーシャン航空）関西石垣 | C28: 関西 | D28: - | E28: 石垣 | F28: ◎ | G28: 4371 | H28: 4048 | I28: 1.0797925 | J28: 323 | K28: 4950 | L28: 4950 | M28: 1 | N28: 0 | O28: 0.8830303 | P28: 0.81777778 | Q28: 0.065252525
B29: JTA（日本トランスオーシャン航空）関西宮古 | C29: 関西 | D29: - | E29: 宮古 | G29: 4334 | H29: 4378 | I29: 0.98994975 | J29: -44 | K29: 4950 | L29: 4950 | M29: 1 | N29: 0 | O29: 0.87555556 | P29: 0.88444444 | Q29: -0.0088888889
B30: JTA（日本トランスオーシャン航空）神戸石垣 | C30: 神戸 | D30: - | E30: 石垣 | G30: 0 | H30: 0 | I30: #DIV/0! | J30: 0 | K30: 0 | L30: 0 | M30: #DIV/0! | N30: 0 | O30: #DIV/0! | P30: #DIV/0! | Q30: #DIV/0!
B31: JTA（日本トランスオーシャン航空）名古屋石垣 | C31: 名古屋 | D31: - | E31: 石垣 | G31: 0 | H31: 0 | I31: #DIV/0! | J31: 0 | K31: 0 | L31: 0 | M31: #DIV/0! | N31: 0 | O31: #DIV/0! | P31: #DIV/0! | Q31: #DIV/0!
B32: JTA（日本トランスオーシャン航空）名古屋宮古 | C32: 名古屋 | D32: - | E32: 宮古 | G32: 0 | H32: 0 | I32: #DIV/0! | J32: 0 | K32: 0 | L32: 0 | M32: #DIV/0! | N32: 0 | O32: #DIV/0! | P32: #DIV/0! | Q32: #DIV/0!
B33: JTA（日本トランスオーシャン航空）仙台 | C33: 仙台 | G33: 0 | H33: 0 | I33: #DIV/0! | J33: 0 | K33: 0 | L33: 0 | M33: #DIV/0! | N33: 0 | O33: #DIV/0! | P33: #DIV/0! | Q33: #DIV/0!
B34: JTA（日本トランスオーシャン航空）松山 | C34: 松山 | G34: 0 | H34: 0 | I34: #DIV/0! | J34: 0 | K34: 0 | L34: 0 | M34: #DIV/0! | N34: 0 | O34: #DIV/0! | P34: #DIV/0! | Q34: #DIV/0!
B35: JTA（日本トランスオーシャン航空）高知 | C35: 高知 | G35: 0 | H35: 0 | I35: #DIV/0! | J35: 0 | K35: 0 | L35: 0 | M35: #DIV/0! | N35: 0 | O35: #DIV/0! | P35: #DIV/0! | Q35: #DIV/0!
B36: JTA（日本トランスオーシャン航空）岡山 | C36: 岡山 | F36: ◎ | G36: 4230 | H36: 3862 | I36: 1.0952874 | J36: 368 | K36: 4950 | L36: 4950 | M36: 1 | N36: 0 | O36: 0.85454545 | P36: 0.78020202 | Q36: 0.074343434
B37: JTA（日本トランスオーシャン航空）福島 | C37: 福島 | G37: 0 | H37: 0 | I37: #DIV/0! | J37: 0 | K37: 0 | L37: 0 | M37: #DIV/0! | N37: 0 | O37: #DIV/0! | P37: #DIV/0! | Q37: #DIV/0!
B38: JTA（日本トランスオーシャン航空）小松 | C38: 小松 | F38: ◎ | G38: 3648 | H38: 3365 | I38: 1.084101 | J38: 283 | K38: 4950 | L38: 4950 | M38: 1 | N38: 0 | O38: 0.7369697 | P38: 0.67979798 | Q38: 0.057171717
B39: JTA（日本トランスオーシャン航空）北九州 | C39: 北九州 | G39: 0 | H39: 0 | I39: #DIV/0! | J39: 0 | K39: 0 | L39: 0 | M39: #DIV/0! | N39: 0 | O39: #DIV/0! | P39: #DIV/0! | Q39: #DIV/0!
B40: JTA（日本トランスオーシャン航空）神戸 | C40: 神戸 | G40: 0 | H40: 0 | I40: #DIV/0! | J40: 0 | K40: 0 | L40: 0 | M40: #DIV/0! | N40: 0 | O40: #DIV/0! | P40: #DIV/0! | Q40: #DIV/0!
B41: JTA（日本トランスオーシャン航空）名古屋 | C41: 名古屋 | F41: ◎ | G41: 17611 | H41: 15484 | I41: 1.1373676 | J41: 2127 | K41: 21450 | L41: 20130 | M41: 1.0655738 | N41: 1320 | O41: 0.82102564 | P41: 0.7692002 | Q41: 0.051825442
B42: RAC | G42: 1371 | H42: 1343 | I42: 1.0208488 | J42: 28 | K42: 1600 | L42: 1450 | M42: 1.1034483 | N42: 150 | O42: 0.856875 | P42: 0.9262069 | Q42: -0.069331897
B43: RAC与論 | C43: 与論 | F43: ◎ | G43: 1371 | H43: 1343 | I43: 1.0208488 | J43: 28 | K43: 1600 | L43: 1450 | M43: 1.1034483 | N43: 150 | O43: 0.856875 | P43: 0.9262069 | Q43: -0.069331897
B44: RAC奄美 | C44: 奄美 | F44: ◎ | H44: 0 | I44: #DIV/0! | J44: 0 | L44: 0 | M44: #DIV/0! | N44: 0 | O44: #DIV/0! | P44: #DIV/0! | Q44: #DIV/0!
B45: JAC | G45: 2391 | H45: 2269 | I45: 1.0537682 | J45: 122 | K45: 2832 | L45: 2640 | M45: 1.0727273 | N45: 192 | O45: 0.84427966 | P45: 0.8594697 | Q45: -0.015190036
B46: JAC沖永良部 | C46: 沖永良部 | F46: ◎ | G46: 1017 | H46: 993 | I46: 1.0241692 | J46: 24 | K46: 1392 | L46: 1296 | M46: 1.0740741 | N46: 96 | O46: 0.73060345 | P46: 0.7662037 | Q46: -0.035600255
B47: JAC与論 | C47: 与論 | F47: ◎ | G47: 1374 | H47: 1276 | I47: 1.0768025 | J47: 98 | K47: 1440 | L47: 1344 | M47: 1.0714286 | N47: 96 | O47: 0.95416667 | P47: 0.94940476 | Q47: 0.0047619048
B48: JAC奄美 | C48: 奄美 | H48: 0 | I48: #DIV/0! | J48: 0 | L48: 0 | M48: #DIV/0! | N48: 0 | O48: #DIV/0! | P48: #DIV/0! | Q48: #DIV/0!
A49: b | B49: ANA + SNA | G49: 375079 | H49: 343804 | I49: 1.0909675 | J49: 31275 | K49: 431134 | L49: 441230 | M49: 0.97711851 | N49: -10096 | O49: 0.86998242 | P49: 0.77919452 | Q49: 0.090787894
B50: ANA（全日空） | G50: 345951 | H50: 319820 | I50: 1.0817053 | J50: 26131 | K50: 397724 | L50: 412026 | M50: 0.9652886 | N50: -14302 | O50: 0.86982681 | P50: 0.77621315 | Q50: 0.093613663
B51: ANA（全日空）羽田 | C51: 羽田 | F51: ◎ | G51: 147931 | H51: 135888 | I51: 1.0886245 | J51: 12043 | K51: 167059 | L51: 162875 | M51: 1.0256884 | N51: 4184 | O51: 0.88550153 | P51: 0.83430852 | Q51: 0.051193011
B52: ANA（全日空）伊丹 | C52: 伊丹 | F52: ◎ | G52: 32792 | H52: 27363 | I52: 1.1984066 | J52: 5429 | K52: 35273 | L52: 34259 | M52: 1.0295981 | N52: 1014 | O52: 0.92966291 | P52: 0.79870983 | Q52: 0.13095309
B53: ANA（全日空）関西 | C53: 関西 | F53: ◎ | G53: 13414 | H53: 13887 | I53: 0.96593937 | J53: -473 | K53: 16370 | L53: 19754 | M53: 0.82869292 | N53: -3384 | O53: 0.81942578 | P53: 0.70299686 | Q53: 0.11642892
B54: ANA（全日空）神戸 | C54: 神戸 | F54: ◎ | G54: 7743 | H54: 6606 | I54: 1.1721163 | J54: 1137 | K54: 9466 | L54: 10991 | M54: 0.86125011 | N54: -1525 | O54: 0.81798014 | P54: 0.60103721 | Q54: 0.21694293
B55: ANA（全日空）名古屋 | C55: 名古屋 | F55: ◎ | G55: 15129 | H55: 11834 | I55: 1.278435 | J55: 3295 | K55: 18880 | L55: 14751 | M55: 1.2799132 | N55: 4129 | O55: 0.80132415 | P55: 0.80225069 | Q55: -0.00092654233
B56: ANA（全日空）福岡 | C56: 福岡 | F56: ◎ | G56: 34460 | H56: 32145 | I56: 1.0720174 | J56: 2315 | K56: 45170 | L56: 52843 | M56: 0.85479628 | N56: -7673 | O56: 0.76289573 | P56: 0.60831141 | Q56: 0.15458431
B57: ANA（全日空）成田 | C57: 成田 | F57: ◎ | G57: 0 | H57: 0 | I57: #DIV/0! | J57: 0 | K57: 0 | L57: 0 | M57: #DIV/0! | N57: 0 | O57: #DIV/0! | P57: #DIV/0! | Q57: #DIV/0!
B58: ANA（全日空）札幌 | C58: 札幌 | F58: ◎ | G58: 0 | H58: 0 | I58: #DIV/0! | J58: 0 | K58: 0 | L58: 0 | M58: #DIV/0! | N58: 0 | O58: #DIV/0! | P58: #DIV/0! | Q58: #DIV/0!
B59: ANA（全日空）仙台 | C59: 仙台 | F59: ◎ | G59: 5421 | H59: 5854 | I59: 0.92603348 | J59: -433 | K59: 5819 | L59: 7827 | M59: 0.74345215 | N59: -2008 | O59: 0.93160337 | P59: 0.74792385 | Q59: 0.18367951
B60: ANA（全日空）新潟 | C60: 新潟 | F60: ○ | G60: 0 | H60: 0 | I60: #DIV/0! | J60: 0 | K60: 0 | L60: 0 | M60: #DIV/0! | N60: 0 | O60: #DIV/0! | P60: #DIV/0! | Q60: #DIV/0!
B61: ANA（全日空）静岡 | C61: 静岡 | F61: ◎ | G61: 3719 | H61: 2862 | I61: 1.299441 | J61: 857 | K61: 4980 | L61: 4980 | M61: 1 | N61: 0 | O61: 0.74678715 | P61: 0.5746988 | Q61: 0.17208835
B62: ANA（全日空）広島 | C62: 広島 | F62: ◎ | G62: 5418 | H62: 5274 | I62: 1.0273038 | J62: 144 | K62: 5820 | L62: 5820 | M62: 1 | N62: 0 | O62: 0.93092784 | P62: 0.90618557 | Q62: 0.024742268
B63: ANA（全日空）岩国 | C63: 岩国 | F63: ○ | G63: 4092 | H63: 3723 | I63: 1.0991136 | J63: 369 | K63: 4980 | L63: 4980 | M63: 1 | N63: 0 | O63: 0.82168675 | P63: 0.74759036 | Q63: 0.074096386
B64: ANA（全日空）高松 | C64: 高松 | F64: ◎ | G64: 4152 | H64: 4136 | I64: 1.0038685 | J64: 16 | K64: 4978 | L64: 8030 | M64: 0.61992528 | N64: -3052 | O64: 0.83406991 | P64: 0.51506849 | Q64: 0.31900141
B65: ANA（全日空）松山 | C65: 松山 | F65: ◎ | G65: 4333 | H65: 3862 | I65: 1.1219575 | J65: 471 | K65: 4980 | L65: 4980 | M65: 1 | N65: 0 | O65: 0.87008032 | P65: 0.77550201 | Q65: 0.094578313
B66: ANA（全日空）北九州 | C66: 北九州 | F66: ○ | G66: 0 | H66: 0 | I66: #DIV/0! | J66: 0 | K66: 0 | L66: 0 | M66: #DIV/0! | N66: 0 | O66: #DIV/0! | P66: #DIV/0! | Q66: #DIV/0!
B67: ANA（全日空）熊本 | C67: 熊本 | F67: ◎ | G67: 4464 | H67: 3813 | I67: 1.1707317 | J67: 651 | K67: 4979 | L67: 4979 | M67: 1 | N67: 0 | O67: 0.89656558 | P67: 0.76581643 | Q67: 0.13074915
B68: ANA（全日空）長崎 | C68: 長崎 | F68: ◎ | G68: 0 | H68: 0 | I68: #DIV/0! | J68: 0 | K68: 0 | L68: 0 | M68: #DIV/0! | N68: 0 | O68: #DIV/0! | P68: #DIV/0! | Q68: #DIV/0!
B69: ANA（全日空）宮崎 | C69: 宮崎 | F69: ◎ | G69: 2237 | H69: 2338 | I69: 0.95680068 | J69: -101 | K69: 3150 | L69: 3655 | M69: 0.86183311 | N69: -505 | O69: 0.71015873 | P69: 0.63967168 | Q69: 0.070487048
B70: ANA（全日空）鹿児島 | C70: 鹿児島 | F70: ◎ | G70: 4653 | H70: 5229 | I70: 0.88984509 | J70: -576 | K70: 6193 | L70: 7318 | M70: 0.84626947 | N70: -1125 | O70: 0.75133215 | P70: 0.71453949 | Q70: 0.036792658
B71: ANA（全日空）羽田石垣 | C71: 羽田 | D71: - | E71: 石垣 | F71: ◎ | G71: 18375 | H71: 19147 | I71: 0.95968037 | J71: -772 | K71: 19840 | L71: 22106 | M71: 0.89749389 | N71: -2266 | O71: 0.92615927 | P71: 0.86614494 | Q71: 0.060014336
B72: ANA（全日空）羽田宮古 | C72: 羽田 | D72: - | E72: 宮古 | F72: ◎ | G72: 17606 | H72: 16745 | I72: 1.0514183 | J72: 861 | K72: 18215 | L72: 18150 | M72: 1.0035813 | N72: 65 | O72: 0.96656602 | P72: 0.92258953 | Q72: 0.043976485
B73: ANA（全日空）関西石垣 | C73: 関西 | D73: - | E73: 石垣 | F73: ◎ | G73: 5133 | H73: 3571 | I73: 1.4374125 | J73: 1562 | K73: 5792 | L73: 4380 | M73: 1.3223744 | N73: 1412 | O73: 0.88622238 | P73: 0.8152968 | Q73: 0.070925572
B74: ANA（全日空）関西宮古 | C74: 関西 | D74: - | E74: 宮古 | F74: ◎ | G74: 5556 | H74: 7070 | I74: 0.78585573 | J74: -1514 | K74: 5820 | L74: 9388 | M74: 0.61994035 | N74: -3568 | O74: 0.95463918 | P74: 0.75308905 | Q74: 0.20155013
B75: ANA（全日空）伊丹石垣 | C75: 伊丹 | D75: - | E75: 石垣 | F75: ○ | G75: 0 | H75: 0 | I75: #DIV/0! | J75: 0 | K75: 0 | L75: 0 | M75: #DIV/0! | N75: 0 | O75: #DIV/0! | P75: #DIV/0! | Q75: #DIV/0!
B76: ANA（全日空）伊丹宮古 | C76: 伊丹 | D76: - | E76: 宮古 | F76: ○ | G76: 0 | H76: 0 | I76: #DIV/0! | J76: 0 | K76: 0 | L76: 0 | M76: #DIV/0! | N76: 0 | O76: #DIV/0! | P76: #DIV/0! | Q76: #DIV/0!
B77: ANA（全日空）名古屋石垣 | C77: 名古屋 | D77: - | E77: 石垣 | F77: ◎ | G77: 4571 | H77: 4244 | I77: 1.07705 | J77: 327 | K77: 4980 | L77: 4980 | M77: 1 | N77: 0 | O77: 0.91787149 | P77: 0.85220884 | Q77: 0.065662651
B78: ANA（全日空）名古屋宮古 | C78: 名古屋 | D78: - | E78: 宮古 | F78: ◎ | G78: 4752 | H78: 4229 | I78: 1.1236699 | J78: 523 | K78: 4980 | L78: 4980 | M78: 1 | N78: 0 | O78: 0.95421687 | P78: 0.84919679 | Q78: 0.10502008
B79: ANA（全日空）福岡石垣 | C79: 福岡 | D79: - | E79: 石垣 | F79: ◎ | G79: 0 | H79: 0 | I79: #DIV/0! | J79: 0 | K79: 0 | L79: 0 | M79: #DIV/0! | N79: 0 | O79: #DIV/0! | P79: #DIV/0! | Q79: #DIV/0!
B80: ANA（全日空）福岡宮古 | C80: 福岡 | D80: - | E80: 宮古 | F80: ○ | G80: 0 | H80: 0 | I80: #DIV/0! | J80: 0 | K80: 0 | L80: 0 | M80: #DIV/0! | N80: 0 | O80: #DIV/0! | P80: #DIV/0! | Q80: #DIV/0!
B81: ANA（全日空）沖永良部那覇 | C81: 沖永良部 | D81: - | E81: 那覇 | G81: - | H81: - | I81: - | J81: - | K81: - | L81: - | M81: - | N81: - | O81: - | P81: - | Q81: -
B82: ANA（全日空）奄美那覇 | C82: 奄美 | D82: - | E82: 那覇 | G82: - | H82: - | I82: - | J82: - | K82: - | L82: - | M82: - | N82: - | O82: - | P82: - | Q82: -
B83: SNA（ソラシドエア） | G83: 29128 | H83: 23984 | I83: 1.2144763 | J83: 5144 | K83: 33410 | L83: 29204 | M83: 1.1440214 | N83: 4206 | O83: 0.87183478 | P83: 0.82125736 | Q83: 0.050577418
B84: SNA（ソラシドエア）羽田 | C84: 羽田 | G84: 13533 | H84: 12616 | I84: 1.0726855 | J84: 917 | K84: 14708 | L84: 14198 | M84: 1.0359206 | N84: 510 | O84: 0.9201115 | P84: 0.88857586 | Q84: 0.031535648
B85: SNA（ソラシドエア）宮崎 | C85: 宮崎 | G85: 1549 | H85: 1255 | I85: 1.2342629 | J85: 294 | K85: 2076 | L85: 1571 | M85: 1.3214513 | N85: 505 | O85: 0.74614644 | P85: 0.79885423 | Q85: -0.052707798
B86: SNA（ソラシドエア）鹿児島 | C86: 鹿児島 | G86: 3222 | H86: 2689 | I86: 1.1982149 | J86: 533 | K86: 4079 | L86: 3130 | M86: 1.3031949 | N86: 949 | O86: 0.78989949 | P86: 0.85910543 | Q86: -0.069205946
B87: SNA（ソラシドエア）神戸 | C87: 神戸 | G87: 5658 | H87: 3699 | I87: 1.5296026 | J87: 1959 | K87: 6218 | L87: 4683 | M87: 1.3277813 | N87: 1535 | O87: 0.90993889 | P87: 0.78987828 | Q87: 0.1200606
B88: SNA（ソラシドエア）名古屋 | C88: 名古屋 | G88: 1299 | H88: 891 | I88: 1.4579125 | J88: 408 | K88: 1620 | L88: 1081 | M88: 1.4986124 | N88: 539 | O88: 0.80185185 | P88: 0.82423682 | Q88: -0.022384966
B89: SNA（ソラシドエア）福岡 | C89: 福岡 | G89: 3867 | H89: 2834 | I89: 1.3645025 | J89: 1033 | K89: 4709 | L89: 4541 | M89: 1.0369963 | N89: 168 | O89: 0.82119346 | P89: 0.62409161 | Q89: 0.19710185
B90: SNA（ソラシドエア）熊本 | C90: 熊本 | G90: 0 | H90: 0 | I90: #DIV/0! | J90: 0 | K90: 0 | L90: 0 | M90: #DIV/0! | N90: 0 | O90: #DIV/0! | P90: #DIV/0! | Q90: #DIV/0!
B91: SNA（ソラシドエア）長崎 | C91: 長崎 | G91: 0 | H91: 0 | I91: #DIV/0! | J91: 0 | K91: 0 | L91: 0 | M91: #DIV/0! | N91: 0 | O91: #DIV/0! | P91: #DIV/0! | Q91: #DIV/0!
A92: ｃ | B92: SKY | G92: 83009 | H92: 85934 | I92: 0.96596225 | J92: -2925 | K92: 100890 | L92: 100890 | M92: 1 | N92: 0 | O92: 0.82276737 | P92: 0.85175934 | Q92: -0.028991971
B93: SKY羽田 | C93: 羽田 | F93: ◎ | G93: 27016 | H93: 28597 | I93: 0.94471448 | J93: -1581 | K93: 31860 | L93: 31860 | M93: 1 | N93: 0 | O93: 0.84795982 | P93: 0.89758318 | Q93: -0.049623352
B94: SKY成田 | C94: 成田 | G94: 0 | H94: 0 | I94: #DIV/0! | J94: 0 | K94: 0 | L94: 0 | M94: #DIV/0! | N94: 0 | O94: #DIV/0! | P94: #DIV/0! | Q94: #DIV/0!
B95: SKY福岡 | C95: 福岡 | F95: ◎ | G95: 13205 | H95: 12274 | I95: 1.0758514 | J95: 931 | K95: 15930 | L95: 15930 | M95: 1 | N95: 0 | O95: 0.82893911 | P95: 0.77049592 | Q95: 0.058443189
B96: SKY関西 | C96: 関西 | G96: 0 | H96: 0 | I96: #DIV/0! | J96: 0 | K96: 0 | L96: 0 | M96: #DIV/0! | N96: 0 | O96: #DIV/0! | P96: #DIV/0! | Q96: #DIV/0!
B97: SKY神戸 | C97: 神戸 | F97: ◎ | G97: 17594 | H97: 17921 | I97: 0.98175325 | J97: -327 | K97: 21240 | L97: 21240 | M97: 1 | N97: 0 | O97: 0.82834275 | P97: 0.84373823 | Q97: -0.01539548
B98: SKY茨城 | C98: 茨城 | F98: ○ | G98: 4286 | H98: 3849 | I98: 1.113536 | J98: 437 | K98: 5310 | L98: 5310 | M98: 1 | N98: 0 | O98: 0.80715631 | P98: 0.72485876 | Q98: 0.082297552
B99: SKY北九州 | C99: 北九州 | G99: 0 | H99: 0 | I99: #DIV/0! | J99: 0 | K99: 0 | L99: 0 | M99: #DIV/0! | N99: 0 | O99: #DIV/0! | P99: #DIV/0! | Q99: #DIV/0!
B100: SKY名古屋 | C100: 名古屋 | F100: ◎ | G100: 8083 | H100: 14437 | I100: 0.55988086 | J100: -6354 | K100: 10620 | L100: 15930 | M100: 0.66666667 | N100: -5310 | O100: 0.76111111 | P100: 0.90627746 | Q100: -0.14516635
...

Sheet ９月月間
A1: ='R７'!A1 -> 令和７年度 | F1: =RIGHT(CELL("filename",$A$1),LEN(CELL("filename",$A$1))-FIND("]",CELL("filename",$A$1))) -> ９月月間 | G1: 航空旅客輸送実績
A2: R7 | B2: （2025）年 | C2: 9
C3: 輸送実績人数 | G3: 提供座席数 | K3: 利用率
C4: 25'9月間 | D4: 24'9月間 | E4: 対前年同月比較 | G4: 25'9月間 | H4: 24'9月間 | I4: 対前年同月比較 | K4: 25'9月間 | L4: 24'9月間 | M4: 対前年 増減
E5: 比率 | F5: 増減数 | I5: 比率 | J5: 増減数
A6: 合 計 | C6: 701849 | D6: 639007 | E6: 1.0983432 | F6: 62842 | G6: 801000 | H6: 803136 | I6: 0.99734043 | J6: -2136 | K6: 0.87621598 | L6: 0.79563984 | M6: 0.080576138
A7: ①＋②＋③＋④＋⑤
A8: ①東京方面（羽田、成田） | C8: 374391 | D8: 343471 | E8: 1.0900222 | F8: 30920 | G8: 412441 | H8: 403815 | I8: 1.0213613 | J8: 8626 | K8: 0.90774438 | L8: 0.85056523 | M8: 0.057179146
B9: JAL | C9: 145294 | D9: 125984 | E9: 1.1532734 | F9: 19310 | G9: 155449 | H9: 149316 | I9: 1.041074 | J9: 6133 | K9: 0.93467311 | L9: 0.84374079 | M9: 0.090932317
B10: JTA | C10: 0 | D10: 0 | E10: #DIV/0! | F10: 0 | G10: 0 | H10: 0 | I10: #DIV/0! | J10: 0 | K10: - | L10: - | M10: #VALUE!
B11: ANA | C11: 183912 | D11: 171780 | E11: 1.0706252 | F11: 12132 | G11: 205114 | H11: 203131 | I11: 1.0097622 | J11: 1983 | K11: 0.89663309 | L11: 0.84566117 | M11: 0.050971918
B12: SNA | C12: 13533 | D12: 12616 | E12: 1.0726855 | F12: 917 | G12: 14708 | H12: 14198 | I12: 1.0359206 | J12: 510 | K12: 0.9201115 | L12: 0.88857586 | M12: 0.031535648
B13: SKY | C13: 31652 | D13: 33091 | E13: 0.95651386 | F13: -1439 | G13: 37170 | H13: 37170 | I13: 1 | J13: 0 | K13: 0.85154695 | L13: 0.89026096 | M13: -0.038714017
A14: ②関西方面（関西、伊丹、神戸） | C14: 136665 | D14: 121355 | E14: 1.1261588 | F14: 15310 | G14: 153699 | H14: 158215 | I14: 0.97145656 | J14: -4516 | K14: 0.88917299 | L14: 0.76702588 | M14: 0.12214711
B15: JAL | C15: 22298 | D15: 18501 | E15: 1.2052321 | F15: 3797 | G15: 23460 | H15: 23460 | I15: 1 | J15: 0 | K15: 0.95046888 | L15: 0.78861893 | M15: 0.16184996
B16: JTA | C16: 22090 | D16: 18375 | E16: 1.2021769 | F16: 3715 | G16: 24750 | H16: 24750 | I16: 1 | J16: 0 | K16: 0.89252525 | L16: 0.74242424 | M16: 0.15010101
B17: ANA | C17: 64638 | D17: 58497 | E17: 1.1049797 | F17: 6141 | G17: 72721 | H17: 78772 | I17: 0.92318336 | J17: -6051 | K17: 0.88884916 | L17: 0.74261159 | M17: 0.14623758
B18: SNA | C18: 5658 | D18: 3699 | E18: 1.5296026 | F18: 1959 | G18: 6218 | H18: 4683 | I18: 1.3277813 | J18: 1535 | K18: 0.90993889 | L18: 0.78987828 | M18: 0.1200606
B19: SKY | C19: 21981 | D19: 22283 | E19: 0.98644707 | F19: -302 | G19: 26550 | H19: 26550 | I19: 1 | J19: 0 | K19: 0.8279096 | L19: 0.83928437 | M19: -0.011374765
A20: ③福岡方面（福岡、北九州） | C20: 80162 | D20: 67339 | E20: 1.1904246 | F20: 12823 | G20: 100654 | H20: 102684 | I20: 0.98023061 | J20: -2030 | K20: 0.79641147 | L20: 0.65578863 | M20: 0.14062284
B21: JAL | C21: 0 | D21: 0 | E21: #DIV/0! | F21: 0 | G21: 0 | H21: 0 | I21: #DIV/0! | J21: 0 | K21: - | L21: - | M21: #VALUE!
B22: JTA | C22: 24828 | D22: 20086 | E22: 1.2360848 | F22: 4742 | G22: 29535 | H22: 29370 | I22: 1.005618 | J22: 165 | K22: 0.84062976 | L22: 0.68389513 | M22: 0.15673463
B23: ANA | C23: 34460 | D23: 32145 | E23: 1.0720174 | F23: 2315 | G23: 45170 | H23: 52843 | I23: 0.85479628 | J23: -7673 | K23: 0.76289573 | L23: 0.60831141 | M23: 0.15458431
B24: SNA | C24: 3867 | D24: 2834 | E24: 1.3645025 | F24: 1033 | G24: 4709 | H24: 4541 | I24: 1.0369963 | J24: 168 | K24: 0.82119346 | L24: 0.62409161 | M24: 0.19710185
B25: SKY | C25: 17007 | D25: 12274 | E25: 1.3856119 | F25: 4733 | G25: 21240 | H25: 15930 | I25: 1.3333333 | J25: 5310 | K25: 0.80070621 | L25: 0.77049592 | M25: 0.030210295
B26: SFJ | C26: 0 | D26: 0 | E26: #DIV/0! | F26: 0 | G26: 0 | H26: 0 | I26: #DIV/0! | J26: 0 | K26: - | L26: － | M26: #VALUE!
A27: ④名古屋方面 | C27: 51445 | D27: 51119 | E27: 1.0063773 | F27: 326 | G27: 62530 | H27: 61852 | I27: 1.0109617 | J27: 678 | K27: 0.82272509 | L27: 0.82647287 | M27: -0.0037477788
B28: JAL | C28: 0 | D28: 0 | E28: #DIV/0! | F28: 0 | G28: 0 | H28: 0 | I28: #DIV/0! | J28: 0 | K28: - | L28: - | M28: #VALUE!
B29: JTA | C29: 17611 | D29: 15484 | E29: 1.1373676 | F29: 2127 | G29: 21450 | H29: 20130 | I29: 1.0655738 | J29: 1320 | K29: 0.82102564 | L29: 0.7692002 | M29: 0.051825442
B30: ANA | C30: 24452 | D30: 20307 | E30: 1.2041168 | F30: 4145 | G30: 28840 | H30: 24711 | I30: 1.1670916 | J30: 4129 | K30: 0.84785021 | L30: 0.82177977 | M30: 0.026070434
B31: SKY | C31: 8083 | D31: 14437 | E31: 0.55988086 | F31: -6354 | G31: 10620 | H31: 15930 | I31: 0.66666667 | J31: -5310 | K31: 0.76111111 | L31: 0.90627746 | M31: -0.14516635
B32: SNA | C32: 1299 | D32: 891 | E32: 1.4579125 | F32: 408 | G32: 1620 | H32: 1081 | I32: 1.4986124 | J32: 539 | K32: 0.80185185 | L32: 0.82423682 | M32: -0.022384966
A33: ⑤その他方面 | C33: 59186 | D33: 55723 | E33: 1.0621467 | F33: 3463 | G33: 71676 | H33: 76570 | I33: 0.93608463 | J33: -4894 | K33: 0.82574362 | L33: 0.72773932 | M33: 0.098004301
B34: JAL | C34: 0 | D34: 0 | E34: #DIV/0! | F34: 0 | G34: 0 | H34: 0 | I34: #DIV/0! | J34: 0 | K34: - | L34: - | M34: #VALUE!
B35: JTA | C35: 7878 | D35: 7227 | E35: 1.0900789 | F35: 651 | G35: 9900 | H35: 9900 | I35: 1 | J35: 0 | K35: 0.79575758 | L35: 0.73 | M35: 0.065757576
B36: RAC | C36: 1371 | D36: 1343 | E36: 1.0208488 | F36: 28 | G36: 1600 | H36: 1450 | I36: 1.1034483 | J36: 150 | K36: 0.856875 | L36: 0.9262069 | M36: -0.069331897
B37: JAC | C37: 2391 | D37: 2269 | E37: 1.0537682 | F37: 122 | G37: 2832 | H37: 2640 | I37: 1.0727273 | J37: 192 | K37: 0.84427966 | L37: 0.8594697 | M37: -0.015190036
B38: ANA | C38: 38489 | D38: 37091 | E38: 1.0376911 | F38: 1398 | G38: 45879 | H38: 52569 | I38: 0.87273869 | J38: -6690 | K38: 0.83892413 | L38: 0.70556792 | M38: 0.13335621
B39: SNA | C39: 4771 | D39: 3944 | E39: 1.2096856 | F39: 827 | G39: 6155 | H39: 4701 | I39: 1.3092959 | J39: 1454 | K39: 0.77514216 | L39: 0.83897043 | M39: -0.063828271
B40: SKY | C40: 4286 | D40: 3849 | E40: 1.113536 | F40: 437 | G40: 5310 | H40: 5310 | I40: 1 | J40: 0 | K40: 0.80715631 | L40: 0.72485876 | M40: 0.082297552
B41: 第一航空 | C41: 0 | D41: 0 | E41: #DIV/0! | F41: 0 | G41: 0 | H41: 0 | I41: #DIV/0! | J41: 0 | K41: - | L41: - | M41: #VALUE!

Sheet 10月（月間）
A1: ='R７'!A1 -> 令和７年度 | J1: =RIGHT(CELL("filename",$A$1),LEN(CELL("filename",$A$1))-FIND("]",CELL("filename",$A$1))) -> 10月（月間） | K1: 航空旅客輸送実績
A2: 7 | C2: 2025 | D2: 年 | E2: 10 | F2: 月 | G2: 輸送実績（旅客実績） | K2: 提供座席 | O2: 利用率
A3: キャリア・路線 | G3: 25'10/1-10/31 | H3: 24'10/1-10/31 (前年同月) | I3: 対前年同月比 | K3: 25'10/1-10/31 | L3: 24'10/1-10/31 (前年同月) | M3: 対前年同月比 | O3: 25'10/1-10/31 | P3: 24'10/1-10/31 (前年同月) | Q3: 増減数
I4: 比率 | J4: 増減数 | M4: 比率 | N4: 増減数
A5: 合計 a+b+c+d+e | G5: 754366 | H5: 716462 | I5: 1.0529044 | J5: 37904 | K5: 820748 | L5: 826749 | M5: 0.99274145 | N5: -6001 | O5: 0.91912012 | P5: 0.86660159 | Q5: 0.052518527
A6: a | B6: JAL + JTA + RAC+JAC | G6: 262112 | H6: 242158 | I6: 1.0824007 | J6: 19954 | K6: 278731 | L6: 269609 | M6: 1.0338342 | N6: 9122 | O6: 0.94037621 | P6: 0.89818218 | Q6: 0.042194023
B7: JAL（日本航空） | G7: 174979 | H7: 163856 | I7: 1.0678828 | J7: 11123 | K7: 182513 | L7: 177054 | M7: 1.0308324 | N7: 5459 | O7: 0.95872075 | P7: 0.92545777 | Q7: 0.033262979
B8: JAL（日本航空）羽田 | C8: 羽田 | F8: ◎ | G8: 132920 | H8: 125294 | I8: 1.0608648 | J8: 7626 | K8: 138425 | L8: 133381 | M8: 1.0378165 | N8: 5044 | O8: 0.96023117 | P8: 0.93936918 | Q8: 0.020861997
B9: JAL（日本航空）伊丹 | C9: 伊丹 | F9: ◎ | G9: 23224 | H9: 21089 | I9: 1.1012376 | J9: 2135 | K9: 24198 | L9: 24242 | M9: 0.99818497 | N9: -44 | O9: 0.95974874 | P9: 0.86993647 | Q9: 0.089812266
B10: JAL（日本航空）関西 | C10: 関西 | G10: 0 | H10: 0 | I10: #DIV/0! | J10: 0 | K10: 0 | L10: 0 | M10: #DIV/0! | N10: 0 | O10: #DIV/0! | P10: #DIV/0! | Q10: #DIV/0!
B11: JAL（日本航空）福岡 | C11: 福岡 | G11: 0 | H11: 0 | I11: #DIV/0! | J11: 0 | K11: 0 | L11: 0 | M11: #DIV/0! | N11: 0 | O11: #DIV/0! | P11: #DIV/0! | Q11: #DIV/0!
B12: JAL（日本航空）名古屋 | C12: 名古屋 | G12: 0 | H12: 0 | I12: #DIV/0! | J12: 0 | K12: 0 | L12: 0 | M12: #DIV/0! | N12: 0 | O12: #DIV/0! | P12: #DIV/0! | Q12: #DIV/0!
B13: JAL（日本航空）成田 | C13: 成田 | G13: 0 | H13: 0 | I13: #DIV/0! | J13: 0 | K13: 0 | L13: 0 | M13: #DIV/0! | N13: 0 | O13: #DIV/0! | P13: #DIV/0! | Q13: #DIV/0!
B14: JAL（日本航空）仙台 | C14: 仙台 | G14: 0 | H14: 0 | I14: #DIV/0! | J14: 0 | K14: 0 | L14: 0 | M14: #DIV/0! | N14: 0 | O14: #DIV/0! | P14: #DIV/0! | Q14: #DIV/0!
B15: JAL（日本航空）神戸 | C15: 神戸 | G15: 0 | H15: 0 | I15: #DIV/0! | J15: 0 | K15: 0 | L15: 0 | M15: #DIV/0! | N15: 0 | O15: #DIV/0! | P15: #DIV/0! | Q15: #DIV/0!
B16: JAL（日本航空）花巻 | C16: 花巻 | G16: 0 | H16: 0 | I16: #DIV/0! | J16: 0 | K16: 0 | L16: 0 | M16: #DIV/0! | N16: 0 | O16: #DIV/0! | P16: #DIV/0! | Q16: #DIV/0!
B17: JAL（日本航空）羽田石垣 | C17: 羽田 | D17: - | E17: 石垣 | G17: 12281 | H17: 12491 | I17: 0.9831879 | J17: -210 | K17: 13122 | L17: 14058 | M17: 0.93341869 | N17: -936 | O17: 0.93590916 | P17: 0.88853322 | Q17: 0.047375941
B18: JAL（日本航空）羽田宮古 | C18: 羽田 | D18: - | E18: 宮古 | G18: 6554 | H18: 4982 | I18: 1.3155359 | J18: 1572 | K18: 6768 | L18: 5373 | M18: 1.2596315 | N18: 1395 | O18: 0.96838061 | P18: 0.92722874 | Q18: 0.041151878
B19: JAL（日本航空）羽田久米島 | C19: 羽田 | D19: - | E19: 久米島 | G19: 0 | H19: 0 | I19: #DIV/0! | J19: 0 | K19: 0 | L19: 0 | M19: #DIV/0! | N19: 0 | O19: #DIV/0! | P19: #DIV/0! | Q19: #DIV/0!
B20: JAL（日本航空）沖永良部 | C20: 沖永良部 | G20: 0 | H20: 0 | I20: #DIV/0! | J20: 0 | K20: 0 | L20: 0 | M20: #DIV/0! | N20: 0 | O20: #DIV/0! | P20: #DIV/0! | Q20: #DIV/0!
B21: JTA（日本トランスオーシャン航空） | G21: 83342 | H21: 74633 | I21: 1.116691 | J21: 8709 | K21: 91740 | L21: 88275 | M21: 1.0392523 | N21: 3465 | O21: 0.90845869 | P21: 0.84546021 | Q21: 0.062998478
B22: JTA（日本トランスオーシャン航空）羽田 | C22: 羽田 | G22: 0 | H22: 0 | I22: #DIV/0! | J22: 0 | K22: 0 | L22: 0 | M22: #DIV/0! | N22: 0 | O22: #DIV/0! | P22: #DIV/0! | Q22: #DIV/0!
B23: JTA（日本トランスオーシャン航空）関西 | C23: 関西 | F23: ◎ | G23: 14085 | H23: 12125 | I23: 1.1616495 | J23: 1960 | K23: 15345 | L23: 15345 | M23: 1 | N23: 0 | O23: 0.91788856 | P23: 0.79015966 | Q23: 0.1277289
B24: JTA（日本トランスオーシャン航空）福岡 | C24: 福岡 | F24: ◎ | G24: 28494 | H24: 25517 | I24: 1.1166673 | J24: 2977 | K24: 31515 | L24: 30525 | M24: 1.0324324 | N24: 990 | O24: 0.90414089 | P24: 0.83593776 | Q24: 0.068203129
B25: JTA（日本トランスオーシャン航空）羽田石垣 | C25: 羽田 | D25: - | E25: 石垣 | F25: ◎ | G25: 1478 | H25: 608 | I25: 2.4309211 | J25: 870 | K25: 1650 | L25: 990 | M25: 1.6666667 | N25: 660 | O25: 0.89575758 | P25: 0.61414141 | Q25: 0.28161616
B26: JTA（日本トランスオーシャン航空）羽田宮古 | C26: 羽田 | D26: - | E26: 宮古 | F26: ◎ | G26: 765 | H26: 498 | I26: 1.5361446 | J26: 267 | K26: 825 | L26: 660 | M26: 1.25 | N26: 165 | O26: 0.92727273 | P26: 0.75454545 | Q26: 0.17272727
B27: JTA（日本トランスオーシャン航空）羽田久米島 | C27: 羽田 | D27: - | E27: 久米島 | F27: ○ | G27: 0 | H27: 0 | I27: #DIV/0! | J27: 0 | K27: 0 | L27: 0 | M27: #DIV/0! | N27: 0 | O27: #DIV/0! | P27: #DIV/0! | Q27: #DIV/0!
B28: JTA（日本トランスオーシャン航空）関西石垣 | C28: 関西 | D28: - | E28: 石垣 | F28: ◎ | G28: 4804 | H28: 4223 | I28: 1.1375799 | J28: 581 | K28: 5115 | L28: 4950 | M28: 1.0333333 | N28: 165 | O28: 0.93919844 | P28: 0.85313131 | Q28: 0.086067123
B29: JTA（日本トランスオーシャン航空）関西宮古 | C29: 関西 | D29: - | E29: 宮古 | G29: 4676 | H29: 4307 | I29: 1.0856745 | J29: 369 | K29: 5115 | L29: 5115 | M29: 1 | N29: 0 | O29: 0.914174 | P29: 0.84203324 | Q29: 0.072140762
B30: JTA（日本トランスオーシャン航空）神戸石垣 | C30: 神戸 | D30: - | E30: 石垣 | G30: 0 | H30: 0 | I30: #DIV/0! | J30: 0 | K30: 0 | L30: 0 | M30: #DIV/0! | N30: 0 | O30: #DIV/0! | P30: #DIV/0! | Q30: #DIV/0!
B31: JTA（日本トランスオーシャン航空）名古屋石垣 | C31: 名古屋 | D31: - | E31: 石垣 | G31: 0 | H31: 0 | I31: #DIV/0! | J31: 0 | K31: 0 | L31: 0 | M31: #DIV/0! | N31: 0 | O31: #DIV/0! | P31: #DIV/0! | Q31: #DIV/0!
B32: JTA（日本トランスオーシャン航空）名古屋宮古 | C32: 名古屋 | D32: - | E32: 宮古 | G32: 0 | H32: 0 | I32: #DIV/0! | J32: 0 | K32: 0 | L32: 0 | M32: #DIV/0! | N32: 0 | O32: #DIV/0! | P32: #DIV/0! | Q32: #DIV/0!
B33: JTA（日本トランスオーシャン航空）仙台 | C33: 仙台 | G33: 0 | H33: 0 | I33: #DIV/0! | J33: 0 | K33: 0 | L33: 0 | M33: #DIV/0! | N33: 0 | O33: #DIV/0! | P33: #DIV/0! | Q33: #DIV/0!
B34: JTA（日本トランスオーシャン航空）松山 | C34: 松山 | G34: 0 | H34: 0 | I34: #DIV/0! | J34: 0 | K34: 0 | L34: 0 | M34: #DIV/0! | N34: 0 | O34: #DIV/0! | P34: #DIV/0! | Q34: #DIV/0!
B35: JTA（日本トランスオーシャン航空）高知 | C35: 高知 | G35: 0 | H35: 0 | I35: #DIV/0! | J35: 0 | K35: 0 | L35: 0 | M35: #DIV/0! | N35: 0 | O35: #DIV/0! | P35: #DIV/0! | Q35: #DIV/0!
B36: JTA（日本トランスオーシャン航空）岡山 | C36: 岡山 | F36: ◎ | G36: 4805 | H36: 4685 | I36: 1.0256137 | J36: 120 | K36: 5115 | L36: 5115 | M36: 1 | N36: 0 | O36: 0.93939394 | P36: 0.91593353 | Q36: 0.023460411
B37: JTA（日本トランスオーシャン航空）福島 | C37: 福島 | G37: 0 | H37: 0 | I37: #DIV/0! | J37: 0 | K37: 0 | L37: 0 | M37: #DIV/0! | N37: 0 | O37: #DIV/0! | P37: #DIV/0! | Q37: #DIV/0!
B38: JTA（日本トランスオーシャン航空）小松 | C38: 小松 | F38: ◎ | G38: 4403 | H38: 4379 | I38: 1.0054807 | J38: 24 | K38: 5115 | L38: 5115 | M38: 1 | N38: 0 | O38: 0.86080156 | P38: 0.85610948 | Q38: 0.0046920821
B39: JTA（日本トランスオーシャン航空）北九州 | C39: 北九州 | G39: 0 | H39: 0 | I39: #DIV/0! | J39: 0 | K39: 0 | L39: 0 | M39: #DIV/0! | N39: 0 | O39: #DIV/0! | P39: #DIV/0! | Q39: #DIV/0!
B40: JTA（日本トランスオーシャン航空）神戸 | C40: 神戸 | G40: 0 | H40: 0 | I40: #DIV/0! | J40: 0 | K40: 0 | L40: 0 | M40: #DIV/0! | N40: 0 | O40: #DIV/0! | P40: #DIV/0! | Q40: #DIV/0!
B41: JTA（日本トランスオーシャン航空）名古屋 | C41: 名古屋 | F41: ◎ | G41: 19832 | H41: 18291 | I41: 1.0842491 | J41: 1541 | K41: 21945 | L41: 20460 | M41: 1.0725806 | N41: 1485 | O41: 0.90371383 | P41: 0.89398827 | Q41: 0.0097255602
B42: RAC | G42: 1375 | H42: 1241 | I42: 1.1079774 | J42: 134 | K42: 1550 | L42: 1400 | M42: 1.1071429 | N42: 150 | O42: 0.88709677 | P42: 0.88642857 | Q42: 0.00066820276
B43: RAC与論 | C43: 与論 | F43: ◎ | G43: 1375 | H43: 1241 | I43: 1.1079774 | J43: 134 | K43: 1550 | L43: 1400 | M43: 1.1071429 | N43: 150 | O43: 0.88709677 | P43: 0.88642857 | Q43: 0.00066820276
B44: RAC奄美 | C44: 奄美 | F44: ◎ | H44: 0 | I44: #DIV/0! | J44: 0 | L44: 0 | M44: #DIV/0! | N44: 0 | O44: #DIV/0! | P44: #DIV/0! | Q44: #DIV/0!
B45: JAC | G45: 2416 | H45: 2428 | I45: 0.99505766 | J45: -12 | K45: 2928 | L45: 2880 | M45: 1.0166667 | N45: 48 | O45: 0.82513661 | P45: 0.84305556 | Q45: -0.017918944
B46: JAC沖永良部 | C46: 沖永良部 | F46: ◎ | G46: 1037 | H46: 1004 | I46: 1.0328685 | J46: 33 | K46: 1488 | L46: 1392 | M46: 1.0689655 | N46: 96 | O46: 0.6969086 | P46: 0.72126437 | Q46: -0.024355766
B47: JAC与論 | C47: 与論 | F47: ◎ | G47: 1379 | H47: 1424 | I47: 0.96839888 | J47: -45 | K47: 1440 | L47: 1488 | M47: 0.96774194 | N47: -48 | O47: 0.95763889 | P47: 0.95698925 | Q47: 0.00064964158
B48: JAC奄美 | C48: 奄美 | G48: 0 | H48: 0 | I48: #DIV/0! | J48: 0 | K48: 0 | L48: 0 | M48: #DIV/0! | N48: 0 | O48: #DIV/0! | P48: #DIV/0! | Q48: #DIV/0!
A49: b | B49: ANA + SNA | G49: 405327 | H49: 380690 | I49: 1.0647167 | J49: 24637 | K49: 442012 | L49: 453949 | M49: 0.97370409 | N49: -11937 | O49: 0.91700452 | P49: 0.83861844 | Q49: 0.078386081
B50: ANA（全日空） | G50: 375039 | H50: 354105 | I50: 1.0591181 | J50: 20934 | K50: 408370 | L50: 422694 | M50: 0.9661126 | N50: -14324 | O50: 0.91838039 | P50: 0.83773368 | Q50: 0.080646711
B51: ANA（全日空）羽田 | C51: 羽田 | F51: ◎ | G51: 152630 | H51: 144076 | I51: 1.0593714 | J51: 8554 | K51: 163801 | L51: 163076 | M51: 1.0044458 | N51: 725 | O51: 0.93180139 | P51: 0.88348991 | Q51: 0.048311487
B52: ANA（全日空）伊丹 | C52: 伊丹 | F52: ◎ | G52: 33753 | H52: 31156 | I52: 1.0833547 | J52: 2597 | K52: 35474 | L52: 35641 | M52: 0.99531439 | N52: -167 | O52: 0.9514856 | P52: 0.87416178 | Q52: 0.077323815
B53: ANA（全日空）関西 | C53: 関西 | F53: ◎ | G53: 14558 | H53: 16595 | I53: 0.87725218 | J53: -2037 | K53: 16408 | L53: 20584 | M53: 0.79712398 | N53: -4176 | O53: 0.88725012 | P53: 0.80620871 | Q53: 0.081041416
B54: ANA（全日空）神戸 | C54: 神戸 | F54: ◎ | G54: 8728 | H54: 8439 | I54: 1.0342458 | J54: 289 | K54: 9913 | L54: 11439 | M54: 0.86659673 | N54: -1526 | O54: 0.88046 | P54: 0.73773931 | Q54: 0.14272069
B55: ANA（全日空）名古屋 | C55: 名古屋 | F55: ◎ | G55: 18489 | H55: 14887 | I55: 1.2419561 | J55: 3602 | K55: 21004 | L55: 17240 | M55: 1.2183295 | N55: 3764 | O55: 0.8802609 | P55: 0.86351508 | Q55: 0.016745821
B56: ANA（全日空）福岡 | C56: 福岡 | F56: ◎ | G56: 40329 | H56: 39916 | I56: 1.0103467 | J56: 413 | K56: 46808 | L56: 54935 | M56: 0.85206153 | N56: -8127 | O56: 0.86158349 | P56: 0.72660417 | Q56: 0.13497932
B57: ANA（全日空）成田 | C57: 成田 | F57: ◎ | G57: 0 | H57: 0 | I57: #DIV/0! | J57: 0 | K57: 0 | L57: 0 | M57: #DIV/0! | N57: 0 | O57: #DIV/0! | P57: #DIV/0! | Q57: #DIV/0!
B58: ANA（全日空）札幌 | C58: 札幌 | F58: ◎ | G58: 0 | H58: 0 | I58: #DIV/0! | J58: 0 | K58: 0 | L58: 0 | M58: #DIV/0! | N58: 0 | O58: #DIV/0! | P58: #DIV/0! | Q58: #DIV/0!
B59: ANA（全日空）仙台 | C59: 仙台 | F59: ◎ | G59: 6180 | H59: 7151 | I59: 0.8642148 | J59: -971 | K59: 6469 | L59: 8370 | M59: 0.77287933 | N59: -1901 | O59: 0.9553254 | P59: 0.85436081 | Q59: 0.10096459
B60: ANA（全日空）新潟 | C60: 新潟 | F60: ○ | G60: 4509 | H60: 3751 | I60: 1.2020794 | J60: 758 | K60: 5146 | L60: 5145 | M60: 1.0001944 | N60: 1 | O60: 0.87621454 | P60: 0.72905734 | Q60: 0.1471572
B61: ANA（全日空）静岡 | C61: 静岡 | F61: ◎ | G61: 4407 | H61: 3571 | I61: 1.2341081 | J61: 836 | K61: 5146 | L61: 5146 | M61: 1 | N61: 0 | O61: 0.85639332 | P61: 0.69393704 | Q61: 0.16245628
B62: ANA（全日空）広島 | C62: 広島 | F62: ◎ | G62: 6120 | H62: 5679 | I62: 1.0776545 | J62: 441 | K62: 6470 | L62: 6394 | M62: 1.0118861 | N62: 76 | O62: 0.94590417 | P62: 0.88817642 | Q62: 0.057727758
B63: ANA（全日空）岩国 | C63: 岩国 | F63: ○ | G63: 4650 | H63: 4372 | I63: 1.0635865 | J63: 278 | K63: 5146 | L63: 5146 | M63: 1 | N63: 0 | O63: 0.90361446 | P63: 0.84959192 | Q63: 0.054022542
B64: ANA（全日空）高松 | C64: 高松 | F64: ◎ | G64: 4741 | H64: 5767 | I64: 0.82209121 | J64: -1026 | K64: 5128 | L64: 7989 | M64: 0.64188259 | N64: -2861 | O64: 0.92453198 | P64: 0.72186757 | Q64: 0.20266441
B65: ANA（全日空）松山 | C65: 松山 | F65: ◎ | G65: 4595 | H65: 4199 | I65: 1.0943082 | J65: 396 | K65: 5174 | L65: 5146 | M65: 1.0054411 | N65: 28 | O65: 0.88809432 | P65: 0.81597357 | Q65: 0.072120746
B66: ANA（全日空）北九州 | C66: 北九州 | F66: ○ | G66: 0 | H66: 0 | I66: #DIV/0! | J66: 0 | K66: 0 | L66: 0 | M66: #DIV/0! | N66: 0 | O66: #DIV/0! | P66: #DIV/0! | Q66: #DIV/0!
B67: ANA（全日空）熊本 | C67: 熊本 | F67: ◎ | G67: 4701 | H67: 4457 | I67: 1.0547453 | J67: 244 | K67: 5146 | L67: 5146 | M67: 1 | N67: 0 | O67: 0.91352507 | P67: 0.8661096 | Q67: 0.047415468
B68: ANA（全日空）長崎 | C68: 長崎 | F68: ◎ | G68: 0 | H68: 0 | I68: #DIV/0! | J68: 0 | K68: 0 | L68: 0 | M68: #DIV/0! | N68: 0 | O68: #DIV/0! | P68: #DIV/0! | Q68: #DIV/0!
B69: ANA（全日空）宮崎 | C69: 宮崎 | F69: ◎ | G69: 2754 | H69: 2780 | I69: 0.99064748 | J69: -26 | K69: 3255 | L69: 3640 | M69: 0.89423077 | N69: -385 | O69: 0.84608295 | P69: 0.76373626 | Q69: 0.082346686
B70: ANA（全日空）鹿児島 | C70: 鹿児島 | F70: ◎ | G70: 5770 | H70: 5930 | I70: 0.97301855 | J70: -160 | K70: 6504 | L70: 7559 | M70: 0.86043127 | N70: -1055 | O70: 0.88714637 | P70: 0.7844953 | Q70: 0.10265107
B71: ANA（全日空）羽田石垣 | C71: 羽田 | D71: - | E71: 石垣 | F71: ◎ | G71: 20694 | H71: 18180 | I71: 1.1382838 | J71: 2514 | K71: 22045 | L71: 21913 | M71: 1.0060238 | N71: 132 | O71: 0.93871626 | P71: 0.8296445 | Q71: 0.10907176
B72: ANA（全日空）羽田宮古 | C72: 羽田 | D72: - | E72: 宮古 | F72: ◎ | G72: 18125 | H72: 15935 | I72: 1.1374333 | J72: 2190 | K72: 18749 | L72: 17960 | M72: 1.043931 | N72: 789 | O72: 0.96671822 | P72: 0.88724944 | Q72: 0.079468782
B73: ANA（全日空）関西石垣 | C73: 関西 | D73: - | E73: 石垣 | F73: ◎ | G73: 4680 | H73: 3792 | I73: 1.2341772 | J73: 888 | K73: 5146 | L73: 4523 | M73: 1.1377404 | N73: 623 | O73: 0.90944423 | P73: 0.83838161 | Q73: 0.071062623
B74: ANA（全日空）関西宮古 | C74: 関西 | D74: - | E74: 宮古 | F74: ◎ | G74: 4906 | H74: 4906 | I74: 1 | J74: 0 | K74: 5146 | L74: 5742 | M74: 0.89620341 | N74: -596 | O74: 0.95336183 | P74: 0.85440613 | Q74: 0.098955704
B75: ANA（全日空）伊丹石垣 | C75: 伊丹 | D75: - | E75: 石垣 | F75: ○ | G75: 0 | H75: 0 | I75: #DIV/0! | J75: 0 | K75: 0 | L75: 0 | M75: #DIV/0! | N75: 0 | O75: #DIV/0! | P75: #DIV/0! | Q75: #DIV/0!
B76: ANA（全日空）伊丹宮古 | C76: 伊丹 | D76: - | E76: 宮古 | F76: ○ | G76: 0 | H76: 0 | I76: #DIV/0! | J76: 0 | K76: 0 | L76: 0 | M76: #DIV/0! | N76: 0 | O76: #DIV/0! | P76: #DIV/0! | Q76: #DIV/0!
B77: ANA（全日空）名古屋石垣 | C77: 名古屋 | D77: - | E77: 石垣 | F77: ◎ | G77: 4795 | H77: 4209 | I77: 1.1392255 | J77: 586 | K77: 5146 | L77: 4980 | M77: 1.0333333 | N77: 166 | O77: 0.93179168 | P77: 0.84518072 | Q77: 0.08661096
B78: ANA（全日空）名古屋宮古 | C78: 名古屋 | D78: - | E78: 宮古 | F78: ◎ | G78: 4925 | H78: 4357 | I78: 1.1303649 | J78: 568 | K78: 5146 | L78: 4980 | M78: 1.0333333 | N78: 166 | O78: 0.95705402 | P78: 0.8748996 | Q78: 0.082154424
B79: ANA（全日空）福岡石垣 | C79: 福岡 | D79: - | E79: 石垣 | F79: ◎ | G79: 0 | H79: 0 | I79: #DIV/0! | J79: 0 | K79: 0 | L79: 0 | M79: #DIV/0! | N79: 0 | O79: #DIV/0! | P79: #DIV/0! | Q79: #DIV/0!
B80: ANA（全日空）福岡宮古 | C80: 福岡 | D80: - | E80: 宮古 | F80: ○ | G80: 0 | H80: 0 | I80: #DIV/0! | J80: 0 | K80: 0 | L80: 0 | M80: #DIV/0! | N80: 0 | O80: #DIV/0! | P80: #DIV/0! | Q80: #DIV/0!
B81: ANA（全日空）沖永良部那覇 | C81: 沖永良部 | D81: - | E81: 那覇 | G81: - | H81: - | I81: - | J81: - | K81: - | L81: - | M81: - | N81: - | O81: - | P81: - | Q81: -
B82: ANA（全日空）奄美那覇 | C82: 奄美 | D82: - | E82: 那覇 | G82: - | H82: - | I82: - | J82: - | K82: - | L82: - | M82: - | N82: - | O82: - | P82: - | Q82: -
B83: SNA（ソラシドエア） | G83: 30288 | H83: 26585 | I83: 1.1392891 | J83: 3703 | K83: 33642 | L83: 31255 | M83: 1.0763718 | N83: 2387 | O83: 0.90030319 | P83: 0.85058391 | Q83: 0.049719286
B84: SNA（ソラシドエア）羽田 | C84: 羽田 | G84: 13626 | H84: 13888 | I84: 0.98113479 | J84: -262 | K84: 14424 | L84: 15667 | M84: 0.92066126 | N84: -1243 | O84: 0.94467554 | P84: 0.88644922 | Q84: 0.058226316
B85: SNA（ソラシドエア）宮崎 | C85: 宮崎 | G85: 1749 | H85: 1293 | I85: 1.3526682 | J85: 456 | K85: 2145 | L85: 1586 | M85: 1.352459 | N85: 559 | O85: 0.81538462 | P85: 0.81525851 | Q85: 0.0001261034
B86: SNA（ソラシドエア）鹿児島 | C86: 鹿児島 | G86: 3741 | H86: 2806 | I86: 1.3332145 | J86: 935 | K86: 4294 | L86: 3237 | M86: 1.3265369 | N86: 1057 | O86: 0.87121565 | P86: 0.86685202 | Q86: 0.0043636263
B87: SNA（ソラシドエア）神戸 | C87: 神戸 | G87: 5677 | H87: 4045 | I87: 1.4034611 | J87: 1632 | K87: 6287 | L87: 4758 | M87: 1.3213535 | N87: 1529 | O87: 0.90297439 | P87: 0.85014712 | Q87: 0.052827271
B88: SNA（ソラシドエア）名古屋 | C88: 名古屋 | G88: 1425 | H88: 1073 | I88: 1.3280522 | J88: 352 | K88: 1620 | L88: 1144 | M88: 1.4160839 | N88: 476 | O88: 0.87962963 | P88: 0.93793706 | Q88: -0.058307433
B89: SNA（ソラシドエア）福岡 | C89: 福岡 | G89: 4070 | H89: 3480 | I89: 1.1695402 | J89: 590 | K89: 4872 | L89: 4863 | M89: 1.0018507 | N89: 9 | O89: 0.83538588 | P89: 0.71560765 | Q89: 0.11977823
B90: SNA（ソラシドエア）熊本 | C90: 熊本 | G90: 0 | H90: 0 | I90: #DIV/0! | J90: 0 | K90: 0 | L90: 0 | M90: #DIV/0! | N90: 0 | O90: #DIV/0! | P90: #DIV/0! | Q90: #DIV/0!
B91: SNA（ソラシドエア）長崎 | C91: 長崎 | G91: 0 | H91: 0 | I91: #DIV/0! | J91: 0 | K91: 0 | L91: 0 | M91: #DIV/0! | N91: 0 | O91: #DIV/0! | P91: #DIV/0! | Q91: #DIV/0!
A92: ｃ | B92: SKY | G92: 86927 | H92: 93614 | I92: 0.92856838 | J92: -6687 | K92: 100005 | L92: 103191 | M92: 0.96912521 | N92: -3186 | O92: 0.86922654 | P92: 0.90719152 | Q92: -0.03796498
B93: SKY羽田 | C93: 羽田 | F93: ◎ | G93: 28923 | H93: 30804 | I93: 0.9389365 | J93: -1881 | K93: 33099 | L93: 32922 | M93: 1.0053763 | N93: 177 | O93: 0.87383305 | P93: 0.93566612 | Q93: -0.061833074
B94: SKY成田 | C94: 成田 | G94: 0 | H94: 0 | I94: #DIV/0! | J94: 0 | K94: 0 | L94: 0 | M94: #DIV/0! | N94: 0 | O94: #DIV/0! | P94: #DIV/0! | Q94: #DIV/0!
B95: SKY福岡 | C95: 福岡 | F95: ◎ | G95: 14734 | H95: 13395 | I95: 1.0999627 | J95: 1339 | K95: 16461 | L95: 15576 | M95: 1.0568182 | N95: 885 | O95: 0.89508535 | P95: 0.85997689 | Q95: 0.035108466
B96: SKY関西 | C96: 関西 | G96: 0 | H96: 0 | I96: #DIV/0! | J96: 0 | K96: 0 | L96: 0 | M96: #DIV/0! | N96: 0 | O96: #DIV/0! | P96: #DIV/0! | Q96: #DIV/0!
B97: SKY神戸 | C97: 神戸 | F97: ◎ | G97: 19010 | H97: 19806 | I97: 0.95981016 | J97: -796 | K97: 21948 | L97: 21948 | M97: 1 | N97: 0 | O97: 0.86613814 | P97: 0.90240569 | Q97: -0.036267541
B98: SKY茨城 | C98: 茨城 | F98: ○ | G98: 4635 | H98: 4919 | I98: 0.94226469 | J98: -284 | K98: 5487 | L98: 5487 | M98: 1 | N98: 0 | O98: 0.84472389 | P98: 0.8964826 | Q98: -0.051758702
B99: SKY北九州 | C99: 北九州 | G99: 0 | H99: 0 | I99: #DIV/0! | J99: 0 | K99: 0 | L99: 0 | M99: #DIV/0! | N99: 0 | O99: #DIV/0! | P99: #DIV/0! | Q99: #DIV/0!
B100: SKY名古屋 | C100: 名古屋 | F100: ◎ | G100: 10210 | H100: 15431 | I100: 0.66165511 | J100: -5221 | K100: 12036 | L100: 16461 | M100: 0.7311828 | N100: -4425 | O100: 0.84828847 | P100: 0.93742786 | Q100: -0.089139392
...

Sheet 10月月間
A1: ='R７'!A1 -> 令和７年度 | F1: =RIGHT(CELL("filename",$A$1),LEN(CELL("filename",$A$1))-FIND("]",CELL("filename",$A$1))) -> 10月月間 | G1: 航空旅客輸送実績
A2: R7 | B2: （2025）年 | C2: 10
C3: 輸送実績人数 | G3: 提供座席数 | K3: 利用率
C4: 25'10月間 | D4: 24'10月間 | E4: 対前年同月比較 | G4: 25'10月間 | H4: 24'10月間 | I4: 対前年同月比較 | K4: 25'10月間 | L4: 24'10月間 | M4: 対前年 増減
E5: 比率 | F5: 増減数 | I5: 比率 | J5: 増減数
A6: 合 計 | C6: 754366 | D6: 716462 | E6: 1.0529044 | F6: 37904 | G6: 820748 | H6: 826749 | I6: 0.99274145 | J6: -6001 | K6: 0.91912012 | L6: 0.86660159 | M6: 0.052518527
A7: ①＋②＋③＋④＋⑤
A8: ①東京方面（羽田、成田） | C8: 392899 | D8: 371469 | E8: 1.0576899 | F8: 21430 | G8: 418395 | H8: 411310 | I8: 1.0172255 | J8: 7085 | K8: 0.93906237 | L8: 0.90313632 | M8: 0.035926049
B9: JAL | C9: 151755 | D9: 142767 | E9: 1.0629557 | F9: 8988 | G9: 158315 | H9: 152812 | I9: 1.0360116 | J9: 5503 | K9: 0.95856362 | L9: 0.93426563 | M9: 0.02429799
B10: JTA | C10: 2243 | D10: 1106 | E10: 2.0280289 | F10: 1137 | G10: 2475 | H10: 1650 | I10: 1.5 | J10: 825 | K10: 0.90626263 | L10: 0.67030303 | M10: 0.2359596
B11: ANA | C11: 191449 | D11: 178191 | E11: 1.0744033 | F11: 13258 | G11: 204595 | H11: 202949 | I11: 1.0081104 | J11: 1646 | K11: 0.93574623 | L11: 0.87800876 | M11: 0.05773747
B12: SNA | C12: 13626 | D12: 13888 | E12: 0.98113479 | F12: -262 | G12: 14424 | H12: 15667 | I12: 0.92066126 | J12: -1243 | K12: 0.94467554 | L12: 0.88644922 | M12: 0.058226316
B13: SKY | C13: 33826 | D13: 35517 | E13: 0.952389 | F13: -1691 | G13: 38586 | H13: 38232 | I13: 1.0092593 | J13: 354 | K13: 0.8766392 | L13: 0.92898619 | M13: -0.052346994
A14: ②関西方面（関西、伊丹、神戸） | C14: 142613 | D14: 135029 | E14: 1.0561657 | F14: 7584 | G14: 155582 | H14: 159774 | I14: 0.97376294 | J14: -4192 | K14: 0.91664203 | L14: 0.84512499 | M14: 0.071517039
B15: JAL | C15: 23224 | D15: 21089 | E15: 1.1012376 | F15: 2135 | G15: 24198 | H15: 24242 | I15: 0.99818497 | J15: -44 | K15: 0.95974874 | L15: 0.86993647 | M15: 0.089812266
B16: JTA | C16: 23565 | D16: 20655 | E16: 1.140886 | F16: 2910 | G16: 25575 | H16: 25410 | I16: 1.0064935 | J16: 165 | K16: 0.92140762 | L16: 0.81286895 | M16: 0.10853868
B17: ANA | C17: 66625 | D17: 64888 | E17: 1.0267692 | F17: 1737 | G17: 72087 | H17: 77929 | I17: 0.92503433 | J17: -5842 | K17: 0.92423044 | L17: 0.83265537 | M17: 0.091575078
B18: SNA | C18: 5677 | D18: 4045 | E18: 1.4034611 | F18: 1632 | G18: 6287 | H18: 4758 | I18: 1.3213535 | J18: 1529 | K18: 0.90297439 | L18: 0.85014712 | M18: 0.052827271
B19: SKY | C19: 23522 | D19: 24352 | E19: 0.96591656 | F19: -830 | G19: 27435 | H19: 27435 | I19: 1 | J19: 0 | K19: 0.85737197 | L19: 0.8876253 | M19: -0.030253326
A20: ③福岡方面（福岡、北九州） | C20: 87627 | D20: 82308 | E20: 1.0646231 | F20: 5319 | G20: 99656 | H20: 105899 | I20: 0.9410476 | J20: -6243 | K20: 0.87929477 | L20: 0.77723114 | M20: 0.10206364
B21: JAL | C21: 0 | D21: 0 | E21: #DIV/0! | F21: 0 | G21: 0 | H21: 0 | I21: #DIV/0! | J21: 0 | K21: - | L21: - | M21: #VALUE!
B22: JTA | C22: 28494 | D22: 25517 | E22: 1.1166673 | F22: 2977 | G22: 31515 | H22: 30525 | I22: 1.0324324 | J22: 990 | K22: 0.90414089 | L22: 0.83593776 | M22: 0.068203129
B23: ANA | C23: 40329 | D23: 39916 | E23: 1.0103467 | F23: 413 | G23: 46808 | H23: 54935 | I23: 0.85206153 | J23: -8127 | K23: 0.86158349 | L23: 0.72660417 | M23: 0.13497932
B24: SNA | C24: 4070 | D24: 3480 | E24: 1.1695402 | F24: 590 | G24: 4872 | H24: 4863 | I24: 1.0018507 | J24: 9 | K24: 0.83538588 | L24: 0.71560765 | M24: 0.11977823
B25: SKY | C25: 14734 | D25: 13395 | E25: 1.0999627 | F25: 1339 | G25: 16461 | H25: 15576 | I25: 1.0568182 | J25: 885 | K25: 0.89508535 | L25: 0.85997689 | M25: 0.035108466
B26: SFJ | C26: 0 | D26: 0 | E26: #DIV/0! | F26: 0 | G26: 0 | H26: 0 | I26: #DIV/0! | J26: 0 | K26: - | L26: － | M26: #VALUE!
A27: ④名古屋方面 | C27: 59676 | D27: 58248 | E27: 1.0245159 | F27: 1428 | G27: 66897 | H27: 65265 | I27: 1.0250057 | J27: 1632 | K27: 0.89205794 | L27: 0.89248449 | M27: -0.00042654651
B28: JAL | C28: 0 | D28: 0 | E28: #DIV/0! | F28: 0 | G28: 0 | H28: 0 | I28: #DIV/0! | J28: 0 | K28: - | L28: - | M28: #VALUE!
B29: JTA | C29: 19832 | D29: 18291 | E29: 1.0842491 | F29: 1541 | G29: 21945 | H29: 20460 | I29: 1.0725806 | J29: 1485 | K29: 0.90371383 | L29: 0.89398827 | M29: 0.0097255602
B30: ANA | C30: 28209 | D30: 23453 | E30: 1.2027886 | F30: 4756 | G30: 31296 | H30: 27200 | I30: 1.1505882 | J30: 4096 | K30: 0.9013612 | L30: 0.86224265 | M30: 0.039118549
B31: SKY | C31: 10210 | D31: 15431 | E31: 0.66165511 | F31: -5221 | G31: 12036 | H31: 16461 | I31: 0.7311828 | J31: -4425 | K31: 0.84828847 | L31: 0.93742786 | M31: -0.089139392
B32: SNA | C32: 1425 | D32: 1073 | E32: 1.3280522 | F32: 352 | G32: 1620 | H32: 1144 | I32: 1.4160839 | J32: 476 | K32: 0.87962963 | L32: 0.93793706 | M32: -0.058307433
A33: ⑤その他方面 | C33: 71551 | D33: 69408 | E33: 1.0308754 | F33: 2143 | G33: 80218 | H33: 84501 | I33: 0.94931421 | J33: -4283 | K33: 0.89195692 | L33: 0.82138673 | M33: 0.070570188
B34: JAL | C34: 0 | D34: 0 | E34: #DIV/0! | F34: 0 | G34: 0 | H34: 0 | I34: #DIV/0! | J34: 0 | K34: - | L34: - | M34: #VALUE!
B35: JTA | C35: 9208 | D35: 9064 | E35: 1.015887 | F35: 144 | G35: 10230 | H35: 10230 | I35: 1 | J35: 0 | K35: 0.90009775 | L35: 0.88602151 | M35: 0.014076246
B36: RAC | C36: 1375 | D36: 1241 | E36: 1.1079774 | F36: 134 | G36: 1550 | H36: 1400 | I36: 1.1071429 | J36: 150 | K36: 0.88709677 | L36: 0.88642857 | M36: 0.00066820276
B37: JAC | C37: 2416 | D37: 2428 | E37: 0.99505766 | F37: -12 | G37: 2928 | H37: 2880 | I37: 1.0166667 | J37: 48 | K37: 0.82513661 | L37: 0.84305556 | M37: -0.017918944
B38: ANA | C38: 48427 | D38: 47657 | E38: 1.0161571 | F38: 770 | G38: 53584 | H38: 59681 | I38: 0.89784018 | J38: -6097 | K38: 0.90375858 | L38: 0.79852885 | M38: 0.10522974
B39: SNA | C39: 5490 | D39: 4099 | E39: 1.3393511 | F39: 1391 | G39: 6439 | H39: 4823 | I39: 1.3350612 | J39: 1616 | K39: 0.85261687 | L39: 0.84988596 | M39: 0.0027309029
B40: SKY | C40: 4635 | D40: 4919 | E40: 0.94226469 | F40: -284 | G40: 5487 | H40: 5487 | I40: 1 | J40: 0 | K40: 0.84472389 | L40: 0.8964826 | M40: -0.051758702
B41: 第一航空 | C41: 0 | D41: 0 | E41: #DIV/0! | F41: 0 | G41: 0 | H41: 0 | I41: #DIV/0! | J41: 0 | K41: - | L41: - | M41: #VALUE!

Sheet 11月（月間）
A1: ='R７'!A1 -> 令和７年度 | J1: =RIGHT(CELL("filename",$A$1),LEN(CELL("filename",$A$1))-FIND("]",CELL("filename",$A$1))) -> 11月（月間） | K1: 航空旅客輸送実績
A2: 7 | C2: 2025 | D2: 年 | E2: 11 | F2: 月 | G2: 輸送実績（旅客実績） | K2: 提供座席 | O2: 利用率
A3: キャリア・路線 | G3: 25'11/1-11/30 | H3: 24'11/1-11/30 (前年同月) | I3: 対前年同月比 | K3: 25'11/1-11/30 | L3: 24'11/1-11/30 (前年同月) | M3: 対前年同月比 | O3: 25'11/1-11/30 | P3: 24'11/1-11/30 (前年同月) | Q3: 増減数
I4: 比率 | J4: 増減数 | M4: 比率 | N4: 増減数
A5: 合計 a+b+c+d+e | G5: 698434 | H5: 668434 | I5: 1.044881 | J5: 30000 | K5: 803422 | L5: 793395 | M5: 1.0126381 | N5: 10027 | O5: 0.86932397 | P5: 0.84249838 | Q5: 0.02682559
A6: a | B6: JAL + JTA + RAC+JAC | G6: 237887 | H6: 228070 | I6: 1.0430438 | J6: 9817 | K6: 265129 | L6: 256421 | M6: 1.0339598 | N6: 8708 | O6: 0.89725002 | P6: 0.88943573 | Q6: 0.0078142853
B7: JAL（日本航空） | G7: 144355 | H7: 140425 | I7: 1.0279865 | J7: 3930 | K7: 156263 | L7: 152856 | M7: 1.022289 | N7: 3407 | O7: 0.92379514 | P7: 0.91867509 | Q7: 0.0051200473
B8: JAL（日本航空）羽田 | C8: 羽田 | F8: ◎ | G8: 122620 | H8: 119195 | I8: 1.0287344 | J8: 3425 | K8: 132803 | L8: 129241 | M8: 1.0275609 | N8: 3562 | O8: 0.92332252 | P8: 0.92226925 | Q8: 0.0010532664
B9: JAL（日本航空）伊丹 | C9: 伊丹 | F9: ◎ | G9: 21735 | H9: 21051 | I9: 1.0324925 | J9: 684 | K9: 23460 | L9: 23416 | M9: 1.0018791 | N9: 44 | O9: 0.92647059 | P9: 0.89900068 | Q9: 0.027469905
B10: JAL（日本航空）関西 | C10: 関西 | G10: 0 | H10: 0 | I10: #DIV/0! | J10: 0 | K10: 0 | L10: 0 | M10: #DIV/0! | N10: 0 | O10: #DIV/0! | P10: #DIV/0! | Q10: #DIV/0!
B11: JAL（日本航空）福岡 | C11: 福岡 | G11: 0 | H11: 0 | I11: #DIV/0! | J11: 0 | K11: 0 | L11: 0 | M11: #DIV/0! | N11: 0 | O11: #DIV/0! | P11: #DIV/0! | Q11: #DIV/0!
B12: JAL（日本航空）名古屋 | C12: 名古屋 | G12: 0 | H12: 0 | I12: #DIV/0! | J12: 0 | K12: 0 | L12: 0 | M12: #DIV/0! | N12: 0 | O12: #DIV/0! | P12: #DIV/0! | Q12: #DIV/0!
B13: JAL（日本航空）成田 | C13: 成田 | G13: 0 | H13: 0 | I13: #DIV/0! | J13: 0 | K13: 0 | L13: 0 | M13: #DIV/0! | N13: 0 | O13: #DIV/0! | P13: #DIV/0! | Q13: #DIV/0!
B14: JAL（日本航空）仙台 | C14: 仙台 | G14: 0 | H14: 0 | I14: #DIV/0! | J14: 0 | K14: 0 | L14: 0 | M14: #DIV/0! | N14: 0 | O14: #DIV/0! | P14: #DIV/0! | Q14: #DIV/0!
B15: JAL（日本航空）神戸 | C15: 神戸 | G15: 0 | H15: 0 | I15: #DIV/0! | J15: 0 | K15: 0 | L15: 0 | M15: #DIV/0! | N15: 0 | O15: #DIV/0! | P15: #DIV/0! | Q15: #DIV/0!
B16: JAL（日本航空）花巻 | C16: 花巻 | G16: 0 | H16: 0 | I16: #DIV/0! | J16: 0 | K16: 0 | L16: 0 | M16: #DIV/0! | N16: 0 | O16: #DIV/0! | P16: #DIV/0! | Q16: #DIV/0!
B17: JAL（日本航空）羽田石垣 | C17: 羽田 | D17: - | E17: 石垣 | G17: 0 | H17: 0 | I17: #DIV/0! | J17: 0 | K17: 0 | L17: 0 | M17: #DIV/0! | N17: 0 | O17: #DIV/0! | P17: #DIV/0! | Q17: #DIV/0!
B18: JAL（日本航空）羽田宮古 | C18: 羽田 | D18: - | E18: 宮古 | G18: 0 | H18: 179 | I18: 0 | J18: -179 | K18: 0 | L18: 199 | M18: 0 | N18: -199 | O18: #DIV/0! | P18: 0.89949749 | Q18: #DIV/0!
B19: JAL（日本航空）羽田久米島 | C19: 羽田 | D19: - | E19: 久米島 | G19: 0 | H19: 0 | I19: #DIV/0! | J19: 0 | K19: 0 | L19: 0 | M19: #DIV/0! | N19: 0 | O19: #DIV/0! | P19: #DIV/0! | Q19: #DIV/0!
B20: JAL（日本航空）沖永良部 | C20: 沖永良部 | G20: 0 | H20: 0 | I20: #DIV/0! | J20: 0 | K20: 0 | L20: 0 | M20: #DIV/0! | N20: 0 | O20: #DIV/0! | P20: #DIV/0! | Q20: #DIV/0!
B21: JTA（日本トランスオーシャン航空） | G21: 89753 | H21: 83734 | I21: 1.0718824 | J21: 6019 | K21: 104280 | L21: 98835 | M21: 1.0550918 | N21: 5445 | O21: 0.86069237 | P21: 0.84721 | Q21: 0.01348237
B22: JTA（日本トランスオーシャン航空）羽田 | C22: 羽田 | G22: 0 | H22: 0 | I22: #DIV/0! | J22: 0 | K22: 0 | L22: 0 | M22: #DIV/0! | N22: 0 | O22: #DIV/0! | P22: #DIV/0! | Q22: #DIV/0!
B23: JTA（日本トランスオーシャン航空）関西 | C23: 関西 | F23: ◎ | G23: 12649 | H23: 11540 | I23: 1.0961005 | J23: 1109 | K23: 14850 | L23: 14850 | M23: 1 | N23: 0 | O23: 0.85178451 | P23: 0.77710438 | Q23: 0.074680135
B24: JTA（日本トランスオーシャン航空）福岡 | C24: 福岡 | F24: ◎ | G24: 29645 | H24: 25938 | I24: 1.1429177 | J24: 3707 | K24: 34650 | L24: 29700 | M24: 1.1666667 | N24: 4950 | O24: 0.85555556 | P24: 0.87333333 | Q24: -0.017777778
B25: JTA（日本トランスオーシャン航空）羽田石垣 | C25: 羽田 | D25: - | E25: 石垣 | F25: ◎ | G25: 8433 | H25: 8827 | I25: 0.95536422 | J25: -394 | K25: 9735 | L25: 9900 | M25: 0.98333333 | N25: -165 | O25: 0.86625578 | P25: 0.89161616 | Q25: -0.025360383
B26: JTA（日本トランスオーシャン航空）羽田宮古 | C26: 羽田 | D26: - | E26: 宮古 | F26: ◎ | G26: 4565 | H26: 4325 | I26: 1.0554913 | J26: 240 | K26: 4950 | L26: 4785 | M26: 1.0344828 | N26: 165 | O26: 0.92222222 | P26: 0.90386625 | Q26: 0.018355974
B27: JTA（日本トランスオーシャン航空）羽田久米島 | C27: 羽田 | D27: - | E27: 久米島 | F27: ○ | G27: 0 | H27: 0 | I27: #DIV/0! | J27: 0 | K27: 0 | L27: 0 | M27: #DIV/0! | N27: 0 | O27: #DIV/0! | P27: #DIV/0! | Q27: #DIV/0!
B28: JTA（日本トランスオーシャン航空）関西石垣 | C28: 関西 | D28: - | E28: 石垣 | F28: ◎ | G28: 4285 | H28: 4191 | I28: 1.022429 | J28: 94 | K28: 4950 | L28: 4950 | M28: 1 | N28: 0 | O28: 0.86565657 | P28: 0.84666667 | Q28: 0.018989899
B29: JTA（日本トランスオーシャン航空）関西宮古 | C29: 関西 | D29: - | E29: 宮古 | G29: 3841 | H29: 3789 | I29: 1.0137239 | J29: 52 | K29: 4950 | L29: 4950 | M29: 1 | N29: 0 | O29: 0.7759596 | P29: 0.76545455 | Q29: 0.010505051
B30: JTA（日本トランスオーシャン航空）神戸石垣 | C30: 神戸 | D30: - | E30: 石垣 | G30: 0 | H30: 0 | I30: #DIV/0! | J30: 0 | K30: 0 | L30: 0 | M30: #DIV/0! | N30: 0 | O30: #DIV/0! | P30: #DIV/0! | Q30: #DIV/0!
B31: JTA（日本トランスオーシャン航空）名古屋石垣 | C31: 名古屋 | D31: - | E31: 石垣 | G31: 0 | H31: 0 | I31: #DIV/0! | J31: 0 | K31: 0 | L31: 0 | M31: #DIV/0! | N31: 0 | O31: #DIV/0! | P31: #DIV/0! | Q31: #DIV/0!
B32: JTA（日本トランスオーシャン航空）名古屋宮古 | C32: 名古屋 | D32: - | E32: 宮古 | G32: 0 | H32: 0 | I32: #DIV/0! | J32: 0 | K32: 0 | L32: 0 | M32: #DIV/0! | N32: 0 | O32: #DIV/0! | P32: #DIV/0! | Q32: #DIV/0!
B33: JTA（日本トランスオーシャン航空）仙台 | C33: 仙台 | G33: 0 | H33: 0 | I33: #DIV/0! | J33: 0 | K33: 0 | L33: 0 | M33: #DIV/0! | N33: 0 | O33: #DIV/0! | P33: #DIV/0! | Q33: #DIV/0!
B34: JTA（日本トランスオーシャン航空）松山 | C34: 松山 | G34: 0 | H34: 0 | I34: #DIV/0! | J34: 0 | K34: 0 | L34: 0 | M34: #DIV/0! | N34: 0 | O34: #DIV/0! | P34: #DIV/0! | Q34: #DIV/0!
B35: JTA（日本トランスオーシャン航空）高知 | C35: 高知 | G35: 0 | H35: 0 | I35: #DIV/0! | J35: 0 | K35: 0 | L35: 0 | M35: #DIV/0! | N35: 0 | O35: #DIV/0! | P35: #DIV/0! | Q35: #DIV/0!
B36: JTA（日本トランスオーシャン航空）岡山 | C36: 岡山 | F36: ◎ | G36: 4563 | H36: 4294 | I36: 1.0626456 | J36: 269 | K36: 4950 | L36: 4950 | M36: 1 | N36: 0 | O36: 0.92181818 | P36: 0.86747475 | Q36: 0.054343434
B37: JTA（日本トランスオーシャン航空）福島 | C37: 福島 | G37: 0 | H37: 0 | I37: #DIV/0! | J37: 0 | K37: 0 | L37: 0 | M37: #DIV/0! | N37: 0 | O37: #DIV/0! | P37: #DIV/0! | Q37: #DIV/0!
B38: JTA（日本トランスオーシャン航空）小松 | C38: 小松 | F38: ◎ | G38: 4418 | H38: 4230 | I38: 1.0444444 | J38: 188 | K38: 4950 | L38: 4950 | M38: 1 | N38: 0 | O38: 0.89252525 | P38: 0.85454545 | Q38: 0.037979798
B39: JTA（日本トランスオーシャン航空）北九州 | C39: 北九州 | G39: 0 | H39: 0 | I39: #DIV/0! | J39: 0 | K39: 0 | L39: 0 | M39: #DIV/0! | N39: 0 | O39: #DIV/0! | P39: #DIV/0! | Q39: #DIV/0!
B40: JTA（日本トランスオーシャン航空）神戸 | C40: 神戸 | G40: 0 | H40: 0 | I40: #DIV/0! | J40: 0 | K40: 0 | L40: 0 | M40: #DIV/0! | N40: 0 | O40: #DIV/0! | P40: #DIV/0! | Q40: #DIV/0!
B41: JTA（日本トランスオーシャン航空）名古屋 | C41: 名古屋 | F41: ◎ | G41: 17354 | H41: 16600 | I41: 1.0454217 | J41: 754 | K41: 20295 | L41: 19800 | M41: 1.025 | N41: 495 | O41: 0.85508746 | P41: 0.83838384 | Q41: 0.016703622
B42: RAC | G42: 1392 | H42: 1351 | I42: 1.0303479 | J42: 41 | K42: 1850 | L42: 1850 | M42: 1 | N42: 0 | O42: 0.75243243 | P42: 0.73027027 | Q42: 0.022162162
B43: RAC与論 | C43: 与論 | F43: ◎ | G43: 1392 | H43: 1351 | I43: 1.0303479 | J43: 41 | K43: 1850 | L43: 1850 | M43: 1 | N43: 0 | O43: 0.75243243 | P43: 0.73027027 | Q43: 0.022162162
B44: RAC奄美 | C44: 奄美 | F44: ◎ | G44: 0 | H44: 0 | I44: #DIV/0! | J44: 0 | K44: 0 | L44: 0 | M44: #DIV/0! | N44: 0 | O44: #DIV/0! | P44: #DIV/0! | Q44: #DIV/0!
B45: JAC | G45: 2387 | H45: 2560 | I45: 0.93242187 | J45: -173 | K45: 2736 | L45: 2880 | M45: 0.95 | N45: -144 | O45: 0.87244152 | P45: 0.88888889 | Q45: -0.016447368
B46: JAC沖永良部 | C46: 沖永良部 | F46: ◎ | G46: 1129 | H46: 1211 | I46: 0.93228737 | J46: -82 | K46: 1344 | L46: 1440 | M46: 0.93333333 | N46: -96 | O46: 0.84002976 | P46: 0.84097222 | Q46: -0.00094246032
B47: JAC与論 | C47: 与論 | F47: ◎ | G47: 1258 | H47: 1349 | I47: 0.93254262 | J47: -91 | K47: 1392 | L47: 1440 | M47: 0.96666667 | N47: -48 | O47: 0.90373563 | P47: 0.93680556 | Q47: -0.033069923
B48: JAC奄美 | C48: 奄美 | G48: 0 | H48: 0 | I48: #DIV/0! | J48: 0 | K48: 0 | L48: 0 | M48: #DIV/0! | N48: 0 | O48: #DIV/0! | P48: #DIV/0! | Q48: #DIV/0!
A49: b | B49: ANA + SNA | G49: 379612 | H49: 360340 | I49: 1.0534828 | J49: 19272 | K49: 437757 | L49: 441571 | M49: 0.99136266 | N49: -3814 | O49: 0.86717517 | P49: 0.81604091 | Q49: 0.051134259
B50: ANA（全日空） | G50: 352839 | H50: 336055 | I50: 1.0499442 | J50: 16784 | K50: 405347 | L50: 411478 | M50: 0.98510005 | N50: -6131 | O50: 0.8704616 | P50: 0.81670223 | Q50: 0.053759375
B51: ANA（全日空）羽田 | C51: 羽田 | F51: ◎ | G51: 140224 | H51: 131130 | I51: 1.069351 | J51: 9094 | K51: 157699 | L51: 154222 | M51: 1.0225454 | N51: 3477 | O51: 0.88918763 | P51: 0.8502678 | Q51: 0.038919834
B52: ANA（全日空）伊丹 | C52: 伊丹 | F52: ◎ | G52: 32046 | H52: 30449 | I52: 1.0524484 | J52: 1597 | K52: 35249 | L52: 35250 | M52: 0.99997163 | N52: -1 | O52: 0.90913217 | P52: 0.86380142 | Q52: 0.045330756
B53: ANA（全日空）関西 | C53: 関西 | F53: ◎ | G53: 12924 | H53: 15520 | I53: 0.83273196 | J53: -2596 | K53: 16130 | L53: 19920 | M53: 0.80973896 | N53: -3790 | O53: 0.80123993 | P53: 0.77911647 | Q53: 0.02212346
B54: ANA（全日空）神戸 | C54: 神戸 | F54: ◎ | G54: 8156 | H54: 8451 | I54: 0.96509289 | J54: -295 | K54: 9786 | L54: 11281 | M54: 0.86747629 | N54: -1495 | O54: 0.83343552 | P54: 0.74913571 | Q54: 0.084299805
B55: ANA（全日空）名古屋 | C55: 名古屋 | F55: ◎ | G55: 21030 | H55: 20642 | I55: 1.0187966 | J55: 388 | K55: 24808 | L55: 25355 | M55: 0.97842635 | N55: -547 | O55: 0.84771042 | P55: 0.8141195 | Q55: 0.033590913
B56: ANA（全日空）福岡 | C56: 福岡 | F56: ◎ | G56: 38992 | H56: 38541 | I56: 1.0117018 | J56: 451 | K56: 45240 | L56: 49532 | M56: 0.91334895 | N56: -4292 | O56: 0.86189213 | P56: 0.77810304 | Q56: 0.083789086
B57: ANA（全日空）成田 | C57: 成田 | F57: ◎ | G57: 0 | H57: 0 | I57: #DIV/0! | J57: 0 | K57: 0 | L57: 0 | M57: #DIV/0! | N57: 0 | O57: #DIV/0! | P57: #DIV/0! | Q57: #DIV/0!
B58: ANA（全日空）札幌 | C58: 札幌 | F58: ◎ | G58: 0 | H58: 0 | I58: #DIV/0! | J58: 0 | K58: 0 | L58: 0 | M58: #DIV/0! | N58: 0 | O58: #DIV/0! | P58: #DIV/0! | Q58: #DIV/0!
B59: ANA（全日空）仙台 | C59: 仙台 | F59: ◎ | G59: 7247 | H59: 6328 | I59: 1.1452276 | J59: 919 | K59: 8100 | L59: 8099 | M59: 1.0001235 | N59: 1 | O59: 0.89469136 | P59: 0.78133103 | Q59: 0.11336033
B60: ANA（全日空）新潟 | C60: 新潟 | F60: ○ | G60: 3675 | H60: 3079 | I60: 1.1935693 | J60: 596 | K60: 4980 | L60: 4980 | M60: 1 | N60: 0 | O60: 0.73795181 | P60: 0.61827309 | Q60: 0.11967871
B61: ANA（全日空）静岡 | C61: 静岡 | F61: ◎ | G61: 4376 | H61: 3156 | I61: 1.3865653 | J61: 1220 | K61: 4980 | L61: 4814 | M61: 1.0344828 | N61: 166 | O61: 0.87871486 | P61: 0.65558787 | Q61: 0.22312699
B62: ANA（全日空）広島 | C62: 広島 | F62: ◎ | G62: 6858 | H62: 5922 | I62: 1.1580547 | J62: 936 | K62: 8100 | L62: 7996 | M62: 1.0130065 | N62: 104 | O62: 0.84666667 | P62: 0.74062031 | Q62: 0.10604636
B63: ANA（全日空）岩国 | C63: 岩国 | F63: ○ | G63: 3978 | H63: 3722 | I63: 1.0687802 | J63: 256 | K63: 4980 | L63: 4980 | M63: 1 | N63: 0 | O63: 0.79879518 | P63: 0.74738956 | Q63: 0.051405622
B64: ANA（全日空）高松 | C64: 高松 | F64: ◎ | G64: 4459 | H64: 4238 | I64: 1.0521472 | J64: 221 | K64: 5456 | L64: 5817 | M64: 0.93794052 | N64: -361 | O64: 0.8172654 | P64: 0.72855424 | Q64: 0.088711158
B65: ANA（全日空）松山 | C65: 松山 | F65: ◎ | G65: 4154 | H65: 3990 | I65: 1.0411028 | J65: 164 | K65: 4980 | L65: 4979 | M65: 1.0002008 | N65: 1 | O65: 0.83413655 | P65: 0.80136574 | Q65: 0.03277081
B66: ANA（全日空）北九州 | C66: 北九州 | F66: ○ | G66: 0 | H66: 0 | I66: #DIV/0! | J66: 0 | K66: 0 | L66: 0 | M66: #DIV/0! | N66: 0 | O66: #DIV/0! | P66: #DIV/0! | Q66: #DIV/0!
B67: ANA（全日空）熊本 | C67: 熊本 | F67: ◎ | G67: 4371 | H67: 4391 | I67: 0.99544523 | J67: -20 | K67: 4980 | L67: 4980 | M67: 1 | N67: 0 | O67: 0.87771084 | P67: 0.88172691 | Q67: -0.0040160643
B68: ANA（全日空）長崎 | C68: 長崎 | F68: ◎ | G68: 0 | H68: 0 | I68: #DIV/0! | J68: 0 | K68: 0 | L68: 0 | M68: #DIV/0! | N68: 0 | O68: #DIV/0! | P68: #DIV/0! | Q68: #DIV/0!
B69: ANA（全日空）宮崎 | C69: 宮崎 | F69: ◎ | G69: 2884 | H69: 2728 | I69: 1.0571848 | J69: 156 | K69: 3191 | L69: 3660 | M69: 0.87185792 | N69: -469 | O69: 0.90379191 | P69: 0.74535519 | Q69: 0.15843672
B70: ANA（全日空）鹿児島 | C70: 鹿児島 | F70: ◎ | G70: 5616 | H70: 5729 | I70: 0.98027579 | J70: -113 | K70: 6301 | L70: 7316 | M70: 0.86126299 | N70: -1015 | O70: 0.8912871 | P70: 0.78307818 | Q70: 0.10820891
B71: ANA（全日空）羽田石垣 | C71: 羽田 | D71: - | E71: 石垣 | F71: ◎ | G71: 18873 | H71: 17252 | I71: 1.0939601 | J71: 1621 | K71: 22127 | L71: 21185 | M71: 1.0444654 | N71: 942 | O71: 0.85293985 | P71: 0.81434978 | Q71: 0.038590071
B72: ANA（全日空）羽田宮古 | C72: 羽田 | D72: - | E72: 宮古 | F72: ◎ | G72: 15974 | H72: 15447 | I72: 1.0341167 | J72: 527 | K72: 18340 | L72: 18120 | M72: 1.0121413 | N72: 220 | O72: 0.87099237 | P72: 0.85248344 | Q72: 0.018508923
B73: ANA（全日空）関西石垣 | C73: 関西 | D73: - | E73: 石垣 | F73: ◎ | G73: 4265 | H73: 3637 | I73: 1.1726698 | J73: 628 | K73: 4980 | L73: 4440 | M73: 1.1216216 | N73: 540 | O73: 0.8564257 | P73: 0.81914414 | Q73: 0.037281559
B74: ANA（全日空）関西宮古 | C74: 関西 | D74: - | E74: 宮古 | F74: ◎ | G74: 4272 | H74: 3731 | I74: 1.1450013 | J74: 541 | K74: 4980 | L74: 4592 | M74: 1.0844948 | N74: 388 | O74: 0.85783133 | P74: 0.8125 | Q74: 0.045331325
B75: ANA（全日空）伊丹石垣 | C75: 伊丹 | D75: - | E75: 石垣 | F75: ○ | G75: 0 | H75: 0 | I75: #DIV/0! | J75: 0 | K75: 0 | L75: 0 | M75: #DIV/0! | N75: 0 | O75: #DIV/0! | P75: #DIV/0! | Q75: #DIV/0!
B76: ANA（全日空）伊丹宮古 | C76: 伊丹 | D76: - | E76: 宮古 | F76: ○ | G76: 0 | H76: 0 | I76: #DIV/0! | J76: 0 | K76: 0 | L76: 0 | M76: #DIV/0! | N76: 0 | O76: #DIV/0! | P76: #DIV/0! | Q76: #DIV/0!
B77: ANA（全日空）名古屋石垣 | C77: 名古屋 | D77: - | E77: 石垣 | F77: ◎ | G77: 4171 | H77: 3826 | I77: 1.0901725 | J77: 345 | K77: 4980 | L77: 4980 | M77: 1 | N77: 0 | O77: 0.8375502 | P77: 0.76827309 | Q77: 0.069277108
B78: ANA（全日空）名古屋宮古 | C78: 名古屋 | D78: - | E78: 宮古 | F78: ◎ | G78: 4294 | H78: 4146 | I78: 1.0356971 | J78: 148 | K78: 4980 | L78: 4980 | M78: 1 | N78: 0 | O78: 0.862249 | P78: 0.83253012 | Q78: 0.029718876
B79: ANA（全日空）福岡石垣 | C79: 福岡 | D79: - | E79: 石垣 | F79: ◎ | G79: 0 | H79: 0 | I79: #DIV/0! | J79: 0 | K79: 0 | L79: 0 | M79: #DIV/0! | N79: 0 | O79: #DIV/0! | P79: #DIV/0! | Q79: #DIV/0!
B80: ANA（全日空）福岡宮古 | C80: 福岡 | D80: - | E80: 宮古 | F80: ○ | G80: 0 | H80: 0 | I80: #DIV/0! | J80: 0 | K80: 0 | L80: 0 | M80: #DIV/0! | N80: 0 | O80: #DIV/0! | P80: #DIV/0! | Q80: #DIV/0!
B81: ANA（全日空）沖永良部那覇 | C81: 沖永良部 | D81: - | E81: 那覇 | G81: - | H81: - | I81: - | J81: - | K81: - | L81: - | M81: - | N81: - | O81: - | P81: - | Q81: -
B82: ANA（全日空）奄美那覇 | C82: 奄美 | D82: - | E82: 那覇 | G82: - | H82: - | I82: - | J82: - | K82: - | L82: - | M82: - | N82: - | O82: - | P82: - | Q82: -
B83: SNA（ソラシドエア） | G83: 26773 | H83: 24285 | I83: 1.1024501 | J83: 2488 | K83: 32410 | L83: 30093 | M83: 1.0769946 | N83: 2317 | O83: 0.8260722 | P83: 0.80699831 | Q83: 0.019073895
B84: SNA（ソラシドエア）羽田 | C84: 羽田 | G84: 12207 | H84: 12190 | I84: 1.0013946 | J84: 17 | K84: 14072 | L84: 14375 | M84: 0.97892174 | N84: -303 | O84: 0.86746731 | P84: 0.848 | Q84: 0.019467311
B85: SNA（ソラシドエア）宮崎 | C85: 宮崎 | G85: 1528 | H85: 1274 | I85: 1.1993721 | J85: 254 | K85: 2037 | L85: 1562 | M85: 1.3040973 | N85: 475 | O85: 0.75012273 | P85: 0.815621 | Q85: -0.065498269
B86: SNA（ソラシドエア）鹿児島 | C86: 鹿児島 | G86: 3603 | H86: 2663 | I86: 1.3529854 | J86: 940 | K86: 4147 | L86: 3132 | M86: 1.3240741 | N86: 1015 | O86: 0.86882083 | P86: 0.85025543 | Q86: 0.018565406
B87: SNA（ソラシドエア）神戸 | C87: 神戸 | G87: 4826 | H87: 3898 | I87: 1.2380708 | J87: 928 | K87: 5882 | L87: 4915 | M87: 1.1967447 | N87: 967 | O87: 0.82046923 | P87: 0.7930824 | Q87: 0.027386827
B88: SNA（ソラシドエア）名古屋 | C88: 名古屋 | G88: 1320 | H88: 1029 | I88: 1.2827988 | J88: 291 | K88: 1598 | L88: 1395 | M88: 1.1455197 | N88: 203 | O88: 0.82603254 | P88: 0.73763441 | Q88: 0.088398132
B89: SNA（ソラシドエア）福岡 | C89: 福岡 | G89: 3289 | H89: 3231 | I89: 1.0179511 | J89: 58 | K89: 4674 | L89: 4714 | M89: 0.99151464 | N89: -40 | O89: 0.70367993 | P89: 0.68540518 | Q89: 0.018274755
B90: SNA（ソラシドエア）熊本 | C90: 熊本 | G90: 0 | H90: 0 | I90: #DIV/0! | J90: 0 | K90: 0 | L90: 0 | M90: #DIV/0! | N90: 0 | O90: #DIV/0! | P90: #DIV/0! | Q90: #DIV/0!
B91: SNA（ソラシドエア）長崎 | C91: 長崎 | G91: 0 | H91: 0 | I91: #DIV/0! | J91: 0 | K91: 0 | L91: 0 | M91: #DIV/0! | N91: 0 | O91: #DIV/0! | P91: #DIV/0! | Q91: #DIV/0!
A92: ｃ | B92: SKY | G92: 80935 | H92: 80024 | I92: 1.0113841 | J92: 911 | K92: 100536 | L92: 95403 | M92: 1.0538033 | N92: 5133 | O92: 0.80503501 | P92: 0.83879962 | Q92: -0.033764606
B93: SKY羽田 | C93: 羽田 | F93: ◎ | G93: 25583 | H93: 28091 | I93: 0.91071874 | J93: -2508 | K93: 31506 | L93: 31860 | M93: 0.98888889 | N93: -354 | O93: 0.81200406 | P93: 0.88170119 | Q93: -0.06969713
B94: SKY成田 | C94: 成田 | G94: 0 | H94: 0 | I94: #DIV/0! | J94: 0 | K94: 0 | L94: 0 | M94: #DIV/0! | N94: 0 | O94: #DIV/0! | P94: #DIV/0! | Q94: #DIV/0!
B95: SKY福岡 | C95: 福岡 | F95: ◎ | G95: 13922 | H95: 8623 | I95: 1.6145193 | J95: 5299 | K95: 15930 | L95: 10620 | M95: 1.5 | N95: 5310 | O95: 0.87394852 | P95: 0.81195857 | Q95: 0.061989956
B96: SKY関西 | C96: 関西 | G96: 0 | H96: 0 | I96: #DIV/0! | J96: 0 | K96: 0 | L96: 0 | M96: #DIV/0! | N96: 0 | O96: #DIV/0! | P96: #DIV/0! | Q96: #DIV/0!
B97: SKY神戸 | C97: 神戸 | F97: ◎ | G97: 16891 | H97: 17360 | I97: 0.97298387 | J97: -469 | K97: 21240 | L97: 21240 | M97: 1 | N97: 0 | O97: 0.79524482 | P97: 0.8173258 | Q97: -0.022080979
B98: SKY茨城 | C98: 茨城 | F98: ○ | G98: 4075 | H98: 4295 | I98: 0.94877765 | J98: -220 | K98: 5310 | L98: 5310 | M98: 1 | N98: 0 | O98: 0.76741996 | P98: 0.80885122 | Q98: -0.041431262
B99: SKY北九州 | C99: 北九州 | G99: 0 | H99: 0 | I99: #DIV/0! | J99: 0 | K99: 0 | L99: 0 | M99: #DIV/0! | N99: 0 | O99: #DIV/0! | P99: #DIV/0! | Q99: #DIV/0!
B100: SKY名古屋 | C100: 名古屋 | F100: ◎ | G100: 12387 | H100: 13035 | I100: 0.95028769 | J100: -648 | K100: 15930 | L100: 15753 | M100: 1.011236 | N100: 177 | O100: 0.77758945 | P100: 0.82746144 | Q100: -0.049871982
...

Sheet 11月月間
A1: ='R７'!A1 -> 令和７年度 | F1: 11月月間 | G1: 航空旅客輸送実績
A2: R7 | B2: （2025）年 | C2: 11
C3: 輸送実績人数 | G3: 提供座席数 | K3: 利用率
C4: 25'11月間 | D4: 24'11月間 | E4: 対前年同月比較 | G4: 25'11月間 | H4: 24'11月間 | I4: 対前年同月比較 | K4: 25'11月間 | L4: 24'11月間 | M4: 対前年 増減
E5: 比率 | F5: 増減数 | I5: 比率 | J5: 増減数
A6: 合 計 | C6: 698434 | D6: 668434 | E6: 1.044881 | F6: 30000 | G6: 803422 | H6: 793395 | I6: 1.0126381 | J6: 10027 | K6: 0.86932397 | L6: 0.84249838 | M6: 0.02682559
A7: ①＋②＋③＋④＋⑤
A8: ①東京方面（羽田、成田） | C8: 352713 | D8: 341289 | E8: 1.0334731 | F8: 11424 | G8: 396542 | H8: 389197 | I8: 1.0188722 | J8: 7345 | K8: 0.88947199 | L8: 0.87690553 | M8: 0.012566459
B9: JAL | C9: 122620 | D9: 119374 | E9: 1.0271919 | F9: 3246 | G9: 132803 | H9: 129440 | I9: 1.0259811 | J9: 3363 | K9: 0.92332252 | L9: 0.92223424 | M9: 0.0010882755
B10: JTA | C10: 12998 | D10: 13152 | E10: 0.98829075 | F10: -154 | G10: 14685 | H10: 14685 | I10: 1 | J10: 0 | K10: 0.88512087 | L10: 0.89560776 | M10: -0.010486891
B11: ANA | C11: 175071 | D11: 163829 | E11: 1.0686203 | F11: 11242 | G11: 198166 | H11: 193527 | I11: 1.0239708 | J11: 4639 | K11: 0.88345629 | L11: 0.84654338 | M11: 0.036912918
B12: SNA | C12: 12207 | D12: 12190 | E12: 1.0013946 | F12: 17 | G12: 14072 | H12: 14375 | I12: 0.97892174 | J12: -303 | K12: 0.86746731 | L12: 0.848 | M12: 0.019467311
B13: SKY | C13: 29817 | D13: 32744 | E13: 0.91060958 | F13: -2927 | G13: 36816 | H13: 37170 | I13: 0.99047619 | J13: -354 | K13: 0.80989244 | L13: 0.88092548 | M13: -0.071033039
A14: ②関西方面（関西、伊丹、神戸） | C14: 129733 | D14: 127584 | E14: 1.0168438 | F14: 2149 | G14: 151767 | H14: 155114 | I14: 0.97842232 | J14: -3347 | K14: 0.85481692 | L14: 0.82251763 | M14: 0.032299291
B15: JAL | C15: 21735 | D15: 21051 | E15: 1.0324925 | F15: 684 | G15: 23460 | H15: 23416 | I15: 1.0018791 | J15: 44 | K15: 0.92647059 | L15: 0.89900068 | M15: 0.027469905
B16: JTA | C16: 20775 | D16: 19520 | E16: 1.064293 | F16: 1255 | G16: 24750 | H16: 24750 | I16: 1 | J16: 0 | K16: 0.83939394 | L16: 0.78868687 | M16: 0.050707071
B17: ANA | C17: 61663 | D17: 61788 | E17: 0.99797695 | F17: -125 | G17: 71125 | H17: 75483 | I17: 0.94226515 | J17: -4358 | K17: 0.86696661 | L17: 0.81856842 | M17: 0.048398189
B18: SNA | C18: 4826 | D18: 3898 | E18: 1.2380708 | F18: 928 | G18: 5882 | H18: 4915 | I18: 1.1967447 | J18: 967 | K18: 0.82046923 | L18: 0.7930824 | M18: 0.027386827
B19: SKY | C19: 20734 | D19: 21327 | E19: 0.97219487 | F19: -593 | G19: 26550 | H19: 26550 | I19: 1 | J19: 0 | K19: 0.78094162 | L19: 0.80327684 | M19: -0.022335217
A20: ③福岡方面（福岡、北九州） | C20: 85848 | D20: 76333 | E20: 1.1246512 | F20: 9515 | G20: 100494 | H20: 94566 | I20: 1.0626864 | J20: 5928 | K20: 0.85425996 | L20: 0.80719286 | M20: 0.047067096
B21: JAL | C21: 0 | D21: 0 | E21: #DIV/0! | F21: 0 | G21: 0 | H21: 0 | I21: #DIV/0! | J21: 0 | K21: - | L21: - | M21: #VALUE!
B22: JTA | C22: 29645 | D22: 25938 | E22: 1.1429177 | F22: 3707 | G22: 34650 | H22: 29700 | I22: 1.1666667 | J22: 4950 | K22: 0.85555556 | L22: 0.87333333 | M22: -0.017777778
B23: ANA | C23: 38992 | D23: 38541 | E23: 1.0117018 | F23: 451 | G23: 45240 | H23: 49532 | I23: 0.91334895 | J23: -4292 | K23: 0.86189213 | L23: 0.77810304 | M23: 0.083789086
B24: SNA | C24: 3289 | D24: 3231 | E24: 1.0179511 | F24: 58 | G24: 4674 | H24: 4714 | I24: 0.99151464 | J24: -40 | K24: 0.70367993 | L24: 0.68540518 | M24: 0.018274755
B25: SKY | C25: 13922 | D25: 8623 | E25: 1.6145193 | F25: 5299 | G25: 15930 | H25: 10620 | I25: 1.5 | J25: 5310 | K25: 0.87394852 | L25: 0.81195857 | M25: 0.061989956
B26: SFJ | C26: 0 | D26: 0 | E26: #DIV/0! | F26: 0 | G26: 0 | H26: 0 | I26: #DIV/0! | J26: 0 | K26: - | L26: － | M26: #VALUE!
A27: ④名古屋方面 | C27: 60556 | D27: 59278 | E27: 1.0215594 | F27: 1278 | G27: 72591 | H27: 72263 | I27: 1.004539 | J27: 328 | K27: 0.8342081 | L27: 0.82030915 | M27: 0.013898949
B28: JAL | C28: 0 | D28: 0 | E28: #DIV/0! | F28: 0 | G28: 0 | H28: 0 | I28: #DIV/0! | J28: 0 | K28: - | L28: - | M28: #VALUE!
B29: JTA | C29: 17354 | D29: 16600 | E29: 1.0454217 | F29: 754 | G29: 20295 | H29: 19800 | I29: 1.025 | J29: 495 | K29: 0.85508746 | L29: 0.83838384 | M29: 0.016703622
B30: ANA | C30: 29495 | D30: 28614 | E30: 1.0307891 | F30: 881 | G30: 34768 | H30: 35315 | I30: 0.98451083 | J30: -547 | K30: 0.84833755 | L30: 0.8102506 | M30: 0.03808695
B31: SKY | C31: 12387 | D31: 13035 | E31: 0.95028769 | F31: -648 | G31: 15930 | H31: 15753 | I31: 1.011236 | J31: 177 | K31: 0.77758945 | L31: 0.82746144 | M31: -0.049871982
B32: SNA | C32: 1320 | D32: 1029 | E32: 1.2827988 | F32: 291 | G32: 1598 | H32: 1395 | I32: 1.1455197 | J32: 203 | K32: 0.82603254 | L32: 0.73763441 | M32: 0.088398132
A33: ⑤その他方面 | C33: 69584 | D33: 63950 | E33: 1.0881001 | F33: 5634 | G33: 82028 | H33: 82255 | I33: 0.99724029 | J33: -227 | K33: 0.8482957 | L33: 0.77746034 | M33: 0.070835367
B34: JAL | C34: 0 | D34: 0 | E34: #DIV/0! | F34: 0 | G34: 0 | H34: 0 | I34: #DIV/0! | J34: 0 | K34: - | L34: - | M34: #VALUE!
B35: JTA | C35: 8981 | D35: 8524 | E35: 1.0536133 | F35: 457 | G35: 9900 | H35: 9900 | I35: 1 | J35: 0 | K35: 0.90717172 | L35: 0.8610101 | M35: 0.046161616
B36: RAC | C36: 1392 | D36: 1351 | E36: 1.0303479 | F36: 41 | G36: 1850 | H36: 1850 | I36: 1 | J36: 0 | K36: 0.75243243 | L36: 0.73027027 | M36: 0.022162162
B37: JAC | C37: 2387 | D37: 2560 | E37: 0.93242187 | F37: -173 | G37: 2736 | H37: 2880 | I37: 0.95 | J37: -144 | K37: 0.87244152 | L37: 0.88888889 | M37: -0.016447368
B38: ANA | C38: 47618 | D38: 43283 | E38: 1.1001548 | F38: 4335 | G38: 56048 | H38: 57621 | I38: 0.97270093 | J38: -1573 | K38: 0.84959321 | L38: 0.75116711 | M38: 0.098426097
B39: SNA | C39: 5131 | D39: 3937 | E39: 1.3032766 | F39: 1194 | G39: 6184 | H39: 4694 | I39: 1.3174265 | J39: 1490 | K39: 0.82972186 | L39: 0.83873029 | M39: -0.0090084311
B40: SKY | C40: 4075 | D40: 4295 | E40: 0.94877765 | F40: -220 | G40: 5310 | H40: 5310 | I40: 1 | J40: 0 | K40: 0.76741996 | L40: 0.80885122 | M40: -0.041431262
B41: 第一航空 | C41: 0 | D41: 0 | E41: #DIV/0! | F41: 0 | G41: 0 | H41: 0 | I41: #DIV/0! | J41: 0 | K41: - | L41: - | M41: #VALUE!

Sheet 12月（月間）
A1: ='R７'!A1 -> 令和７年度 | J1: 12月（月間） | K1: 航空旅客輸送実績
A2: 7 | C2: 2025 | D2: 年 | E2: 12 | F2: 月 | G2: 輸送実績（旅客実績） | K2: 提供座席 | O2: 利用率
A3: キャリア・路線 | G3: 25'12/1-12/31 | H3: 24'12/1-12/31 (前年同月) | I3: 対前年同月比 | K3: 25'12/1-12/31 | L3: 24'12/1-12/31 (前年同月) | M3: 対前年同月比 | O3: 25'12/1-12/31 | P3: 24'12/1-12/31 (前年同月) | Q3: 増減数
I4: 比率 | J4: 増減数 | M4: 比率 | N4: 増減数
A5: 合計 a+b+c+d+e | G5: 671104 | H5: 643745 | I5: 1.0424997 | J5: 27359 | K5: 830205 | L5: 818897 | M5: 1.0138088 | N5: 11308 | O5: 0.80835938 | P5: 0.78611229 | Q5: 0.022247086
A6: a | B6: JAL + JTA + RAC+JAC | G6: 230241 | H6: 225053 | I6: 1.0230523 | J6: 5188 | K6: 277059 | L6: 269646 | M6: 1.0274916 | N6: 7413 | O6: 0.83101794 | P6: 0.83462391 | Q6: -0.0036059723
B7: JAL（日本航空） | G7: 147372 | H7: 142745 | I7: 1.0324144 | J7: 4627 | K7: 167923 | L7: 161930 | M7: 1.0370098 | N7: 5993 | O7: 0.87761653 | P7: 0.88152288 | Q7: -0.0039063536
B8: JAL（日本航空）羽田 | C8: 羽田 | F8: ◎ | G8: 120672 | H8: 117295 | I8: 1.0287907 | J8: 3377 | K8: 137261 | L8: 131838 | M8: 1.0411338 | N8: 5423 | O8: 0.87914266 | P8: 0.88969038 | Q8: -0.010547722
B9: JAL（日本航空）伊丹 | C9: 伊丹 | F9: ◎ | G9: 22491 | H9: 21999 | I9: 1.0223647 | J9: 492 | K9: 26321 | L9: 26222 | M9: 1.0037755 | N9: 99 | O9: 0.85448881 | P9: 0.83895203 | Q9: 0.015536786
B10: JAL（日本航空）関西 | C10: 関西 | G10: 0 | H10: 0 | I10: #DIV/0! | J10: 0 | K10: 0 | L10: 0 | M10: #DIV/0! | N10: 0 | O10: #DIV/0! | P10: #DIV/0! | Q10: #DIV/0!
B11: JAL（日本航空）福岡 | C11: 福岡 | G11: 0 | H11: 0 | I11: #DIV/0! | J11: 0 | K11: 0 | L11: 0 | M11: #DIV/0! | N11: 0 | O11: #DIV/0! | P11: #DIV/0! | Q11: #DIV/0!
B12: JAL（日本航空）名古屋 | C12: 名古屋 | G12: 0 | H12: 0 | I12: #DIV/0! | J12: 0 | K12: 0 | L12: 0 | M12: #DIV/0! | N12: 0 | O12: #DIV/0! | P12: #DIV/0! | Q12: #DIV/0!
B13: JAL（日本航空）成田 | C13: 成田 | G13: 0 | H13: 0 | I13: #DIV/0! | J13: 0 | K13: 0 | L13: 0 | M13: #DIV/0! | N13: 0 | O13: #DIV/0! | P13: #DIV/0! | Q13: #DIV/0!
B14: JAL（日本航空）仙台 | C14: 仙台 | G14: 0 | H14: 0 | I14: #DIV/0! | J14: 0 | K14: 0 | L14: 0 | M14: #DIV/0! | N14: 0 | O14: #DIV/0! | P14: #DIV/0! | Q14: #DIV/0!
B15: JAL（日本航空）神戸 | C15: 神戸 | G15: 0 | H15: 0 | I15: #DIV/0! | J15: 0 | K15: 0 | L15: 0 | M15: #DIV/0! | N15: 0 | O15: #DIV/0! | P15: #DIV/0! | Q15: #DIV/0!
B16: JAL（日本航空）花巻 | C16: 花巻 | G16: 0 | H16: 0 | I16: #DIV/0! | J16: 0 | K16: 0 | L16: 0 | M16: #DIV/0! | N16: 0 | O16: #DIV/0! | P16: #DIV/0! | Q16: #DIV/0!
B17: JAL（日本航空）羽田石垣 | C17: 羽田 | D17: - | E17: 石垣 | G17: 2666 | H17: 2228 | I17: 1.1965889 | J17: 438 | K17: 2775 | L17: 2610 | M17: 1.0632184 | N17: 165 | O17: 0.96072072 | P17: 0.85363985 | Q17: 0.10708087
B18: JAL（日本航空）羽田宮古 | C18: 羽田 | D18: - | E18: 宮古 | G18: 1543 | H18: 1223 | I18: 1.2616517 | J18: 320 | K18: 1566 | L18: 1260 | M18: 1.2428571 | N18: 306 | O18: 0.9853129 | P18: 0.97063492 | Q18: 0.014677978
B19: JAL（日本航空）羽田久米島 | C19: 羽田 | D19: - | E19: 久米島 | G19: 0 | H19: 0 | I19: #DIV/0! | J19: 0 | K19: 0 | L19: 0 | M19: #DIV/0! | N19: 0 | O19: #DIV/0! | P19: #DIV/0! | Q19: #DIV/0!
B20: JAL（日本航空）沖永良部 | C20: 沖永良部 | G20: 0 | H20: 0 | I20: #DIV/0! | J20: 0 | K20: 0 | L20: 0 | M20: #DIV/0! | N20: 0 | O20: #DIV/0! | P20: #DIV/0! | Q20: #DIV/0!
B21: JTA（日本トランスオーシャン航空） | G21: 79831 | H21: 78210 | I21: 1.0207262 | J21: 1621 | K21: 104610 | L21: 101640 | M21: 1.0292208 | N21: 2970 | O21: 0.76312972 | P21: 0.76948052 | Q21: -0.0063507996
B22: JTA（日本トランスオーシャン航空）羽田 | C22: 羽田 | G22: 156 | H22: 0 | I22: #DIV/0! | J22: 156 | K22: 165 | L22: 0 | M22: #DIV/0! | N22: 165 | O22: 0.94545455 | P22: #DIV/0! | Q22: #DIV/0!
B23: JTA（日本トランスオーシャン航空）関西 | C23: 関西 | F23: ◎ | G23: 11294 | H23: 10447 | I23: 1.0810759 | J23: 847 | K23: 15015 | L23: 15345 | M23: 0.97849462 | N23: -330 | O23: 0.75218115 | P23: 0.68080808 | Q23: 0.071373071
B24: JTA（日本トランスオーシャン航空）福岡 | C24: 福岡 | F24: ◎ | G24: 27426 | H24: 25631 | I24: 1.0700324 | J24: 1795 | K24: 35145 | L24: 30690 | M24: 1.1451613 | N24: 4455 | O24: 0.78036705 | P24: 0.83515803 | Q24: -0.054790981
B25: JTA（日本トランスオーシャン航空）羽田石垣 | C25: 羽田 | D25: - | E25: 石垣 | F25: ◎ | G25: 6812 | H25: 6972 | I25: 0.97705106 | J25: -160 | K25: 8415 | L25: 8580 | M25: 0.98076923 | N25: -165 | O25: 0.80950683 | P25: 0.81258741 | Q25: -0.0030805796
B26: JTA（日本トランスオーシャン航空）羽田宮古 | C26: 羽田 | D26: - | E26: 宮古 | F26: ◎ | G26: 3232 | H26: 3827 | I26: 0.84452574 | J26: -595 | K26: 4125 | L26: 4290 | M26: 0.96153846 | N26: -165 | O26: 0.78351515 | P26: 0.89207459 | Q26: -0.10855944
B27: JTA（日本トランスオーシャン航空）羽田久米島 | C27: 羽田 | D27: - | E27: 久米島 | F27: ○ | G27: 0 | H27: 0 | I27: #DIV/0! | J27: 0 | K27: 0 | L27: 0 | M27: #DIV/0! | N27: 0 | O27: #DIV/0! | P27: #DIV/0! | Q27: #DIV/0!
B28: JTA（日本トランスオーシャン航空）関西石垣 | C28: 関西 | D28: - | E28: 石垣 | F28: ◎ | G28: 3665 | H28: 3707 | I28: 0.98867008 | J28: -42 | K28: 5115 | L28: 5115 | M28: 1 | N28: 0 | O28: 0.71652004 | P28: 0.72473118 | Q28: -0.0082111437
B29: JTA（日本トランスオーシャン航空）関西宮古 | C29: 関西 | D29: - | E29: 宮古 | G29: 2538 | H29: 2630 | I29: 0.96501901 | J29: -92 | K29: 5115 | L29: 5115 | M29: 1 | N29: 0 | O29: 0.49618768 | P29: 0.514174 | Q29: -0.017986315
B30: JTA（日本トランスオーシャン航空）神戸石垣 | C30: 神戸 | D30: - | E30: 石垣 | G30: 0 | H30: 0 | I30: #DIV/0! | J30: 0 | K30: 0 | L30: 0 | M30: #DIV/0! | N30: 0 | O30: #DIV/0! | P30: #DIV/0! | Q30: #DIV/0!
B31: JTA（日本トランスオーシャン航空）名古屋石垣 | C31: 名古屋 | D31: - | E31: 石垣 | G31: 0 | H31: 760 | I31: 0 | J31: -760 | K31: 0 | L31: 825 | M31: 0 | N31: -825 | O31: #DIV/0! | P31: 0.92121212 | Q31: #DIV/0!
B32: JTA（日本トランスオーシャン航空）名古屋宮古 | C32: 名古屋 | D32: - | E32: 宮古 | G32: 0 | H32: 625 | I32: 0 | J32: -625 | K32: 0 | L32: 660 | M32: 0 | N32: -660 | O32: #DIV/0! | P32: 0.9469697 | Q32: #DIV/0!
B33: JTA（日本トランスオーシャン航空）仙台 | C33: 仙台 | G33: 0 | H33: 0 | I33: #DIV/0! | J33: 0 | K33: 0 | L33: 0 | M33: #DIV/0! | N33: 0 | O33: #DIV/0! | P33: #DIV/0! | Q33: #DIV/0!
B34: JTA（日本トランスオーシャン航空）松山 | C34: 松山 | G34: 0 | H34: 0 | I34: #DIV/0! | J34: 0 | K34: 0 | L34: 0 | M34: #DIV/0! | N34: 0 | O34: #DIV/0! | P34: #DIV/0! | Q34: #DIV/0!
B35: JTA（日本トランスオーシャン航空）高知 | C35: 高知 | G35: 0 | H35: 0 | I35: #DIV/0! | J35: 0 | K35: 0 | L35: 0 | M35: #DIV/0! | N35: 0 | O35: #DIV/0! | P35: #DIV/0! | Q35: #DIV/0!
