Workbook

Sheet R７
A1: 令和７年度 | B1: 航空旅客輸送実績
A2: 月 | B2: 実績 | E2: 路線 | F2: 方面別
B3: 輸送実績 | C3: 提供座席数 | D3: 利用率 | E3: 月間 | F3: 月間
A4: ４月 | B4: ='４月（月間）'!$G$5 -> 627551 | C4: ='４月（月間）'!$K$5 -> 795095 | D4: =B4/C4 -> 0.78927801 | E4: ４月月間 | F4: ４月月間
A5: ５月 | B5: ='５月（月間）'!$G$5 -> 590421 | C5: ='５月（月間）'!$K$5 -> 800924 | D5: =B5/C5 -> 0.73717481 | E5: ５月月間 | F5: ５月月間
A6: ６月 | B6: ='６月（月間）'!$G$5 -> 606324 | C6: ='６月（月間）'!$K$5 -> 770277 | D6: =B6/C6 -> 0.7871506 | E6: ６月月間 | F6: ６月月間
A7: ７月 | B7: ='７月（月間）'!$G$5 -> 726817 | C7: ='７月（月間）'!$K$5 -> 849460 | D7: =B7/C7 -> 0.8556224 | E7: ７月月間 | F7: ７月月間
A8: ８月 | B8: ='８月（月間）'!$G$5 -> 805895 | C8: ='８月（月間）'!$K$5 -> 874449 | D8: =B8/C8 -> 0.9216032 | E8: ８月月間 | F8: ８月月間
A9: ９月 | B9: ='９月（月間）'!$G$5 -> 701849 | C9: ='９月（月間）'!$K$5 -> 801000 | D9: =B9/C9 -> 0.87621598 | E9: ９月月間 | F9: ９月月間
A10: 10月 | B10: ='10月（月間）'!$G$5 -> 754366 | C10: ='10月（月間）'!$K$5 -> 820748 | D10: =B10/C10 -> 0.91912012 | E10: 10月月間 | F10: 10月月間
A11: 11月 | B11: ='11月（月間）'!$G$5 -> 698434 | C11: ='11月（月間）'!$K$5 -> 803422 | D11: =B11/C11 -> 0.86932397 | E11: 11月月間 | F11: 11月月間
A12: 12月 | B12: ='12月（月間）'!$G$5 -> 671104 | C12: ='12月（月間）'!$K$5 -> 830205 | D12: =B12/C12 -> 0.80835938 | E12: 12月月間 | F12: 12月月間
A13: １月 | B13: ='１月（月間）'!$G$5 -> 619971 | C13: ='１月（月間）'!$K$5 -> 812691 | D13: =B13/C13 -> 0.7628619 | E13: １月月間 | F13: １月月間
A14: ２月 | B14: ='２月（月間）'!$G$5 -> 648604 | C14: ='２月（月間）'!$K$5 -> 722224 | D14: =B14/C14 -> 0.89806487 | E14: ２月月間 | F14: ２月月間
A15: ３月 | B15: ='３月（月間）'!$G$5 -> 767387 | C15: ='３月（月間）'!$K$5 -> 822956 | D15: =B15/C15 -> 0.93247634 | E15: ３月月間 | F15: ３月月間
A16: 合計 | B16: =SUM(B4:B15) -> 8218723 | C16: =SUM(C4:C15) -> 9703451 | D16: =B16/C16 -> 0.84698969 | E16: ※上記の各セルをクリックすると、各月・各旬ごとのシートに移動します。
E17: ※移動後の各シートでは、シート左上の年度の表記をクリックすると、このシートに戻ります。

Sheet ４月（月間）
A1: ='R７'!A1 -> 令和７年度 | J1: ４月（月間） | K1: 航空旅客輸送実績
A2: 7 | C2: 2025 | D2: 年 | E2: 4 | F2: 月 | G2: 輸送実績（旅客実績） | K2: 提供座席 | O2: 利用率
A3: キャリア・路線 | G3: 25'4/1-4/30 | H3: 24'4/1-4/30 (前年同月) | I3: 対前年同月比 | K3: 25'4/1-4/30 | L3: 24'4/1-4/30 (前年同月) | M3: 対前年同月比 | O3: 25'4/1-4/30 | P3: 24'4/1-4/30 (前年同月) | Q3: 増減数
I4: 比率 | J4: 増減数 | M4: 比率 | N4: 増減数
A5: 合計 a+b+c+d+e | G5: 627551 | H5: 600018 | I5: 1.045887 | J5: 27533 | K5: 795095 | L5: 776689 | M5: 1.023698 | N5: 18406 | O5: 0.78927801 | P5: 0.77253315 | Q5: 0.01674486
A6: a | B6: JAL + JTA + RAC+JAC | G6: 224129 | H6: 202606 | I6: 1.1062308 | J6: 21523 | K6: 262797 | L6: 257081 | M6: 1.0222342 | N6: 5716 | O6: 0.85285981 | P6: 0.7881018 | Q6: 0.064758007
B7: JAL（日本航空） | G7: 144673 | H7: 126268 | I7: 1.1457614 | J7: 18405 | K7: 164482 | L7: 157594 | M7: 1.0437072 | N7: 6888 | O7: 0.87956737 | P7: 0.8012234 | Q7: 0.078343972
B8: JAL（日本航空）羽田 | C8: 羽田 | F8: ◎ | G8: 113497 | H8: 99853 | I8: 1.1366409 | J8: 13644 | K8: 128969 | L8: 124679 | M8: 1.0344084 | N8: 4290 | O8: 0.88003319 | P8: 0.80088066 | Q8: 0.079152525
B9: JAL（日本航空）伊丹 | C9: 伊丹 | F9: ◎ | G9: 20699 | H9: 18534 | I9: 1.1168123 | J9: 2165 | K9: 23460 | L9: 23069 | M9: 1.0169492 | N9: 391 | O9: 0.88231032 | P9: 0.80341584 | Q9: 0.078894476
B10: JAL（日本航空）関西 | C10: 関西 | G10: 0 | H10: 0 | I10: #DIV/0! | J10: 0 | K10: 0 | L10: 0 | M10: #DIV/0! | N10: 0 | O10: #DIV/0! | P10: #DIV/0! | Q10: #DIV/0!
B11: JAL（日本航空）福岡 | C11: 福岡 | G11: 0 | H11: 0 | I11: #DIV/0! | J11: 0 | K11: 0 | L11: 0 | M11: #DIV/0! | N11: 0 | O11: #DIV/0! | P11: #DIV/0! | Q11: #DIV/0!
B12: JAL（日本航空）名古屋 | C12: 名古屋 | G12: 0 | H12: 0 | I12: #DIV/0! | J12: 0 | K12: 0 | L12: 0 | M12: #DIV/0! | N12: 0 | O12: #DIV/0! | P12: #DIV/0! | Q12: #DIV/0!
B13: JAL（日本航空）成田 | C13: 成田 | G13: 0 | H13: 0 | I13: #DIV/0! | J13: 0 | K13: 0 | L13: 0 | M13: #DIV/0! | N13: 0 | O13: #DIV/0! | P13: #DIV/0! | Q13: #DIV/0!
B14: JAL（日本航空）仙台 | C14: 仙台 | G14: 0 | H14: 0 | I14: #DIV/0! | J14: 0 | K14: 0 | L14: 0 | M14: #DIV/0! | N14: 0 | O14: #DIV/0! | P14: #DIV/0! | Q14: #DIV/0!
B15: JAL（日本航空）神戸 | C15: 神戸 | G15: 0 | H15: 0 | I15: #DIV/0! | J15: 0 | K15: 0 | L15: 0 | M15: #DIV/0! | N15: 0 | O15: #DIV/0! | P15: #DIV/0! | Q15: #DIV/0!
B16: JAL（日本航空）花巻 | C16: 花巻 | G16: 0 | H16: 0 | I16: #DIV/0! | J16: 0 | K16: 0 | L16: 0 | M16: #DIV/0! | N16: 0 | O16: #DIV/0! | P16: #DIV/0! | Q16: #DIV/0!
B17: JAL（日本航空）羽田石垣 | C17: 羽田 | D17: - | E17: 石垣 | G17: 7004 | H17: 5202 | I17: 1.3464052 | J17: 1802 | K17: 8399 | L17: 6768 | M17: 1.240987 | N17: 1631 | O17: 0.8339088 | P17: 0.76861702 | Q17: 0.065291777
B18: JAL（日本航空）羽田宮古 | C18: 羽田 | D18: - | E18: 宮古 | G18: 3473 | H18: 2679 | I18: 1.2963792 | J18: 794 | K18: 3654 | L18: 3078 | M18: 1.1871345 | N18: 576 | O18: 0.95046524 | P18: 0.87037037 | Q18: 0.080094873
B19: JAL（日本航空）羽田久米島 | C19: 羽田 | D19: - | E19: 久米島 | G19: 0 | H19: 0 | I19: #DIV/0! | J19: 0 | K19: 0 | L19: 0 | M19: #DIV/0! | N19: 0 | O19: #DIV/0! | P19: #DIV/0! | Q19: #DIV/0!
B20: JAL（日本航空）沖永良部 | C20: 沖永良部 | G20: 0 | H20: 0 | I20: #DIV/0! | J20: 0 | K20: 0 | L20: 0 | M20: #DIV/0! | N20: 0 | O20: #DIV/0! | P20: #DIV/0! | Q20: #DIV/0!
B21: JTA（日本トランスオーシャン航空） | G21: 75970 | H21: 73029 | I21: 1.0402717 | J21: 2941 | K21: 93885 | L21: 95205 | M21: 0.98613518 | N21: -1320 | O21: 0.80918145 | P21: 0.76707106 | Q21: 0.042110388
B22: JTA（日本トランスオーシャン航空）羽田 | C22: 羽田 | G22: 0 | H22: 0 | I22: #DIV/0! | J22: 0 | K22: 0 | L22: 0 | M22: #DIV/0! | N22: 0 | O22: #DIV/0! | P22: #DIV/0! | Q22: #DIV/0!
B23: JTA（日本トランスオーシャン航空）関西 | C23: 関西 | F23: ◎ | G23: 11115 | H23: 10199 | I23: 1.0898127 | J23: 916 | K23: 14850 | L23: 14685 | M23: 1.011236 | N23: 165 | O23: 0.74848485 | P23: 0.69451822 | Q23: 0.053966633
B24: JTA（日本トランスオーシャン航空）福岡 | C24: 福岡 | F24: ◎ | G24: 23575 | H24: 20255 | I24: 1.1639101 | J24: 3320 | K24: 29700 | L24: 29040 | M24: 1.0227273 | N24: 660 | O24: 0.79377104 | P24: 0.69748623 | Q24: 0.096284818
B25: JTA（日本トランスオーシャン航空）羽田石垣 | C25: 羽田 | D25: - | E25: 石垣 | F25: ◎ | G25: 4056 | H25: 5268 | I25: 0.76993166 | J25: -1212 | K25: 4455 | L25: 5610 | M25: 0.79411765 | N25: -1155 | O25: 0.91043771 | P25: 0.93903743 | Q25: -0.028599723
B26: JTA（日本トランスオーシャン航空）羽田宮古 | C26: 羽田 | D26: - | E26: 宮古 | F26: ◎ | G26: 2574 | H26: 2666 | I26: 0.96549137 | J26: -92 | K26: 2640 | L26: 2805 | M26: 0.94117647 | N26: -165 | O26: 0.975 | P26: 0.95044563 | Q26: 0.024554367
B27: JTA（日本トランスオーシャン航空）羽田久米島 | C27: 羽田 | D27: - | E27: 久米島 | F27: ○ | G27: 0 | H27: 0 | I27: #DIV/0! | J27: 0 | K27: 0 | L27: 0 | M27: #DIV/0! | N27: 0 | O27: #DIV/0! | P27: #DIV/0! | Q27: #DIV/0!
B28: JTA（日本トランスオーシャン航空）関西石垣 | C28: 関西 | D28: - | E28: 石垣 | F28: ◎ | G28: 4046 | H28: 4089 | I28: 0.98948398 | J28: -43 | K28: 4950 | L28: 4950 | M28: 1 | N28: 0 | O28: 0.81737374 | P28: 0.82606061 | Q28: -0.0086868687
B29: JTA（日本トランスオーシャン航空）関西宮古 | C29: 関西 | D29: - | E29: 宮古 | G29: 4189 | H29: 3731 | I29: 1.1227553 | J29: 458 | K29: 4950 | L29: 4950 | M29: 1 | N29: 0 | O29: 0.84626263 | P29: 0.75373737 | Q29: 0.092525253
B30: JTA（日本トランスオーシャン航空）神戸石垣 | C30: 神戸 | D30: - | E30: 石垣 | G30: 0 | H30: 0 | I30: #DIV/0! | J30: 0 | K30: 0 | L30: 0 | M30: #DIV/0! | N30: 0 | O30: #DIV/0! | P30: #DIV/0! | Q30: #DIV/0!
B31: JTA（日本トランスオーシャン航空）名古屋石垣 | C31: 名古屋 | D31: - | E31: 石垣 | G31: 667 | H31: 1373 | I31: 0.48579752 | J31: -706 | K31: 990 | L31: 1815 | M31: 0.54545455 | N31: -825 | O31: 0.67373737 | P31: 0.75647383 | Q31: -0.082736455
B32: JTA（日本トランスオーシャン航空）名古屋宮古 | C32: 名古屋 | D32: - | E32: 宮古 | G32: 930 | H32: 1721 | I32: 0.5403835 | J32: -791 | K32: 990 | L32: 1980 | M32: 0.5 | N32: -990 | O32: 0.93939394 | P32: 0.86919192 | Q32: 0.07020202
B33: JTA（日本トランスオーシャン航空）仙台 | C33: 仙台 | G33: 0 | H33: 0 | I33: #DIV/0! | J33: 0 | K33: 0 | L33: 0 | M33: #DIV/0! | N33: 0 | O33: #DIV/0! | P33: #DIV/0! | Q33: #DIV/0!
B34: JTA（日本トランスオーシャン航空）松山 | C34: 松山 | G34: 0 | H34: 0 | I34: #DIV/0! | J34: 0 | K34: 0 | L34: 0 | M34: #DIV/0! | N34: 0 | O34: #DIV/0! | P34: #DIV/0! | Q34: #DIV/0!
B35: JTA（日本トランスオーシャン航空）高知 | C35: 高知 | G35: 0 | H35: 0 | I35: #DIV/0! | J35: 0 | K35: 0 | L35: 0 | M35: #DIV/0! | N35: 0 | O35: #DIV/0! | P35: #DIV/0! | Q35: #DIV/0!
B36: JTA（日本トランスオーシャン航空）岡山 | C36: 岡山 | F36: ◎ | G36: 5132 | H36: 4707 | I36: 1.0902911 | J36: 425 | K36: 5610 | L36: 4950 | M36: 1.1333333 | N36: 660 | O36: 0.91479501 | P36: 0.95090909 | Q36: -0.036114082
B37: JTA（日本トランスオーシャン航空）福島 | C37: 福島 | G37: 0 | H37: 0 | I37: #DIV/0! | J37: 0 | K37: 0 | L37: 0 | M37: #DIV/0! | N37: 0 | O37: #DIV/0! | P37: #DIV/0! | Q37: #DIV/0!
B38: JTA（日本トランスオーシャン航空）小松 | C38: 小松 | F38: ◎ | G38: 3850 | H38: 3569 | I38: 1.0787335 | J38: 281 | K38: 4950 | L38: 4785 | M38: 1.0344828 | N38: 165 | O38: 0.77777778 | P38: 0.74587252 | Q38: 0.031905259
B39: JTA（日本トランスオーシャン航空）北九州 | C39: 北九州 | G39: 0 | H39: 0 | I39: #DIV/0! | J39: 0 | K39: 0 | L39: 0 | M39: #DIV/0! | N39: 0 | O39: #DIV/0! | P39: #DIV/0! | Q39: #DIV/0!
B40: JTA（日本トランスオーシャン航空）神戸 | C40: 神戸 | G40: 0 | H40: 0 | I40: #DIV/0! | J40: 0 | K40: 0 | L40: 0 | M40: #DIV/0! | N40: 0 | O40: #DIV/0! | P40: #DIV/0! | Q40: #DIV/0!
...

Sheet ４月月間
A1: ='R７'!A1 -> 令和７年度 | F1: ４月月間 | G1: 航空旅客輸送実績
A2: R7 | B2: （2025）年 | C2: 4
C3: 輸送実績人数 | G3: 提供座席数 | K3: 利用率
C4: 25'4月間 | D4: 24'4月間 | E4: 対前年同月比較 | G4: 25'4月間 | H4: 24'4月間 | I4: 対前年同月比較 | K4: 25'4月間 | L4: 24'4月間 | M4: 対前年 増減
E5: 比率 | F5: 増減数 | I5: 比率 | J5: 増減数
A6: 合 計 | C6: 627551 | D6: 600018 | E6: 1.045887 | F6: 27533 | G6: 795095 | H6: 776689 | I6: 1.023698 | J6: 18406 | K6: 0.78927801 | L6: 0.77253315 | M6: 0.01674486
A7: ①＋②＋③＋④＋⑤
A8: ①東京方面（羽田、成田） | C8: 322211 | D8: 304972 | E8: 1.0565265 | F8: 17239 | G8: 397213 | H8: 386010 | I8: 1.0290226 | J8: 11203 | K8: 0.81117939 | L8: 0.79006243 | M8: 0.021116959
B9: JAL | C9: 123974 | D9: 107734 | E9: 1.1507416 | F9: 16240 | G9: 141022 | H9: 134525 | I9: 1.0482959 | J9: 6497 | K9: 0.87911106 | L9: 0.80084743 | M9: 0.078263635
B10: JTA | C10: 6630 | D10: 7934 | E10: 0.83564406 | F10: -1304 | G10: 7095 | H10: 8415 | I10: 0.84313725 | J10: -1320 | K10: 0.93446089 | L10: 0.94284017 | M10: -0.0083792784
B11: ANA | C11: 151399 | D11: 144564 | E11: 1.0472801 | F11: 6835 | G11: 197912 | H11: 191806 | I11: 1.0318342 | J11: 6106 | K11: 0.76498141 | L11: 0.75369905 | M11: 0.011282356
B12: SNA | C12: 11481 | D12: 13035 | E12: 0.88078251 | F12: -1554 | G12: 14014 | H12: 14448 | I12: 0.96996124 | J12: -434 | K12: 0.81925218 | L12: 0.902201 | M12: -0.08294882
B13: SKY | C13: 28727 | D13: 31705 | E13: 0.9060716 | F13: -2978 | G13: 37170 | H13: 36816 | I13: 1.0096154 | J13: 354 | K13: 0.77285445 | L13: 0.86117449 | M13: -0.088320037
A14: ②関西方面（関西、伊丹、神戸） | C14: 121797 | D14: 120514 | E14: 1.0106461 | F14: 1283 | G14: 155373 | H14: 155016 | I14: 1.002303 | J14: 357 | K14: 0.78390068 | L14: 0.77742943 | M14: 0.0064712511
B15: JAL | C15: 20699 | D15: 18534 | E15: 1.1168123 | F15: 2165 | G15: 23460 | H15: 23069 | I15: 1.0169492 | J15: 391 | K15: 0.88231032 | L15: 0.80341584 | M15: 0.078894476
B16: JTA | C16: 19350 | D16: 18019 | E16: 1.0738665 | F16: 1331 | G16: 24750 | H16: 24585 | I16: 1.0067114 | J16: 165 | K16: 0.78181818 | L16: 0.73292658 | M16: 0.048891601
B17: ANA | C17: 56576 | D17: 57331 | E17: 0.98683086 | F17: -755 | G17: 74544 | H17: 74223 | I17: 1.0043248 | J17: 321 | K17: 0.75896115 | L17: 0.77241556 | M17: -0.013454408
B18: SNA | C18: 4926 | D18: 4917 | E18: 1.0018304 | F18: 9 | G18: 6069 | H18: 6235 | I18: 0.9733761 | J18: -166 | K18: 0.81166584 | L18: 0.78861267 | M18: 0.023053172
B19: SKY | C19: 20246 | D19: 21713 | E19: 0.93243679 | F19: -1467 | G19: 26550 | H19: 26904 | I19: 0.98684211 | J19: -354 | K19: 0.76256121 | L19: 0.80705471 | M19: -0.044493508
A20: ③福岡方面（福岡、北九州） | C20: 70229 | D20: 64448 | E20: 1.0897002 | F20: 5781 | G20: 95502 | H20: 94507 | I20: 1.0105283 | J20: 995 | K20: 0.7353668 | L20: 0.6819389 | M20: 0.053427895
B21: JAL | C21: 0 | D21: 0 | E21: #DIV/0! | F21: 0 | G21: 0 | H21: 0 | I21: #DIV/0! | J21: 0 | K21: - | L21: - | M21: #VALUE!
B22: JTA | C22: 23575 | D22: 20255 | E22: 1.1639101 | F22: 3320 | G22: 29700 | H22: 29040 | I22: 1.0227273 | J22: 660 | K22: 0.79377104 | L22: 0.69748623 | M22: 0.096284818
B23: ANA | C23: 32146 | D23: 29986 | E23: 1.0720336 | F23: 2160 | G23: 45171 | H23: 45190 | I23: 0.99957955 | J23: -19 | K23: 0.71165128 | L23: 0.66355388 | M23: 0.048097397
B24: SNA | C24: 3571 | D24: 2582 | E24: 1.3830364 | F24: 989 | G24: 4701 | H24: 4524 | I24: 1.0391247 | J24: 177 | K24: 0.75962561 | L24: 0.57073386 | M24: 0.18889175
B25: SKY | C25: 10937 | D25: 11625 | E25: 0.9408172 | F25: -688 | G25: 15930 | H25: 15753 | I25: 1.011236 | J25: 177 | K25: 0.68656623 | L25: 0.73795468 | M25: -0.051388448
B26: SFJ | C26: 0 | D26: 0 | E26: #DIV/0! | F26: 0 | G26: 0 | H26: 0 | I26: #DIV/0! | J26: 0 | K26: - | L26: － | M26: #VALUE!
A27: ④名古屋方面 | C27: 51529 | D27: 53163 | E27: 0.96926434 | F27: -1634 | G27: 66854 | H27: 64503 | I27: 1.0364479 | J27: 2351 | K27: 0.77076914 | L27: 0.82419422 | M27: -0.053425085
B28: JAL | C28: 0 | D28: 0 | E28: #DIV/0! | F28: 0 | G28: 0 | H28: 0 | I28: #DIV/0! | J28: 0 | K28: - | L28: - | M28: #VALUE!
B29: JTA | C29: 17433 | D29: 18545 | E29: 0.94003775 | F29: -1112 | G29: 21780 | H29: 23430 | I29: 0.92957746 | J29: -1650 | K29: 0.80041322 | L29: 0.79150662 | M29: 0.0089066077
B30: ANA | C30: 25763 | D30: 20551 | E30: 1.253613 | F30: 5212 | G30: 33271 | H30: 23397 | I30: 1.4220199 | J30: 9874 | K30: 0.77433801 | L30: 0.87836047 | M30: -0.10402246
B31: SKY | C31: 7055 | D31: 12602 | E31: 0.55983177 | F31: -5547 | G31: 10266 | H31: 15753 | I31: 0.65168539 | J31: -5487 | K31: 0.68721995 | L31: 0.79997461 | M31: -0.11275466
B32: SNA | C32: 1278 | D32: 1465 | E32: 0.87235495 | F32: -187 | G32: 1537 | H32: 1923 | I32: 0.79927197 | J32: -386 | K32: 0.83148992 | L32: 0.76183047 | M32: 0.069659442
A33: ⑤その他方面 | C33: 61785 | D33: 56921 | E33: 1.0854518 | F33: 4864 | G33: 80153 | H33: 76653 | I33: 1.0456603 | J33: 3500 | K33: 0.77083827 | L33: 0.7425802 | M33: 0.028258073
B34: JAL | C34: 0 | D34: 0 | E34: #DIV/0! | F34: 0 | G34: 0 | H34: 0 | I34: #DIV/0! | J34: 0 | K34: - | L34: - | M34: #VALUE!
B35: JTA | C35: 8982 | D35: 8276 | E35: 1.0853069 | F35: 706 | G35: 10560 | H35: 9735 | I35: 1.0847458 | J35: 825 | K35: 0.85056818 | L35: 0.8501284 | M35: 0.00043977915
B36: RAC | C36: 1247 | D36: 995 | E36: 1.2532663 | F36: 252 | G36: 1550 | H36: 1450 | I36: 1.0689655 | J36: 100 | K36: 0.80451613 | L36: 0.6862069 | M36: 0.11830923
B37: JAC | C37: 2239 | D37: 2314 | E37: 0.96758859 | F37: -75 | G37: 2880 | H37: 2832 | I37: 1.0169492 | J37: 48 | K37: 0.77743056 | L37: 0.8170904 | M37: -0.03965984
B38: ANA | C38: 41379 | D38: 37348 | E38: 1.1079308 | F38: 4031 | G38: 53625 | H38: 51342 | I38: 1.0444665 | J38: 2283 | K38: 0.77163636 | L38: 0.72743563 | M38: 0.044200736
B39: SNA | C39: 4516 | D39: 4198 | E39: 1.0757504 | F39: 318 | G39: 6228 | H39: 6161 | I39: 1.0108749 | J39: 67 | K39: 0.7251124 | L39: 0.68138289 | M39: 0.043729503
B40: SKY | C40: 3422 | D40: 3790 | E40: 0.90290237 | F40: -368 | G40: 5310 | H40: 5133 | I40: 1.0344828 | J40: 177 | K40: 0.64444444 | L40: 0.73835963 | M40: -0.093915189
...

Sheet ５月（月間）
A1: ='R７'!A1 -> 令和７年度 | J1: =RIGHT(CELL("filename",$A$1),LEN(CELL("filename",$A$1))-FIND("]",CELL("filename",$A$1))) -> ５月（月間） | K1: 航空旅客輸送実績
A2: 7 | C2: 2025 | D2: 年 | E2: 5 | F2: 月 | G2: 輸送実績（旅客実績） | K2: 提供座席 | O2: 利用率
A3: キャリア・路線 | G3: 25'5/1-5/31 | H3: 24'5/1-5/31 (前年同月) | I3: 対前年同月比 | K3: 25'5/1-5/31 | L3: 24'5/1-5/31 (前年同月) | M3: 対前年同月比 | O3: 25'5/1-5/31 | P3: 24'5/1-5/31 (前年同月) | Q3: 増減数
I4: 比率 | J4: 増減数 | M4: 比率 | N4: 増減数
A5: 合計 a+b+c+d+e | G5: 590421 | H5: 566408 | I5: 1.0423952 | J5: 24013 | K5: 800924 | L5: 809471 | M5: 0.98944125 | N5: -8547 | O5: 0.73717481 | P5: 0.69972612 | Q5: 0.037448696
A6: a | B6: JAL + JTA + RAC+JAC | G6: 210401 | H6: 187904 | I6: 1.119726 | J6: 22497 | K6: 263998 | L6: 270560 | M6: 0.9757466 | N6: -6562 | O6: 0.79697952 | P6: 0.6945003 | Q6: 0.10247923
B7: JAL（日本航空） | G7: 128728 | H7: 115101 | I7: 1.1183917 | J7: 13627 | K7: 158277 | L7: 163218 | M7: 0.9697276 | N7: -4941 | O7: 0.81330831 | P7: 0.70519796 | Q7: 0.10811036
B8: JAL（日本航空）羽田 | C8: 羽田 | F8: ◎ | G8: 103312 | H8: 91797 | I8: 1.1254398 | J8: 11515 | K8: 129138 | L8: 134456 | M8: 0.96044803 | N8: -5318 | O8: 0.80001239 | P8: 0.68272892 | Q8: 0.11728347
B9: JAL（日本航空）伊丹 | C9: 伊丹 | F9: ◎ | G9: 21477 | H9: 20278 | I9: 1.0591281 | J9: 1199 | K9: 24242 | L9: 24242 | M9: 1 | N9: 0 | O9: 0.88594175 | P9: 0.83648214 | Q9: 0.049459616
B10: JAL（日本航空）関西 | C10: 関西 | G10: 0 | H10: 0 | I10: #DIV/0! | J10: 0 | K10: 0 | L10: 0 | M10: #DIV/0! | N10: 0 | O10: #DIV/0! | P10: #DIV/0! | Q10: #DIV/0!
B11: JAL（日本航空）福岡 | C11: 福岡 | G11: 0 | H11: 0 | I11: #DIV/0! | J11: 0 | K11: 0 | L11: 0 | M11: #DIV/0! | N11: 0 | O11: #DIV/0! | P11: #DIV/0! | Q11: #DIV/0!
B12: JAL（日本航空）名古屋 | C12: 名古屋 | G12: 0 | H12: 0 | I12: #DIV/0! | J12: 0 | K12: 0 | L12: 0 | M12: #DIV/0! | N12: 0 | O12: #DIV/0! | P12: #DIV/0! | Q12: #DIV/0!
B13: JAL（日本航空）成田 | C13: 成田 | G13: 0 | H13: 0 | I13: #DIV/0! | J13: 0 | K13: 0 | L13: 0 | M13: #DIV/0! | N13: 0 | O13: #DIV/0! | P13: #DIV/0! | Q13: #DIV/0!
B14: JAL（日本航空）仙台 | C14: 仙台 | G14: 0 | H14: 0 | I14: #DIV/0! | J14: 0 | K14: 0 | L14: 0 | M14: #DIV/0! | N14: 0 | O14: #DIV/0! | P14: #DIV/0! | Q14: #DIV/0!
B15: JAL（日本航空）神戸 | C15: 神戸 | G15: 0 | H15: 0 | I15: #DIV/0! | J15: 0 | K15: 0 | L15: 0 | M15: #DIV/0! | N15: 0 | O15: #DIV/0! | P15: #DIV/0! | Q15: #DIV/0!
B16: JAL（日本航空）花巻 | C16: 花巻 | G16: 0 | H16: 0 | I16: #DIV/0! | J16: 0 | K16: 0 | L16: 0 | M16: #DIV/0! | N16: 0 | O16: #DIV/0! | P16: #DIV/0! | Q16: #DIV/0!
B17: JAL（日本航空）羽田石垣 | C17: 羽田 | D17: - | E17: 石垣 | G17: 2598 | H17: 1975 | I17: 1.315443 | J17: 623 | K17: 3331 | L17: 3008 | M17: 1.1073803 | N17: 323 | O17: 0.77994596 | P17: 0.65658245 | Q17: 0.12336352
B18: JAL（日本航空）羽田宮古 | C18: 羽田 | D18: - | E18: 宮古 | G18: 1341 | H18: 1051 | I18: 1.2759277 | J18: 290 | K18: 1566 | L18: 1512 | M18: 1.0357143 | N18: 54 | O18: 0.85632184 | P18: 0.69510582 | Q18: 0.16121602
B19: JAL（日本航空）羽田久米島 | C19: 羽田 | D19: - | E19: 久米島 | G19: 0 | H19: 0 | I19: #DIV/0! | J19: 0 | K19: 0 | L19: 0 | M19: #DIV/0! | N19: 0 | O19: #DIV/0! | P19: #DIV/0! | Q19: #DIV/0!
B20: JAL（日本航空）沖永良部 | C20: 沖永良部 | G20: 0 | H20: 0 | I20: #DIV/0! | J20: 0 | K20: 0 | L20: 0 | M20: #DIV/0! | N20: 0 | O20: #DIV/0! | P20: #DIV/0! | Q20: #DIV/0!
B21: JTA（日本トランスオーシャン航空） | G21: 77806 | H21: 69252 | I21: 1.1235199 | J21: 8554 | K21: 101145 | L21: 102960 | M21: 0.98237179 | N21: -1815 | O21: 0.76925206 | P21: 0.67261072 | Q21: 0.096641341
B22: JTA（日本トランスオーシャン航空）羽田 | C22: 羽田 | G22: 116 | H22: 0 | I22: #DIV/0! | J22: 116 | K22: 165 | L22: 0 | M22: #DIV/0! | N22: 165 | O22: 0.7030303 | P22: #DIV/0! | Q22: #DIV/0!
B23: JTA（日本トランスオーシャン航空）関西 | C23: 関西 | F23: ◎ | G23: 11504 | H23: 9742 | I23: 1.1808664 | J23: 1762 | K23: 15345 | L23: 15345 | M23: 1 | N23: 0 | O23: 0.74969045 | P23: 0.63486478 | Q23: 0.11482568
B24: JTA（日本トランスオーシャン航空）福岡 | C24: 福岡 | F24: ◎ | G24: 23267 | H24: 20041 | I24: 1.16097 | J24: 3226 | K24: 30690 | L24: 30525 | M24: 1.0054054 | N24: 165 | O24: 0.75812968 | P24: 0.65654382 | Q24: 0.10158587
B25: JTA（日本トランスオーシャン航空）羽田石垣 | C25: 羽田 | D25: - | E25: 石垣 | F25: ◎ | G25: 6626 | H25: 6825 | I25: 0.97084249 | J25: -199 | K25: 7920 | L25: 8250 | M25: 0.96 | N25: -330 | O25: 0.83661616 | P25: 0.82727273 | Q25: 0.0093434343
B26: JTA（日本トランスオーシャン航空）羽田宮古 | C26: 羽田 | D26: - | E26: 宮古 | F26: ◎ | G26: 3956 | H26: 3605 | I26: 1.0973648 | J26: 351 | K26: 4125 | L26: 4125 | M26: 1 | N26: 0 | O26: 0.9590303 | P26: 0.87393939 | Q26: 0.085090909
B27: JTA（日本トランスオーシャン航空）羽田久米島 | C27: 羽田 | D27: - | E27: 久米島 | F27: ○ | H27: 0 | I27: #DIV/0! | J27: 0 | L27: 0 | M27: #DIV/0! | N27: 0 | O27: #DIV/0! | P27: #DIV/0! | Q27: #DIV/0!
B28: JTA（日本トランスオーシャン航空）関西石垣 | C28: 関西 | D28: - | E28: 石垣 | F28: ◎ | G28: 4131 | H28: 3567 | I28: 1.1581161 | J28: 564 | K28: 5115 | L28: 5115 | M28: 1 | N28: 0 | O28: 0.80762463 | P28: 0.6973607 | Q28: 0.11026393
B29: JTA（日本トランスオーシャン航空）関西宮古 | C29: 関西 | D29: - | E29: 宮古 | G29: 4070 | H29: 3137 | I29: 1.2974179 | J29: 933 | K29: 5115 | L29: 5115 | M29: 1 | N29: 0 | O29: 0.79569892 | P29: 0.61329423 | Q29: 0.18240469
B30: JTA（日本トランスオーシャン航空）神戸石垣 | C30: 神戸 | D30: - | E30: 石垣 | H30: 0 | I30: #DIV/0! | J30: 0 | L30: 0 | M30: #DIV/0! | N30: 0 | O30: #DIV/0! | P30: #DIV/0! | Q30: #DIV/0!
B31: JTA（日本トランスオーシャン航空）名古屋石垣 | C31: 名古屋 | D31: - | E31: 石垣 | H31: 480 | I31: 0 | J31: -480 | L31: 990 | M31: 0 | N31: -990 | O31: #DIV/0! | P31: 0.48484848 | Q31: #DIV/0!
B32: JTA（日本トランスオーシャン航空）名古屋宮古 | C32: 名古屋 | D32: - | E32: 宮古 | H32: 742 | I32: 0 | J32: -742 | L32: 990 | M32: 0 | N32: -990 | O32: #DIV/0! | P32: 0.74949495 | Q32: #DIV/0!
B33: JTA（日本トランスオーシャン航空）仙台 | C33: 仙台 | H33: 0 | I33: #DIV/0! | J33: 0 | L33: 0 | M33: #DIV/0! | N33: 0 | O33: #DIV/0! | P33: #DIV/0! | Q33: #DIV/0!
B34: JTA（日本トランスオーシャン航空）松山 | C34: 松山 | H34: 0 | I34: #DIV/0! | J34: 0 | L34: 0 | M34: #DIV/0! | N34: 0 | O34: #DIV/0! | P34: #DIV/0! | Q34: #DIV/0!
B35: JTA（日本トランスオーシャン航空）高知 | C35: 高知 | H35: 0 | I35: #DIV/0! | J35: 0 | L35: 0 | M35: #DIV/0! | N35: 0 | O35: #DIV/0! | P35: #DIV/0! | Q35: #DIV/0!
B36: JTA（日本トランスオーシャン航空）岡山 | C36: 岡山 | F36: ◎ | G36: 5682 | H36: 5545 | I36: 1.0247069 | J36: 137 | K36: 6600 | L36: 6765 | M36: 0.97560976 | N36: -165 | O36: 0.86090909 | P36: 0.81966001 | Q36: 0.041249076
B37: JTA（日本トランスオーシャン航空）福島 | C37: 福島 | H37: 0 | I37: #DIV/0! | J37: 0 | L37: 0 | M37: #DIV/0! | N37: 0 | O37: #DIV/0! | P37: #DIV/0! | Q37: #DIV/0!
B38: JTA（日本トランスオーシャン航空）小松 | C38: 小松 | F38: ◎ | G38: 3466 | H38: 3069 | I38: 1.1293581 | J38: 397 | K38: 5115 | L38: 5115 | M38: 1 | N38: 0 | O38: 0.67761486 | P38: 0.6 | Q38: 0.077614858
B39: JTA（日本トランスオーシャン航空）北九州 | C39: 北九州 | H39: 0 | I39: #DIV/0! | J39: 0 | L39: 0 | M39: #DIV/0! | N39: 0 | O39: #DIV/0! | P39: #DIV/0! | Q39: #DIV/0!
B40: JTA（日本トランスオーシャン航空）神戸 | C40: 神戸 | H40: 0 | I40: #DIV/0! | J40: 0 | L40: 0 | M40: #DIV/0! | N40: 0 | O40: #DIV/0! | P40: #DIV/0! | Q40: #DIV/0!
...

Sheet ５月月間
A1: ='R７'!A1 -> 令和７年度 | F1: =RIGHT(CELL("filename",$A$1),LEN(CELL("filename",$A$1))-FIND("]",CELL("filename",$A$1))) -> ５月月間 | G1: 航空旅客輸送実績
A2: R7 | B2: （2025）年 | C2: 5
C3: 輸送実績人数 | G3: 提供座席数 | K3: 利用率
C4: 25'5月間 | D4: 24'5月間 | E4: 対前年同月比較 | G4: 25'5月間 | H4: 24'5月間 | I4: 対前年同月比較 | K4: 25'5月間 | L4: 24'5月間 | M4: 対前年 増減
E5: 比率 | F5: 増減数 | I5: 比率 | J5: 増減数
A6: 合 計 | C6: 590421 | D6: 566408 | E6: 1.0423952 | F6: 24013 | G6: 800924 | H6: 809471 | I6: 0.98944125 | J6: -8547 | K6: 0.73717481 | L6: 0.69972612 | M6: 0.037448696
A7: ①＋②＋③＋④＋⑤
A8: ①東京方面（羽田、成田） | C8: 294243 | D8: 281254 | E8: 1.0461825 | F8: 12989 | G8: 397097 | H8: 402395 | I8: 0.98683383 | J8: -5298 | K8: 0.7409852 | L8: 0.69895004 | M8: 0.042035163
B9: JAL | C9: 107251 | D9: 94823 | E9: 1.1310652 | F9: 12428 | G9: 134035 | H9: 138976 | I9: 0.9644471 | J9: -4941 | K9: 0.8001716 | L9: 0.68229766 | M9: 0.11787393
B10: JTA | C10: 10698 | D10: 10430 | E10: 1.0256951 | F10: 268 | G10: 12210 | H10: 12375 | I10: 0.98666667 | J10: -165 | K10: 0.87616708 | L10: 0.84282828 | M10: 0.033338793
B11: ANA | C11: 137869 | D11: 132447 | E11: 1.0409371 | F11: 5422 | G11: 198113 | H11: 197988 | I11: 1.0006314 | J11: 125 | K11: 0.69591092 | L11: 0.66896479 | M11: 0.026946134
B12: SNA | C12: 9616 | D12: 11365 | E12: 0.84610647 | F12: -1749 | G12: 14507 | H12: 14647 | I12: 0.99044173 | J12: -140 | K12: 0.66285242 | L12: 0.77592681 | M12: -0.11307439
B13: SKY | C13: 28809 | D13: 32189 | E13: 0.89499518 | F13: -3380 | G13: 38232 | H13: 38409 | I13: 0.99539171 | J13: -177 | K13: 0.75353107 | L13: 0.83805879 | M13: -0.084527715
A14: ②関西方面（関西、伊丹、神戸） | C14: 123966 | D14: 121817 | E14: 1.0176412 | F14: 2149 | G14: 157457 | H14: 159364 | I14: 0.98803368 | J14: -1907 | K14: 0.78730066 | L14: 0.76439472 | M14: 0.022905941
B15: JAL | C15: 21477 | D15: 20278 | E15: 1.0591281 | F15: 1199 | G15: 24242 | H15: 24242 | I15: 1 | J15: 0 | K15: 0.88594175 | L15: 0.83648214 | M15: 0.049459616
B16: JTA | C16: 19705 | D16: 16446 | E16: 1.1981637 | F16: 3259 | G16: 25575 | H16: 25575 | I16: 1 | J16: 0 | K16: 0.77047898 | L16: 0.64304985 | M16: 0.12742913
B17: ANA | C17: 58055 | D17: 57874 | E17: 1.0031275 | F17: 181 | G17: 74389 | H17: 75553 | I17: 0.9845936 | J17: -1164 | K17: 0.78042453 | L17: 0.76600532 | M17: 0.014419204
B18: SNA | C18: 4507 | D18: 4437 | E18: 1.0157764 | F18: 70 | G18: 6170 | H18: 5851 | I18: 1.0545206 | J18: 319 | K18: 0.73047002 | L18: 0.75833191 | M18: -0.027861893
B19: SKY | C19: 20222 | D19: 22782 | E19: 0.88763059 | F19: -2560 | G19: 27081 | H19: 28143 | I19: 0.96226415 | J19: -1062 | K19: 0.74672279 | L19: 0.80950858 | M19: -0.062785787
A20: ③福岡方面（福岡、北九州） | C20: 66642 | D20: 62292 | E20: 1.0698324 | F20: 4350 | G20: 98542 | H20: 101583 | I20: 0.97006389 | J20: -3041 | K20: 0.67628016 | L20: 0.61321284 | M20: 0.063067324
B21: JAL | C21: 0 | D21: 0 | E21: #DIV/0! | F21: 0 | G21: 0 | H21: 0 | I21: #DIV/0! | J21: 0 | K21: - | L21: - | M21: #VALUE!
B22: JTA | C22: 23267 | D22: 20041 | E22: 1.16097 | F22: 3226 | G22: 30690 | H22: 30525 | I22: 1.0054054 | J22: 165 | K22: 0.75812968 | L22: 0.65654382 | M22: 0.10158587
B23: ANA | C23: 29814 | D23: 27921 | E23: 1.0677984 | F23: 1893 | G23: 46835 | H23: 49903 | I23: 0.93852073 | J23: -3068 | K23: 0.63657521 | L23: 0.55950544 | M23: 0.07706977
B24: SNA | C24: 2725 | D24: 2188 | E24: 1.2454296 | F24: 537 | G24: 4556 | H24: 4871 | I24: 0.93533155 | J24: -315 | K24: 0.59811238 | L24: 0.44918908 | M24: 0.1489233
B25: SKY | C25: 10836 | D25: 12142 | E25: 0.89243947 | F25: -1306 | G25: 16461 | H25: 16284 | I25: 1.0108696 | J25: 177 | K25: 0.65828321 | L25: 0.74563989 | M25: -0.087356677
B26: SFJ | C26: 0 | D26: 0 | E26: #DIV/0! | F26: 0 | G26: 0 | H26: 0 | I26: #DIV/0! | J26: 0 | K26: - | L26: － | M26: #VALUE!
A27: ④名古屋方面 | C27: 45650 | D27: 45342 | E27: 1.0067928 | F27: 308 | G27: 65864 | H27: 65222 | I27: 1.0098433 | J27: 642 | K27: 0.69309486 | L27: 0.69519487 | M27: -0.0021000108
B28: JAL | C28: 0 | D28: 0 | E28: #DIV/0! | F28: 0 | G28: 0 | H28: 0 | I28: #DIV/0! | J28: 0 | K28: - | L28: - | M28: #VALUE!
B29: JTA | C29: 14988 | D29: 13721 | E29: 1.0923402 | F29: 1267 | G29: 20955 | H29: 22605 | I29: 0.9270073 | J29: -1650 | K29: 0.71524696 | L29: 0.6069896 | M29: 0.10825735
B30: ANA | C30: 21848 | D30: 17448 | E30: 1.2521779 | F30: 4400 | G30: 31937 | H30: 24335 | I30: 1.3123896 | J30: 7602 | K30: 0.68409682 | L30: 0.71699199 | M30: -0.032895171
B31: SKY | C31: 7610 | D31: 13081 | E31: 0.5817598 | F31: -5471 | G31: 11328 | H31: 16461 | I31: 0.68817204 | J31: -5133 | K31: 0.67178672 | L31: 0.79466618 | M31: -0.12287946
B32: SNA | C32: 1204 | D32: 1092 | E32: 1.1025641 | F32: 112 | G32: 1644 | H32: 1821 | I32: 0.90280066 | J32: -177 | K32: 0.7323601 | L32: 0.59967051 | M32: 0.13268959
A33: ⑤その他方面 | C33: 59920 | D33: 55703 | E33: 1.0757051 | F33: 4217 | G33: 81964 | H33: 80907 | I33: 1.0130644 | J33: 1057 | K33: 0.73105266 | L33: 0.68848184 | M33: 0.04257082
B34: JAL | C34: 0 | D34: 0 | E34: #DIV/0! | F34: 0 | G34: 0 | H34: 0 | I34: #DIV/0! | J34: 0 | K34: - | L34: - | M34: #VALUE!
B35: JTA | C35: 9148 | D35: 8614 | E35: 1.0619921 | F35: 534 | G35: 11715 | H35: 11880 | I35: 0.98611111 | J35: -165 | K35: 0.78087921 | L35: 0.72508418 | M35: 0.05579504
B36: RAC | C36: 1343 | D36: 1145 | E36: 1.1729258 | F36: 198 | G36: 1600 | H36: 1550 | I36: 1.0322581 | J36: 50 | K36: 0.839375 | L36: 0.73870968 | M36: 0.10066532
B37: JAC | C37: 2524 | D37: 2406 | E37: 1.0490441 | F37: 118 | G37: 2976 | H37: 2832 | I37: 1.0508475 | J37: 144 | K37: 0.84811828 | L37: 0.84957627 | M37: -0.0014579916
B38: ANA | C38: 39046 | D38: 35086 | E38: 1.1128655 | F38: 3960 | G38: 53749 | H38: 52718 | I38: 1.0195569 | J38: 1031 | K38: 0.72645072 | L38: 0.66554118 | M38: 0.060909543
B39: SNA | C39: 4561 | D39: 4539 | E39: 1.0048469 | F39: 22 | G39: 6437 | H39: 6440 | I39: 0.99953416 | J39: -3 | K39: 0.70855989 | L39: 0.70481366 | M39: 0.0037462236
B40: SKY | C40: 3298 | D40: 3913 | E40: 0.84283159 | F40: -615 | G40: 5487 | H40: 5487 | I40: 1 | J40: 0 | K40: 0.60105704 | L40: 0.71314015 | M40: -0.11208311
...

Sheet ６月（月間）
A1: ='R７'!A1 -> 令和７年度 | J1: ６月（月間） | K1: 航空旅客輸送実績
A2: 7 | C2: 2025 | D2: 年 | E2: 6 | F2: 月 | G2: 輸送実績（旅客実績） | K2: 提供座席 | O2: 利用率
A3: キャリア・路線 | G3: 25'6/1-6/30 | H3: 24'6/1-6/30 (前年同月) | I3: 対前年同月比 | K3: 25'6/1-6/30 | L3: 24'6/1-6/30 (前年同月) | M3: 対前年同月比 | O3: 25'6/1-6/30 | P3: 24'6/1-6/30 (前年同月) | Q3: 増減数
I4: 比率 | J4: 増減数 | M4: 比率 | N4: 増減数
A5: 合計 a+b+c+d+e | G5: 606324 | H5: 587005 | I5: 1.0329111 | J5: 19319 | K5: 770277 | L5: 773085 | M5: 0.9963678 | N5: -2808 | O5: 0.7871506 | P5: 0.75930202 | Q5: 0.027848579
A6: a | B6: JAL + JTA + RAC+JAC | G6: 213486 | H6: 192731 | I6: 1.107689 | J6: 20755 | K6: 255245 | L6: 252200 | M6: 1.0120738 | N6: 3045 | O6: 0.8363964 | P6: 0.76419905 | Q6: 0.072197355
B7: JAL（日本航空） | G7: 129258 | H7: 118015 | I7: 1.0952676 | J7: 11243 | K7: 151763 | L7: 148920 | M7: 1.0190908 | N7: 2843 | O7: 0.85170957 | P7: 0.79247247 | Q7: 0.059237105
B8: JAL（日本航空）羽田 | C8: 羽田 | F8: ◎ | G8: 107890 | H8: 99753 | I8: 1.0815715 | J8: 8137 | K8: 128303 | L8: 125460 | M8: 1.0226606 | N8: 2843 | O8: 0.84090006 | P8: 0.79509804 | Q8: 0.045802018
B9: JAL（日本航空）伊丹 | C9: 伊丹 | F9: ◎ | G9: 21368 | H9: 18262 | I9: 1.1700799 | J9: 3106 | K9: 23460 | L9: 23460 | M9: 1 | N9: 0 | O9: 0.91082694 | P9: 0.77843137 | Q9: 0.13239557
B10: JAL（日本航空）関西 | C10: 関西 | H10: 0 | I10: #DIV/0! | J10: 0 | L10: 0 | M10: #DIV/0! | N10: 0 | O10: #DIV/0! | P10: #DIV/0! | Q10: #DIV/0!
B11: JAL（日本航空）福岡 | C11: 福岡 | H11: 0 | I11: #DIV/0! | J11: 0 | L11: 0 | M11: #DIV/0! | N11: 0 | O11: #DIV/0! | P11: #DIV/0! | Q11: #DIV/0!
B12: JAL（日本航空）名古屋 | C12: 名古屋 | H12: 0 | I12: #DIV/0! | J12: 0 | L12: 0 | M12: #DIV/0! | N12: 0 | O12: #DIV/0! | P12: #DIV/0! | Q12: #DIV/0!
B13: JAL（日本航空）成田 | C13: 成田 | H13: 0 | I13: #DIV/0! | J13: 0 | L13: 0 | M13: #DIV/0! | N13: 0 | O13: #DIV/0! | P13: #DIV/0! | Q13: #DIV/0!
B14: JAL（日本航空）仙台 | C14: 仙台 | H14: 0 | I14: #DIV/0! | J14: 0 | L14: 0 | M14: #DIV/0! | N14: 0 | O14: #DIV/0! | P14: #DIV/0! | Q14: #DIV/0!
B15: JAL（日本航空）神戸 | C15: 神戸 | H15: 0 | I15: #DIV/0! | J15: 0 | L15: 0 | M15: #DIV/0! | N15: 0 | O15: #DIV/0! | P15: #DIV/0! | Q15: #DIV/0!
B16: JAL（日本航空）花巻 | C16: 花巻 | H16: 0 | I16: #DIV/0! | J16: 0 | L16: 0 | M16: #DIV/0! | N16: 0 | O16: #DIV/0! | P16: #DIV/0! | Q16: #DIV/0!
B17: JAL（日本航空）羽田石垣 | C17: 羽田 | D17: - | E17: 石垣 | H17: 0 | I17: #DIV/0! | J17: 0 | L17: 0 | M17: #DIV/0! | N17: 0 | O17: #DIV/0! | P17: #DIV/0! | Q17: #DIV/0!
B18: JAL（日本航空）羽田宮古 | C18: 羽田 | D18: - | E18: 宮古 | H18: 0 | I18: #DIV/0! | J18: 0 | L18: 0 | M18: #DIV/0! | N18: 0 | O18: #DIV/0! | P18: #DIV/0! | Q18: #DIV/0!
B19: JAL（日本航空）羽田久米島 | C19: 羽田 | D19: - | E19: 久米島 | H19: 0 | I19: #DIV/0! | J19: 0 | L19: 0 | M19: #DIV/0! | N19: 0 | O19: #DIV/0! | P19: #DIV/0! | Q19: #DIV/0!
B20: JAL（日本航空）沖永良部 | C20: 沖永良部 | H20: 0 | I20: #DIV/0! | J20: 0 | K20: 0 | L20: 0 | M20: #DIV/0! | N20: 0 | O20: #DIV/0! | P20: #DIV/0! | Q20: #DIV/0!
B21: JTA（日本トランスオーシャン航空） | G21: 80655 | H21: 71509 | I21: 1.1279 | J21: 9146 | K21: 99000 | L21: 99000 | M21: 1 | N21: 0 | O21: 0.81469697 | P21: 0.72231313 | Q21: 0.092383838
B22: JTA（日本トランスオーシャン航空）羽田 | C22: 羽田 | G22: 100 | H22: 0 | I22: #DIV/0! | J22: 100 | K22: 165 | L22: 0 | M22: #DIV/0! | N22: 165 | O22: 0.60606061 | P22: #DIV/0! | Q22: #DIV/0!
B23: JTA（日本トランスオーシャン航空）関西 | C23: 関西 | F23: ◎ | G23: 12446 | H23: 10071 | I23: 1.2358256 | J23: 2375 | K23: 14850 | L23: 14850 | M23: 1 | N23: 0 | O23: 0.83811448 | P23: 0.67818182 | Q23: 0.15993266
B24: JTA（日本トランスオーシャン航空）福岡 | C24: 福岡 | F24: ◎ | G24: 23381 | H24: 20471 | I24: 1.1421523 | J24: 2910 | K24: 29700 | L24: 29700 | M24: 1 | N24: 0 | O24: 0.78723906 | P24: 0.68925926 | Q24: 0.097979798
B25: JTA（日本トランスオーシャン航空）羽田石垣 | C25: 羽田 | D25: - | E25: 石垣 | F25: ◎ | G25: 8929 | H25: 8282 | I25: 1.0781212 | J25: 647 | K25: 9735 | L25: 9900 | M25: 0.98333333 | N25: -165 | O25: 0.91720596 | P25: 0.83656566 | Q25: 0.080640301
B26: JTA（日本トランスオーシャン航空）羽田宮古 | C26: 羽田 | D26: - | E26: 宮古 | F26: ◎ | G26: 4770 | H26: 4438 | I26: 1.0748085 | J26: 332 | K26: 4950 | L26: 4950 | M26: 1 | N26: 0 | O26: 0.96363636 | P26: 0.89656566 | Q26: 0.067070707
B27: JTA（日本トランスオーシャン航空）羽田久米島 | C27: 羽田 | D27: - | E27: 久米島 | F27: ○ | H27: 0 | I27: #DIV/0! | J27: 0 | L27: 0 | M27: #DIV/0! | N27: 0 | O27: #DIV/0! | P27: #DIV/0! | Q27: #DIV/0!
B28: JTA（日本トランスオーシャン航空）関西石垣 | C28: 関西 | D28: - | E28: 石垣 | F28: ◎ | G28: 4104 | H28: 3681 | I28: 1.1149144 | J28: 423 | K28: 4785 | L28: 4950 | M28: 0.96666667 | N28: -165 | O28: 0.85768025 | P28: 0.74363636 | Q28: 0.11404389
B29: JTA（日本トランスオーシャン航空）関西宮古 | C29: 関西 | D29: - | E29: 宮古 | G29: 3984 | H29: 3465 | I29: 1.1497835 | J29: 519 | K29: 4950 | L29: 4950 | M29: 1 | N29: 0 | O29: 0.80484848 | P29: 0.7 | Q29: 0.10484848
B30: JTA（日本トランスオーシャン航空）神戸石垣 | C30: 神戸 | D30: - | E30: 石垣 | H30: 0 | I30: #DIV/0! | J30: 0 | L30: 0 | M30: #DIV/0! | N30: 0 | O30: #DIV/0! | P30: #DIV/0! | Q30: #DIV/0!
B31: JTA（日本トランスオーシャン航空）名古屋石垣 | C31: 名古屋 | D31: - | E31: 石垣 | H31: 0 | I31: #DIV/0! | J31: 0 | L31: 0 | M31: #DIV/0! | N31: 0 | O31: #DIV/0! | P31: #DIV/0! | Q31: #DIV/0!
B32: JTA（日本トランスオーシャン航空）名古屋宮古 | C32: 名古屋 | D32: - | E32: 宮古 | H32: 0 | I32: #DIV/0! | J32: 0 | L32: 0 | M32: #DIV/0! | N32: 0 | O32: #DIV/0! | P32: #DIV/0! | Q32: #DIV/0!
B33: JTA（日本トランスオーシャン航空）仙台 | C33: 仙台 | H33: 0 | I33: #DIV/0! | J33: 0 | L33: 0 | M33: #DIV/0! | N33: 0 | O33: #DIV/0! | P33: #DIV/0! | Q33: #DIV/0!
B34: JTA（日本トランスオーシャン航空）松山 | C34: 松山 | H34: 0 | I34: #DIV/0! | J34: 0 | L34: 0 | M34: #DIV/0! | N34: 0 | O34: #DIV/0! | P34: #DIV/0! | Q34: #DIV/0!
B35: JTA（日本トランスオーシャン航空）高知 | C35: 高知 | H35: 0 | I35: #DIV/0! | J35: 0 | L35: 0 | M35: #DIV/0! | N35: 0 | O35: #DIV/0! | P35: #DIV/0! | Q35: #DIV/0!
B36: JTA（日本トランスオーシャン航空）岡山 | C36: 岡山 | F36: ◎ | G36: 4026 | H36: 4083 | I36: 0.98603968 | J36: -57 | K36: 4785 | L36: 4950 | M36: 0.96666667 | N36: -165 | O36: 0.84137931 | P36: 0.82484848 | Q36: 0.016530825
B37: JTA（日本トランスオーシャン航空）福島 | C37: 福島 | H37: 0 | I37: #DIV/0! | J37: 0 | K37: 0 | L37: 0 | M37: #DIV/0! | N37: 0 | O37: #DIV/0! | P37: #DIV/0! | Q37: #DIV/0!
B38: JTA（日本トランスオーシャン航空）小松 | C38: 小松 | F38: ◎ | G38: 3638 | H38: 3259 | I38: 1.1162933 | J38: 379 | K38: 4950 | L38: 4950 | M38: 1 | N38: 0 | O38: 0.73494949 | P38: 0.65838384 | Q38: 0.076565657
B39: JTA（日本トランスオーシャン航空）北九州 | C39: 北九州 | H39: 0 | I39: #DIV/0! | J39: 0 | L39: 0 | M39: #DIV/0! | N39: 0 | O39: #DIV/0! | P39: #DIV/0! | Q39: #DIV/0!
B40: JTA（日本トランスオーシャン航空）神戸 | C40: 神戸 | H40: 0 | I40: #DIV/0! | J40: 0 | L40: 0 | M40: #DIV/0! | N40: 0 | O40: #DIV/0! | P40: #DIV/0! | Q40: #DIV/0!
...

Sheet ６月月間
A1: ='R７'!A1 -> 令和７年度 | G1: 【月間】航空旅客輸送実績
A2: R7 | B2: （2025）年 | C2: 6
C3: 輸送実績人数 | G3: 提供座席数 | K3: 利用率
C4: 25'6月間 | D4: 24'6月間 | E4: 対前年同月比較 | G4: 25'6月間 | H4: 24'6月間 | I4: 対前年同月比較 | K4: 25'6月間 | L4: 24'6月間 | M4: 対前年 増減
E5: 比率 | F5: 増減数 | I5: 比率 | J5: 増減数
A6: 合 計 | C6: 606324 | D6: 587005 | E6: 1.0329111 | F6: 19319 | G6: 770277 | H6: 773085 | I6: 0.9963678 | J6: -2808 | K6: 0.7871506 | L6: 0.75930202 | M6: 0.027848579
A7: ①＋②＋③＋④＋⑤
A8: ①東京方面（羽田、成田） | C8: 308307 | D8: 301474 | E8: 1.0226653 | F8: 6833 | G8: 386407 | H8: 380963 | I8: 1.0142901 | J8: 5444 | K8: 0.79788151 | L8: 0.79134719 | M8: 0.0065343172
B9: JAL | C9: 107890 | D9: 99753 | E9: 1.0815715 | F9: 8137 | G9: 128303 | H9: 125460 | I9: 1.0226606 | J9: 2843 | K9: 0.84090006 | L9: 0.79509804 | M9: 0.045802018
B10: JTA | C10: 13799 | D10: 12720 | E10: 1.084827 | F10: 1079 | G10: 14850 | H10: 14850 | I10: 1 | J10: 0 | K10: 0.92922559 | L10: 0.85656566 | M10: 0.072659933
B11: ANA | C11: 145358 | D11: 145588 | E11: 0.9984202 | F11: -230 | G11: 190596 | H11: 189425 | I11: 1.0061819 | J11: 1171 | K11: 0.76264979 | L11: 0.76857859 | M11: -0.0059287998
B12: SNA | C12: 11303 | D12: 10809 | E12: 1.0457027 | F12: 494 | G12: 15134 | H12: 14058 | I12: 1.07654 | J12: 1076 | K12: 0.74686137 | L12: 0.76888604 | M12: -0.022024672
B13: SKY | C13: 29957 | D13: 32604 | E13: 0.91881364 | F13: -2647 | G13: 37524 | H13: 37170 | I13: 1.0095238 | J13: 354 | K13: 0.79834239 | L13: 0.877159 | M13: -0.078816605
A14: ②関西方面（関西、伊丹、神戸） | C14: 127475 | D14: 122716 | E14: 1.0387806 | F14: 4759 | G14: 153508 | H14: 154798 | I14: 0.99166656 | J14: -1290 | K14: 0.83041275 | L14: 0.79274926 | M14: 0.037663487
B15: JAL | C15: 21368 | D15: 18262 | E15: 1.1700799 | F15: 3106 | G15: 23460 | H15: 23460 | I15: 1 | J15: 0 | K15: 0.91082694 | L15: 0.77843137 | M15: 0.13239557
B16: JTA | C16: 20534 | D16: 17217 | E16: 1.1926584 | F16: 3317 | G16: 24585 | H16: 24750 | I16: 0.99333333 | J16: -165 | K16: 0.83522473 | L16: 0.69563636 | M16: 0.13958837
B17: ANA | C17: 59169 | D17: 59570 | E17: 0.99326842 | F17: -401 | G17: 72753 | H17: 73229 | I17: 0.99349984 | J17: -476 | K17: 0.81328605 | L17: 0.81347554 | M17: -0.00018948559
B18: SNA | C18: 5165 | D18: 5126 | E18: 1.0076083 | F18: 39 | G18: 6160 | H18: 6809 | I18: 0.90468498 | J18: -649 | K18: 0.83847403 | L18: 0.75282714 | M18: 0.085646885
B19: SKY | C19: 21239 | D19: 22541 | E19: 0.94223859 | F19: -1302 | G19: 26550 | H19: 26550 | I19: 1 | J19: 0 | K19: 0.79996234 | L19: 0.84900188 | M19: -0.049039548
A20: ③福岡方面（福岡、北九州） | C20: 71072 | D20: 64231 | E20: 1.1065062 | F20: 6841 | G20: 97457 | H20: 103057 | I20: 0.94566114 | J20: -5600 | K20: 0.72926521 | L20: 0.62325703 | M20: 0.10600818
B21: JAL | C21: 0 | D21: 0 | E21: #DIV/0! | F21: 0 | G21: 0 | H21: 0 | I21: #DIV/0! | J21: 0 | K21: - | L21: - | M21: #VALUE!
B22: JTA | C22: 23381 | D22: 20471 | E22: 1.1421523 | F22: 2910 | G22: 29700 | H22: 29700 | I22: 1 | J22: 0 | K22: 0.78723906 | L22: 0.68925926 | M22: 0.097979798
B23: ANA | C23: 31184 | D23: 30036 | E23: 1.0382208 | F23: 1148 | G23: 45164 | H23: 52714 | I23: 0.85677429 | J23: -7550 | K23: 0.69046143 | L23: 0.56979171 | M23: 0.12066972
B24: SNA | C24: 3268 | D24: 2129 | E24: 1.534993 | F24: 1139 | G24: 4716 | H24: 4713 | I24: 1.0006365 | J24: 3 | K24: 0.69296014 | L24: 0.45172926 | M24: 0.24123088
B25: SKY | C25: 13239 | D25: 11595 | E25: 1.1417853 | F25: 1644 | G25: 17877 | H25: 15930 | I25: 1.1222222 | J25: 1947 | K25: 0.7405605 | L25: 0.72787194 | M25: 0.012688557
B26: SFJ | C26: 0 | D26: 0 | E26: #DIV/0! | F26: 0 | G26: 0 | H26: 0 | I26: #DIV/0! | J26: 0 | K26: - | L26: － | M26: #VALUE!
A27: ④名古屋方面 | C27: 46190 | D27: 47620 | E27: 0.9699706 | F27: -1430 | G27: 60712 | H27: 60725 | I27: 0.99978592 | J27: -13 | K27: 0.76080511 | L27: 0.78419103 | M27: -0.023385912
B28: JAL | C28: 0 | D28: 0 | E28: #DIV/0! | F28: 0 | G28: 0 | H28: 0 | I28: #DIV/0! | J28: 0 | K28: - | L28: - | M28: #VALUE!
B29: JTA | C29: 15277 | D29: 13759 | E29: 1.1103278 | F29: 1518 | G29: 20130 | H29: 19800 | I29: 1.0166667 | J29: 330 | K29: 0.75891704 | L29: 0.69489899 | M29: 0.064018049
B30: ANA | C30: 21621 | D30: 19157 | E30: 1.1286214 | F30: 2464 | G30: 28239 | H30: 23581 | I30: 1.1975319 | J30: 4658 | K30: 0.76564326 | L30: 0.81239133 | M30: -0.046748073
B31: SKY | C31: 8057 | D31: 13419 | E31: 0.60041732 | F31: -5362 | G31: 10797 | H31: 15753 | I31: 0.68539326 | J31: -4956 | K31: 0.7462258 | L31: 0.85183775 | M31: -0.10561194
B32: SNA | C32: 1235 | D32: 1285 | E32: 0.96108949 | F32: -50 | G32: 1546 | H32: 1591 | I32: 0.9717159 | J32: -45 | K32: 0.79883571 | L32: 0.80766813 | M32: -0.0088324282
A33: ⑤その他方面 | C33: 53280 | D33: 50964 | E33: 1.0454438 | F33: 2316 | G33: 72193 | H33: 73542 | I33: 0.98165674 | J33: -1349 | K33: 0.73802169 | L33: 0.69299176 | M33: 0.045029932
B34: JAL | C34: 0 | D34: 0 | E34: #DIV/0! | F34: 0 | G34: 0 | H34: 0 | I34: #DIV/0! | J34: 0 | K34: - | L34: - | M34: #VALUE!
B35: JTA | C35: 7664 | D35: 7342 | E35: 1.0438573 | F35: 322 | G35: 9735 | H35: 9900 | I35: 0.98333333 | J35: -165 | K35: 0.78726246 | L35: 0.74161616 | M35: 0.045646293
B36: RAC | C36: 1289 | D36: 1004 | E36: 1.2838645 | F36: 285 | G36: 1650 | H36: 1400 | I36: 1.1785714 | J36: 250 | K36: 0.78121212 | L36: 0.71714286 | M36: 0.064069264
B37: JAC | C37: 2284 | D37: 2203 | E37: 1.036768 | F37: 81 | G37: 2832 | H37: 2880 | I37: 0.98333333 | J37: -48 | K37: 0.80649718 | L37: 0.76493056 | M37: 0.04156662
B38: ANA | C38: 33959 | D38: 32201 | E38: 1.0545946 | F38: 1758 | G38: 46616 | H38: 47813 | I38: 0.97496497 | J38: -1197 | K38: 0.72848378 | L38: 0.67347792 | M38: 0.055005858
B39: SNA | C39: 4503 | D39: 4247 | E39: 1.0602778 | F39: 256 | G39: 6227 | H39: 6239 | I39: 0.99807661 | J39: -12 | K39: 0.72314116 | L39: 0.68071806 | M39: 0.042423096
B40: SKY | C40: 3581 | D40: 3967 | E40: 0.90269725 | F40: -386 | G40: 5133 | H40: 5310 | I40: 0.96666667 | J40: -177 | K40: 0.6976427 | L40: 0.74708098 | M40: -0.049438275
...

Sheet ７月（月間）
A1: ='R７'!A1 -> 令和７年度 | J1: =RIGHT(CELL("filename",$A$1),LEN(CELL("filename",$A$1))-FIND("]",CELL("filename",$A$1))) -> ７月（月間） | K1: 航空旅客輸送実績
A2: 7 | C2: 2025 | D2: 年 | E2: 7 | F2: 月 | G2: 輸送実績（旅客実績） | K2: 提供座席 | O2: 利用率
A3: キャリア・路線 | G3: 25'7/1-7/31 | H3: 24'7/1-7/31 (前年同月) | I3: 対前年同月比 | K3: 25'7/1-7/31 | L3: 24'7/1-7/31 (前年同月) | M3: 対前年同月比 | O3: 25'7/1-7/31 | P3: 24'7/1-7/31 (前年同月) | Q3: 増減数
I4: 比率 | J4: 増減数 | M4: 比率 | N4: 増減数
A5: 合計 a+b+c+d+e | G5: 726817 | H5: 706459 | I5: 1.028817 | J5: 20358 | K5: 849460 | L5: 853872 | M5: 0.99483295 | N5: -4412 | O5: 0.8556224 | P5: 0.82735937 | Q5: 0.028263025
A6: a | B6: JAL + JTA + RAC+JAC | G6: 249137 | H6: 240764 | I6: 1.0347768 | J6: 8373 | K6: 281989 | L6: 287922 | M6: 0.97939372 | N6: -5933 | O6: 0.883499 | P6: 0.83621259 | Q6: 0.047286416
B7: JAL（日本航空） | G7: 168179 | H7: 163573 | I7: 1.0281587 | J7: 4606 | K7: 184104 | L7: 188676 | M7: 0.97576798 | N7: -4572 | O7: 0.91349998 | P7: 0.86695181 | Q7: 0.046548167
B8: JAL（日本航空）羽田 | C8: 羽田 | F8: ◎ | G8: 119898 | H8: 120384 | I8: 0.99596292 | J8: -486 | K8: 131714 | L8: 135121 | M8: 0.97478556 | N8: -3407 | O8: 0.91029048 | P8: 0.89093479 | Q8: 0.019355686
B9: JAL（日本航空）伊丹 | C9: 伊丹 | F9: ◎ | G9: 24270 | H9: 22606 | I9: 1.0736088 | J9: 1664 | K9: 26530 | L9: 27542 | M9: 0.96325612 | N9: -1012 | O9: 0.91481342 | P9: 0.8207828 | Q9: 0.094030614
B10: JAL（日本航空）関西 | C10: 関西 | G10: 0 | H10: 0 | I10: #DIV/0! | J10: 0 | K10: 0 | L10: 0 | M10: #DIV/0! | N10: 0 | O10: #DIV/0! | P10: #DIV/0! | Q10: #DIV/0!
B11: JAL（日本航空）福岡 | C11: 福岡 | G11: 0 | H11: 0 | I11: #DIV/0! | J11: 0 | K11: 0 | L11: 0 | M11: #DIV/0! | N11: 0 | O11: #DIV/0! | P11: #DIV/0! | Q11: #DIV/0!
B12: JAL（日本航空）名古屋 | C12: 名古屋 | G12: 0 | H12: 0 | I12: #DIV/0! | J12: 0 | K12: 0 | L12: 0 | M12: #DIV/0! | N12: 0 | O12: #DIV/0! | P12: #DIV/0! | Q12: #DIV/0!
B13: JAL（日本航空）成田 | C13: 成田 | G13: 0 | H13: 0 | I13: #DIV/0! | J13: 0 | K13: 0 | L13: 0 | M13: #DIV/0! | N13: 0 | O13: #DIV/0! | P13: #DIV/0! | Q13: #DIV/0!
B14: JAL（日本航空）仙台 | C14: 仙台 | G14: 0 | H14: 0 | I14: #DIV/0! | J14: 0 | K14: 0 | L14: 0 | M14: #DIV/0! | N14: 0 | O14: #DIV/0! | P14: #DIV/0! | Q14: #DIV/0!
B15: JAL（日本航空）神戸 | C15: 神戸 | G15: 0 | H15: 0 | I15: #DIV/0! | J15: 0 | K15: 0 | L15: 0 | M15: #DIV/0! | N15: 0 | O15: #DIV/0! | P15: #DIV/0! | Q15: #DIV/0!
B16: JAL（日本航空）花巻 | C16: 花巻 | G16: 0 | H16: 0 | I16: #DIV/0! | J16: 0 | K16: 0 | L16: 0 | M16: #DIV/0! | N16: 0 | O16: #DIV/0! | P16: #DIV/0! | Q16: #DIV/0!
B17: JAL（日本航空）羽田石垣 | C17: 羽田 | D17: - | E17: 石垣 | G17: 14601 | H17: 11683 | I17: 1.2497646 | J17: 2918 | K17: 15624 | L17: 15120 | M17: 1.0333333 | N17: 504 | O17: 0.93452381 | P17: 0.77268519 | Q17: 0.16183862
B18: JAL（日本航空）羽田宮古 | C18: 羽田 | D18: - | E18: 宮古 | G18: 7803 | H18: 6776 | I18: 1.1515643 | J18: 1027 | K18: 8091 | L18: 7758 | M18: 1.0429234 | N18: 333 | O18: 0.96440489 | P18: 0.87342098 | Q18: 0.09098391
B19: JAL（日本航空）羽田久米島 | C19: 羽田 | D19: - | E19: 久米島 | G19: 1607 | H19: 2124 | I19: 0.75659134 | J19: -517 | K19: 2145 | L19: 3135 | M19: 0.68421053 | N19: -990 | O19: 0.74918415 | P19: 0.67751196 | Q19: 0.071672187
B20: JAL（日本航空）沖永良部 | C20: 沖永良部 | G20: 0 | H20: 0 | I20: #DIV/0! | J20: 0 | K20: 0 | L20: 0 | M20: #DIV/0! | N20: 0 | O20: #DIV/0! | P20: #DIV/0! | Q20: #DIV/0!
B21: JTA（日本トランスオーシャン航空） | G21: 76593 | H21: 72319 | I21: 1.0590993 | J21: 4274 | K21: 92895 | L21: 93720 | M21: 0.99119718 | N21: -825 | O21: 0.82451155 | P21: 0.77164959 | Q21: 0.052861951
B22: JTA（日本トランスオーシャン航空）羽田 | C22: 羽田 | G22: 173 | H22: 165 | I22: 1.0484848 | J22: 8 | K22: 330 | L22: 165 | M22: 2 | N22: 165 | O22: 0.52424242 | P22: 1 | Q22: -0.47575758
B23: JTA（日本トランスオーシャン航空）関西 | C23: 関西 | F23: ◎ | G23: 13107 | H23: 10742 | I23: 1.2201638 | J23: 2365 | K23: 16170 | L23: 15345 | M23: 1.0537634 | N23: 825 | O23: 0.81057514 | P23: 0.70003258 | Q23: 0.11054256
B24: JTA（日本トランスオーシャン航空）福岡 | C24: 福岡 | F24: ◎ | G24: 25307 | H24: 23580 | I24: 1.07324 | J24: 1727 | K24: 30690 | L24: 30525 | M24: 1.0054054 | N24: 165 | O24: 0.82460085 | P24: 0.77248157 | Q24: 0.052119275
B25: JTA（日本トランスオーシャン航空）羽田石垣 | C25: 羽田 | D25: - | E25: 石垣 | F25: ◎ | G25: 0 | H25: 0 | I25: #DIV/0! | J25: 0 | K25: 0 | L25: 0 | M25: #DIV/0! | N25: 0 | O25: #DIV/0! | P25: #DIV/0! | Q25: #DIV/0!
B26: JTA（日本トランスオーシャン航空）羽田宮古 | C26: 羽田 | D26: - | E26: 宮古 | F26: ◎ | G26: 0 | H26: 0 | I26: #DIV/0! | J26: 0 | K26: 0 | L26: 0 | M26: #DIV/0! | N26: 0 | O26: #DIV/0! | P26: #DIV/0! | Q26: #DIV/0!
B27: JTA（日本トランスオーシャン航空）羽田久米島 | C27: 羽田 | D27: - | E27: 久米島 | F27: ○ | G27: 0 | H27: 0 | I27: #DIV/0! | J27: 0 | K27: 0 | L27: 0 | M27: #DIV/0! | N27: 0 | O27: #DIV/0! | P27: #DIV/0! | Q27: #DIV/0!
B28: JTA（日本トランスオーシャン航空）関西石垣 | C28: 関西 | D28: - | E28: 石垣 | F28: ◎ | G28: 4516 | H28: 4276 | I28: 1.0561272 | J28: 240 | K28: 5115 | L28: 4950 | M28: 1.0333333 | N28: 165 | O28: 0.88289345 | P28: 0.86383838 | Q28: 0.019055067
B29: JTA（日本トランスオーシャン航空）関西宮古 | C29: 関西 | D29: - | E29: 宮古 | G29: 4614 | H29: 4365 | I29: 1.0570447 | J29: 249 | K29: 5115 | L29: 4950 | M29: 1.0333333 | N29: 165 | O29: 0.90205279 | P29: 0.88181818 | Q29: 0.020234604
B30: JTA（日本トランスオーシャン航空）神戸石垣 | C30: 神戸 | D30: - | E30: 石垣 | G30: 0 | H30: 0 | I30: #DIV/0! | J30: 0 | K30: 0 | L30: 0 | M30: #DIV/0! | N30: 0 | O30: #DIV/0! | P30: #DIV/0! | Q30: #DIV/0!
B31: JTA（日本トランスオーシャン航空）名古屋石垣 | C31: 名古屋 | D31: - | E31: 石垣 | G31: 0 | H31: 1764 | I31: 0 | J31: -1764 | K31: 0 | L31: 3135 | M31: 0 | N31: -3135 | O31: #DIV/0! | P31: 0.56267943 | Q31: #DIV/0!
B32: JTA（日本トランスオーシャン航空）名古屋宮古 | C32: 名古屋 | D32: - | E32: 宮古 | G32: 0 | H32: 2626 | I32: 0 | J32: -2626 | K32: 0 | L32: 3135 | M32: 0 | N32: -3135 | O32: #DIV/0! | P32: 0.83763955 | Q32: #DIV/0!
B33: JTA（日本トランスオーシャン航空）仙台 | C33: 仙台 | G33: 0 | H33: 0 | I33: #DIV/0! | J33: 0 | K33: 0 | L33: 0 | M33: #DIV/0! | N33: 0 | O33: #DIV/0! | P33: #DIV/0! | Q33: #DIV/0!
B34: JTA（日本トランスオーシャン航空）松山 | C34: 松山 | G34: 0 | H34: 0 | I34: #DIV/0! | J34: 0 | K34: 0 | L34: 0 | M34: #DIV/0! | N34: 0 | O34: #DIV/0! | P34: #DIV/0! | Q34: #DIV/0!
B35: JTA（日本トランスオーシャン航空）高知 | C35: 高知 | G35: 0 | H35: 0 | I35: #DIV/0! | J35: 0 | K35: 0 | L35: 0 | M35: #DIV/0! | N35: 0 | O35: #DIV/0! | P35: #DIV/0! | Q35: #DIV/0!
B36: JTA（日本トランスオーシャン航空）岡山 | C36: 岡山 | F36: ◎ | G36: 4465 | H36: 4382 | I36: 1.0189411 | J36: 83 | K36: 5115 | L36: 5115 | M36: 1 | N36: 0 | O36: 0.87292278 | P36: 0.85669599 | Q36: 0.016226784
B37: JTA（日本トランスオーシャン航空）福島 | C37: 福島 | G37: 0 | H37: 0 | I37: #DIV/0! | J37: 0 | K37: 0 | L37: 0 | M37: #DIV/0! | N37: 0 | O37: #DIV/0! | P37: #DIV/0! | Q37: #DIV/0!
B38: JTA（日本トランスオーシャン航空）小松 | C38: 小松 | F38: ◎ | G38: 3908 | H38: 3655 | I38: 1.0692202 | J38: 253 | K38: 5115 | L38: 5115 | M38: 1 | N38: 0 | O38: 0.76402737 | P38: 0.714565 | Q38: 0.049462366
B39: JTA（日本トランスオーシャン航空）北九州 | C39: 北九州 | G39: 0 | H39: 0 | I39: #DIV/0! | J39: 0 | K39: 0 | L39: 0 | M39: #DIV/0! | N39: 0 | O39: #DIV/0! | P39: #DIV/0! | Q39: #DIV/0!
B40: JTA（日本トランスオーシャン航空）神戸 | C40: 神戸 | G40: 0 | H40: 0 | I40: #DIV/0! | J40: 0 | K40: 0 | L40: 0 | M40: #DIV/0! | N40: 0 | O40: #DIV/0! | P40: #DIV/0! | Q40: #DIV/0!
...

Sheet ７月月間
A1: ='R７'!A1 -> 令和７年度 | F1: =RIGHT(CELL("filename",$A$1),LEN(CELL("filename",$A$1))-FIND("]",CELL("filename",$A$1))) -> ７月月間 | G1: 航空旅客輸送実績
A2: R7 | B2: （2025）年 | C2: 7
C3: 輸送実績人数 | G3: 提供座席数 | K3: 利用率
C4: 25'7月間 | D4: 24'7月間 | E4: 対前年同月比較 | G4: 25'7月間 | H4: 24'7月間 | I4: 対前年同月比較 | K4: 25'7月間 | L4: 24'7月間 | M4: 対前年 増減
E5: 比率 | F5: 増減数 | I5: 比率 | J5: 増減数
A6: 合 計 | C6: 726817 | D6: 706459 | E6: 1.028817 | F6: 20358 | G6: 849460 | H6: 853872 | I6: 0.99483295 | J6: -4412 | K6: 0.8556224 | L6: 0.82735937 | M6: 0.028263025
A7: ①＋②＋③＋④＋⑤
A8: ①東京方面（羽田、成田） | C8: 382608 | D8: 371715 | E8: 1.0293047 | F8: 10893 | G8: 427698 | H8: 424878 | I8: 1.0066372 | J8: 2820 | K8: 0.89457514 | L8: 0.87487467 | M8: 0.019700474
B9: JAL | C9: 143909 | D9: 140967 | E9: 1.0208701 | F9: 2942 | G9: 157574 | H9: 161134 | I9: 0.97790659 | J9: -3560 | K9: 0.91327884 | L9: 0.8748433 | M9: 0.038435542
B10: JTA | C10: 173 | D10: 165 | E10: 1.0484848 | F10: 8 | G10: 330 | H10: 165 | I10: 2 | J10: 165 | K10: 0.52424242 | L10: 1 | M10: -0.47575758
B11: ANA | C11: 193139 | D11: 183963 | E11: 1.0498796 | F11: 9176 | G11: 215790 | H11: 211066 | I11: 1.0223816 | J11: 4724 | K11: 0.89503221 | L11: 0.87158993 | M11: 0.023442278
B12: SNA | C12: 13543 | D12: 12177 | E12: 1.1121787 | F12: 1366 | G12: 15772 | H12: 14281 | I12: 1.1044045 | J12: 1491 | K12: 0.8586736 | L12: 0.85267138 | M12: 0.0060022172
B13: SKY | C13: 31844 | D13: 34443 | E13: 0.924542 | F13: -2599 | G13: 38232 | H13: 38232 | I13: 1 | J13: 0 | K13: 0.83291484 | L13: 0.90089454 | M13: -0.067979703
A14: ②関西方面（関西、伊丹、神戸） | C14: 143548 | D14: 139979 | E14: 1.0254967 | F14: 3569 | G14: 167414 | H14: 174244 | I14: 0.96080209 | J14: -6830 | K14: 0.85744322 | L14: 0.80335047 | M14: 0.054092751
B15: JAL | C15: 24270 | D15: 22606 | E15: 1.0736088 | F15: 1664 | G15: 26530 | H15: 27542 | I15: 0.96325612 | J15: -1012 | K15: 0.91481342 | L15: 0.8207828 | M15: 0.094030614
B16: JTA | C16: 22237 | D16: 19383 | E16: 1.1472424 | F16: 2854 | G16: 26400 | H16: 25245 | I16: 1.0457516 | J16: 1155 | K16: 0.84231061 | L16: 0.7677956 | M16: 0.074515003
B17: ANA | C17: 69273 | D17: 70058 | E17: 0.988795 | F17: -785 | G17: 79452 | H17: 88220 | I17: 0.90061211 | J17: -8768 | K17: 0.87188491 | L17: 0.79412832 | M17: 0.077756596
B18: SNA | C18: 5242 | D18: 4023 | E18: 1.3030077 | F18: 1219 | G18: 6358 | H18: 4917 | I18: 1.2930649 | J18: 1441 | K18: 0.8244731 | L18: 0.81818182 | M18: 0.0062912866
B19: SKY | C19: 22526 | D19: 23909 | E19: 0.94215567 | F19: -1383 | G19: 28674 | H19: 28320 | I19: 1.0125 | J19: 354 | K19: 0.78558973 | L19: 0.84424435 | M19: -0.058654617
A20: ③福岡方面（福岡、北九州） | C20: 80146 | D20: 75141 | E20: 1.0666081 | F20: 5005 | G20: 103947 | H20: 103389 | I20: 1.0053971 | J20: 558 | K20: 0.77102754 | L20: 0.72677944 | M20: 0.044248098
B21: JAL | C21: 0 | D21: 0 | E21: #DIV/0! | F21: 0 | G21: 0 | H21: 0 | I21: #DIV/0! | J21: 0 | K21: - | L21: - | M21: #VALUE!
B22: JTA | C22: 25307 | D22: 23580 | E22: 1.07324 | F22: 1727 | G22: 30690 | H22: 30525 | I22: 1.0054054 | J22: 165 | K22: 0.82460085 | L22: 0.77248157 | M22: 0.052119275
B23: ANA | C23: 35084 | D23: 35871 | E23: 0.97806027 | F23: -787 | G23: 46451 | H23: 51816 | I23: 0.89646055 | J23: -5365 | K23: 0.75529052 | L23: 0.69227652 | M23: 0.063014004
B24: SNA | C24: 3561 | D24: 2754 | E24: 1.2930283 | F24: 807 | G24: 4858 | H24: 4764 | I24: 1.0197313 | J24: 94 | K24: 0.7330177 | L24: 0.57808564 | M24: 0.15493206
B25: SKY | C25: 16194 | D25: 12936 | E25: 1.2518553 | F25: 3258 | G25: 21948 | H25: 16284 | I25: 1.3478261 | J25: 5664 | K25: 0.73783488 | L25: 0.79439941 | M25: -0.056564528
B26: SFJ | C26: 0 | D26: 0 | E26: #DIV/0! | F26: 0 | G26: 0 | H26: 0 | I26: #DIV/0! | J26: 0 | K26: - | L26: － | M26: #VALUE!
A27: ④名古屋方面 | C27: 61555 | D27: 58472 | E27: 1.0527261 | F27: 3083 | G27: 76724 | H27: 69894 | I27: 1.0977194 | J27: 6830 | K27: 0.80229133 | L27: 0.83658111 | M27: -0.034289779
B28: JAL | C28: 0 | D28: 0 | E28: #DIV/0! | F28: 0 | G28: 0 | H28: 0 | I28: #DIV/0! | J28: 0 | K28: - | L28: - | M28: #VALUE!
B29: JTA | C29: 20503 | D29: 21154 | E29: 0.96922568 | F29: -651 | G29: 25245 | H29: 27555 | I29: 0.91616766 | J29: -2310 | K29: 0.81216082 | L29: 0.76770096 | M29: 0.044459862
B30: ANA | C30: 30984 | D30: 21357 | E30: 1.4507656 | F30: 9627 | G30: 39005 | H30: 24718 | I30: 1.5779998 | J30: 14287 | K30: 0.7943597 | L30: 0.86402622 | M30: -0.069666518
B31: SKY | C31: 8625 | D31: 14906 | E31: 0.57862606 | F31: -6281 | G31: 10797 | H31: 16461 | I31: 0.65591398 | J31: -5664 | K31: 0.79883301 | L31: 0.90553429 | M31: -0.10670128
B32: SNA | C32: 1443 | D32: 1055 | E32: 1.3677725 | F32: 388 | G32: 1677 | H32: 1160 | I32: 1.4456897 | J32: 517 | K32: 0.86046512 | L32: 0.90948276 | M32: -0.049017642
A33: ⑤その他方面 | C33: 58960 | D33: 61152 | E33: 0.96415489 | F33: -2192 | G33: 73677 | H33: 81467 | I33: 0.90437846 | J33: -7790 | K33: 0.80024974 | L33: 0.75063523 | M33: 0.049614512
B34: JAL | C34: 0 | D34: 0 | E34: #DIV/0! | F34: 0 | G34: 0 | H34: 0 | I34: #DIV/0! | J34: 0 | K34: - | L34: - | M34: #VALUE!
B35: JTA | C35: 8373 | D35: 8037 | E35: 1.0418066 | F35: 336 | G35: 10230 | H35: 10230 | I35: 1 | J35: 0 | K35: 0.81847507 | L35: 0.7856305 | M35: 0.032844575
B36: RAC | C36: 2072 | D36: 2204 | E36: 0.94010889 | F36: -132 | G36: 2350 | H36: 2550 | I36: 0.92156863 | J36: -200 | K36: 0.88170213 | L36: 0.86431373 | M36: 0.017388402
B37: JAC | C37: 2293 | D37: 2668 | E37: 0.85944528 | F37: -375 | G37: 2640 | H37: 2976 | I37: 0.88709677 | J37: -336 | K37: 0.86856061 | L37: 0.89650538 | M37: -0.02794477
B38: ANA | C38: 37539 | D38: 40011 | E38: 0.93821699 | F38: -2472 | G38: 46750 | H38: 55344 | I38: 0.84471668 | J38: -8594 | K38: 0.80297326 | L38: 0.722951 | M38: 0.080022265
B39: SNA | C39: 4642 | D39: 3780 | E39: 1.2280423 | F39: 862 | G39: 6220 | H39: 4880 | I39: 1.2745902 | J39: 1340 | K39: 0.74630225 | L39: 0.77459016 | M39: -0.028287913
B40: SKY | C40: 4041 | D40: 4452 | E40: 0.90768194 | F40: -411 | G40: 5487 | H40: 5487 | I40: 1 | J40: 0 | K40: 0.73646802 | L40: 0.81137233 | M40: -0.074904319
...

Sheet ８月（月間）
A1: ='R７'!A1 -> 令和７年度 | J1: ８月（月間） | K1: 航空旅客輸送実績
A2: 7 | C2: 2025 | D2: 年 | E2: 8 | F2: 月 | G2: 輸送実績（旅客実績） | K2: 提供座席 | O2: 利用率
A3: キャリア・路線 | G3: 25'8/1-8/31 | H3: 24'8/1-8/31 (前年同月) | I3: 対前年同月比 | K3: 25'8/1-8/31 | L3: 24'8/1-8/31 (前年同月) | M3: 対前年同月比 | O3: 25'8/1-8/31 | P3: 24'8/1-8/31 (前年同月) | Q3: 増減数
I4: 比率 | J4: 増減数 | M4: 比率 | N4: 増減数
A5: 合計 a+b+c+d+e | G5: 805895 | H5: 789822 | I5: 1.0203502 | J5: 16073 | K5: 874449 | L5: 873354 | M5: 1.0012538 | N5: 1095 | O5: 0.9216032 | P5: 0.90435494 | Q5: 0.017248269
A6: a | B6: JAL + JTA + RAC+JAC | G6: 271398 | H6: 265915 | I6: 1.0206194 | J6: 5483 | K6: 291930 | L6: 292950 | M6: 0.99651818 | N6: -1020 | O6: 0.92966807 | P6: 0.90771463 | Q6: 0.021953444
B7: JAL（日本航空） | G7: 177311 | H7: 177559 | I7: 0.99860328 | J7: -248 | K7: 188270 | L7: 190258 | M7: 0.98955103 | N7: -1988 | O7: 0.94179104 | P7: 0.93325379 | Q7: 0.0085372526
B8: JAL（日本航空）羽田 | C8: 羽田 | F8: ◎ | G8: 120391 | H8: 123546 | I8: 0.97446295 | J8: -3155 | K8: 127395 | L8: 130409 | M8: 0.9768881 | N8: -3014 | O8: 0.94502139 | P8: 0.94737326 | Q8: -0.002351874
B9: JAL（日本航空）伊丹 | C9: 伊丹 | F9: ◎ | G9: 27672 | H9: 25312 | I9: 1.0932364 | J9: 2360 | K9: 28862 | L9: 29357 | M9: 0.9831386 | N9: -495 | O9: 0.95876932 | P9: 0.86221344 | Q9: 0.096555875
B10: JAL（日本航空）関西 | C10: 関西 | H10: 0 | I10: #DIV/0! | J10: 0 | L10: 0 | M10: #DIV/0! | N10: 0 | O10: #DIV/0! | P10: #DIV/0! | Q10: #DIV/0!
B11: JAL（日本航空）福岡 | C11: 福岡 | H11: 0 | I11: #DIV/0! | J11: 0 | L11: 0 | M11: #DIV/0! | N11: 0 | O11: #DIV/0! | P11: #DIV/0! | Q11: #DIV/0!
B12: JAL（日本航空）名古屋 | C12: 名古屋 | H12: 0 | I12: #DIV/0! | J12: 0 | L12: 0 | M12: #DIV/0! | N12: 0 | O12: #DIV/0! | P12: #DIV/0! | Q12: #DIV/0!
B13: JAL（日本航空）成田 | C13: 成田 | H13: 0 | I13: #DIV/0! | J13: 0 | L13: 0 | M13: #DIV/0! | N13: 0 | O13: #DIV/0! | P13: #DIV/0! | Q13: #DIV/0!
B14: JAL（日本航空）仙台 | C14: 仙台 | H14: 0 | I14: #DIV/0! | J14: 0 | L14: 0 | M14: #DIV/0! | N14: 0 | O14: #DIV/0! | P14: #DIV/0! | Q14: #DIV/0!
B15: JAL（日本航空）神戸 | C15: 神戸 | H15: 0 | I15: #DIV/0! | J15: 0 | L15: 0 | M15: #DIV/0! | N15: 0 | O15: #DIV/0! | P15: #DIV/0! | Q15: #DIV/0!
B16: JAL（日本航空）花巻 | C16: 花巻 | H16: 0 | I16: #DIV/0! | J16: 0 | L16: 0 | M16: #DIV/0! | N16: 0 | O16: #DIV/0! | P16: #DIV/0! | Q16: #DIV/0!
B17: JAL（日本航空）羽田石垣 | C17: 羽田 | D17: - | E17: 石垣 | G17: 16446 | H17: 16697 | I17: 0.98496736 | J17: -251 | K17: 18042 | L17: 17460 | M17: 1.0333333 | N17: 582 | O17: 0.91153974 | P17: 0.95630011 | Q17: -0.044760374
B18: JAL（日本航空）羽田宮古 | C18: 羽田 | D18: - | E18: 宮古 | G18: 8636 | H18: 7850 | I18: 1.1001274 | J18: 786 | K18: 9021 | L18: 8082 | M18: 1.1161841 | N18: 939 | O18: 0.9573218 | P18: 0.97129423 | Q18: -0.013972429
B19: JAL（日本航空）羽田久米島 | C19: 羽田 | D19: - | E19: 久米島 | G19: 4166 | H19: 4154 | I19: 1.0028888 | J19: 12 | K19: 4950 | L19: 4950 | M19: 1 | N19: 0 | O19: 0.84161616 | P19: 0.83919192 | Q19: 0.0024242424
B20: JAL（日本航空）沖永良部 | C20: 沖永良部 | H20: 0 | I20: #DIV/0! | J20: 0 | K20: 0 | L20: 0 | M20: #DIV/0! | N20: 0 | O20: #DIV/0! | P20: #DIV/0! | Q20: #DIV/0!
B21: JTA（日本トランスオーシャン航空） | G21: 88829 | H21: 82787 | I21: 1.0729825 | J21: 6042 | K21: 97680 | L21: 96690 | M21: 1.0102389 | N21: 990 | O21: 0.9093878 | P21: 0.85621057 | Q21: 0.053177227
B22: JTA（日本トランスオーシャン航空）羽田 | C22: 羽田 | H22: 147 | I22: 0 | J22: -147 | L22: 165 | M22: 0 | N22: -165 | O22: #DIV/0! | P22: 0.89090909 | Q22: #DIV/0!
B23: JTA（日本トランスオーシャン航空）関西 | C23: 関西 | F23: ◎ | G23: 17135 | H23: 12252 | I23: 1.3985472 | J23: 4883 | K23: 18645 | L23: 15345 | M23: 1.2150538 | N23: 3300 | O23: 0.91901314 | P23: 0.79843597 | Q23: 0.12057717
B24: JTA（日本トランスオーシャン航空）福岡 | C24: 福岡 | F24: ◎ | G24: 30132 | H24: 26340 | I24: 1.1439636 | J24: 3792 | K24: 33000 | L24: 29535 | M24: 1.1173184 | N24: 3465 | O24: 0.91309091 | P24: 0.89182326 | Q24: 0.021267649
B25: JTA（日本トランスオーシャン航空）羽田石垣 | C25: 羽田 | D25: - | E25: 石垣 | F25: ◎ | H25: 0 | I25: #DIV/0! | J25: 0 | L25: 0 | M25: #DIV/0! | N25: 0 | O25: #DIV/0! | P25: #DIV/0! | Q25: #DIV/0!
B26: JTA（日本トランスオーシャン航空）羽田宮古 | C26: 羽田 | D26: - | E26: 宮古 | F26: ◎ | H26: 0 | I26: #DIV/0! | J26: 0 | L26: 0 | M26: #DIV/0! | N26: 0 | O26: #DIV/0! | P26: #DIV/0! | Q26: #DIV/0!
B27: JTA（日本トランスオーシャン航空）羽田久米島 | C27: 羽田 | D27: - | E27: 久米島 | F27: ○ | H27: 0 | I27: #DIV/0! | J27: 0 | L27: 0 | M27: #DIV/0! | N27: 0 | O27: #DIV/0! | P27: #DIV/0! | Q27: #DIV/0!
B28: JTA（日本トランスオーシャン航空）関西石垣 | C28: 関西 | D28: - | E28: 石垣 | F28: ◎ | G28: 4754 | H28: 4723 | I28: 1.0065636 | J28: 31 | K28: 5115 | L28: 5115 | M28: 1 | N28: 0 | O28: 0.92942326 | P28: 0.92336266 | Q28: 0.0060606061
B29: JTA（日本トランスオーシャン航空）関西宮古 | C29: 関西 | D29: - | E29: 宮古 | G29: 4751 | H29: 4805 | I29: 0.98876171 | J29: -54 | K29: 5115 | L29: 5115 | M29: 1 | N29: 0 | O29: 0.92883675 | P29: 0.93939394 | Q29: -0.010557185
B30: JTA（日本トランスオーシャン航空）神戸石垣 | C30: 神戸 | D30: - | E30: 石垣 | H30: 0 | I30: #DIV/0! | J30: 0 | L30: 0 | M30: #DIV/0! | N30: 0 | O30: #DIV/0! | P30: #DIV/0! | Q30: #DIV/0!
B31: JTA（日本トランスオーシャン航空）名古屋石垣 | C31: 名古屋 | D31: - | E31: 石垣 | H31: 3038 | I31: 0 | J31: -3038 | L31: 5115 | M31: 0 | N31: -5115 | O31: #DIV/0! | P31: 0.59393939 | Q31: #DIV/0!
B32: JTA（日本トランスオーシャン航空）名古屋宮古 | C32: 名古屋 | D32: - | E32: 宮古 | H32: 4458 | I32: 0 | J32: -4458 | L32: 5115 | M32: 0 | N32: -5115 | O32: #DIV/0! | P32: 0.87155425 | Q32: #DIV/0!
B33: JTA（日本トランスオーシャン航空）仙台 | C33: 仙台 | H33: 0 | I33: #DIV/0! | J33: 0 | L33: 0 | M33: #DIV/0! | N33: 0 | O33: #DIV/0! | P33: #DIV/0! | Q33: #DIV/0!
B34: JTA（日本トランスオーシャン航空）松山 | C34: 松山 | H34: 0 | I34: #DIV/0! | J34: 0 | L34: 0 | M34: #DIV/0! | N34: 0 | O34: #DIV/0! | P34: #DIV/0! | Q34: #DIV/0!
B35: JTA（日本トランスオーシャン航空）高知 | C35: 高知 | H35: 0 | I35: #DIV/0! | J35: 0 | L35: 0 | M35: #DIV/0! | N35: 0 | O35: #DIV/0! | P35: #DIV/0! | Q35: #DIV/0!
B36: JTA（日本トランスオーシャン航空）岡山 | C36: 岡山 | F36: ◎ | G36: 4817 | H36: 4641 | I36: 1.0379229 | J36: 176 | K36: 5115 | L36: 5115 | M36: 1 | N36: 0 | O36: 0.94173998 | P36: 0.90733138 | Q36: 0.034408602
B37: JTA（日本トランスオーシャン航空）福島 | C37: 福島 | H37: 0 | I37: #DIV/0! | J37: 0 | L37: 0 | M37: #DIV/0! | N37: 0 | O37: #DIV/0! | P37: #DIV/0! | Q37: #DIV/0!
B38: JTA（日本トランスオーシャン航空）小松 | C38: 小松 | F38: ◎ | G38: 4247 | H38: 4078 | I38: 1.0414419 | J38: 169 | K38: 5115 | L38: 5115 | M38: 1 | N38: 0 | O38: 0.83030303 | P38: 0.79726295 | Q38: 0.033040078
B39: JTA（日本トランスオーシャン航空）北九州 | C39: 北九州 | H39: 0 | I39: #DIV/0! | J39: 0 | L39: 0 | M39: #DIV/0! | N39: 0 | O39: #DIV/0! | P39: #DIV/0! | Q39: #DIV/0!
B40: JTA（日本トランスオーシャン航空）神戸 | C40: 神戸 | H40: 0 | I40: #DIV/0! | J40: 0 | L40: 0 | M40: #DIV/0! | N40: 0 | O40: #DIV/0! | P40: #DIV/0! | Q40: #DIV/0!
...

Sheet ８月月間
A1: ='R７'!A1 -> 令和７年度 | F1: ８月月間 | G1: 航空旅客輸送実績
A2: R7 | B2: （2025）年 | C2: 8
C3: 輸送実績人数 | G3: 提供座席数 | K3: 利用率
C4: 25'8月間 | D4: 24'8月間 | E4: 対前年同月比較 | G4: 25'8月間 | H4: 24'8月間 | I4: 対前年同月比較 | K4: 25'8月間 | L4: 24'8月間 | M4: 対前年 増減
E5: 比率 | F5: 増減数 | I5: 比率 | J5: 増減数
