Workbook

Sheet 疾病別報告状況
A1: =T1&K2&L2&M2&N2&O2&P2&Q2 -> 2026年第39週 (9/21～9/27) | H1: =TEXT(R2,"yyyy年mm月dd日現在") -> 2026年10月01日現在 | T1: 2026年
A2: インフルエンザ | K2: 第 | L2: 39 | M2: 週 ( | N2: =TEXT(INDEX(カレンダー!$C:$C,MATCH(疾病別報告状況!$L$2,カレンダー!$B:$B,0)),"m/d") -> 9/21 | O2: ～ | P2: =TEXT(INDEX(カレンダー!$D:$D,MATCH(疾病別報告状況!$L$2,カレンダー!$B:$B,0)),"m/d") -> 9/27 | Q2: ) | R2: 46296
L3: ↑当該週を入力 | R3: ↑データ確認日を入力
A82: =+A1 -> 2026年第39週 (9/21～9/27)
A83: ＲＳウイルス
A163: =+A1 -> 2026年第39週 (9/21～9/27)
A164: 咽頭結膜熱
A244: =+A1 -> 2026年第39週 (9/21～9/27)
A245: Ａ群溶血性レンサ球菌咽頭炎
A325: =+A1 -> 2026年第39週 (9/21～9/27)
A326: 感染性胃腸炎
A406: =+A1 -> 2026年第39週 (9/21～9/27)
A407: 水痘
A487: =+A1 -> 2026年第39週 (9/21～9/27)
A488: 手足口病
A568: =+A1 -> 2026年第39週 (9/21～9/27)
A569: 伝染性紅斑
A649: =+$A$1 -> 2026年第39週 (9/21～9/27)
A650: 突発性発疹
A730: =+$A$1 -> 2026年第39週 (9/21～9/27)
A731: ヘルパンギーナ
A811: =+$A$1 -> 2026年第39週 (9/21～9/27)
A812: 流行性耳下腺炎
A892: =+$A$1 -> 2026年第39週 (9/21～9/27)
A893: 急性出血性結膜炎
A973: =+$A$1 -> 2026年第39週 (9/21～9/27)
A974: 流行性角結膜炎
A1054: =+$A$1 -> 2026年第39週 (9/21～9/27)
A1055: 細菌性髄膜炎
A1135: =+$A$1 -> 2026年第39週 (9/21～9/27)
A1136: 無菌性髄膜炎
A1216: =+$A$1 -> 2026年第39週 (9/21～9/27)
A1217: マイコプラズマ肺炎
A1297: =+$A$1 -> 2026年第39週 (9/21～9/27)
A1298: クラミジア肺炎
A1378: =+$A$1 -> 2026年第39週 (9/21～9/27)
A1379: 感染性胃腸炎（ロタウイルス）
A1469: =+$A$1 -> 2026年第39週 (9/21～9/27)
A1470: COVID-19※
C1506: シーズン別の報告数合計

Sheet 令和8年各保健所毎集計
N1: 2025年 | BN1: 2026年
D2: 10 | E2: 10 | F2: 11 | G2: 11 | H2: 11 | I2: 11 | J2: 12 | K2: 12 | L2: 12 | M2: 12 | N2: =INDEX(カレンダー!$A:$A,MATCH(令和8年各保健所毎集計!N$4,カレンダー!$B:$B,0)) -> 1 | O2: =INDEX(カレンダー!$A:$A,MATCH(令和8年各保健所毎集計!O$4,カレンダー!$B:$B,0)) -> 1 | P2: =INDEX(カレンダー!$A:$A,MATCH(令和8年各保健所毎集計!P$4,カレンダー!$B:$B,0)) -> 1 | Q2: =INDEX(カレンダー!$A:$A,MATCH(令和8年各保健所毎集計!Q$4,カレンダー!$B:$B,0)) -> 1 | R2: =INDEX(カレンダー!$A:$A,MATCH(令和8年各保健所毎集計!R$4,カレンダー!$B:$B,0)) -> 1 | S2: =INDEX(カレンダー!$A:$A,MATCH(令和8年各保健所毎集計!S$4,カレンダー!$B:$B,0)) -> 2 | T2: =INDEX(カレンダー!$A:$A,MATCH(令和8年各保健所毎集計!T$4,カレンダー!$B:$B,0)) -> 2 | U2: =INDEX(カレンダー!$A:$A,MATCH(令和8年各保健所毎集計!U$4,カレンダー!$B:$B,0)) -> 2 | ... DM2: =INDEX(カレンダー!$A:$A,MATCH(令和8年各保健所毎集計!DM$4,カレンダー!$B:$B,0)) -> 12
B3: 週別疾病別患者数・定点数 | E3: 45566 | F3: 45597 | J3: 45627 | N3: 45658 | S3: 45689 | V3: 45689 | W3: 45717 | AA3: 45717 | AB3: 45748 | AF3: 45778 | AJ3: 45809 | AO3: 45839 | AS3: 45870 | AW3: 45901 | BB3: 45931 | BE3: 45931 | BF3: 45962 | BG3: 11月 | BI3: 11月 | BJ3: 45992 | BM3: 45992 | BN3: 46023 | BS3: 45689 | BV3: 45689 | BW3: 45717 | BY3: 3月 | CA3: 3月 | CB3: 45748 | CD3: 45748 | CF3: 45778 | CJ3: 45809 | CO3: 45839 | CQ3: 45839 | CS3: 45870 | CW3: 45901 | DB3: 45931 | DF3: 45962 | DJ3: 45992
B4: 疾病名 | C4: 保健所等＼週 | D4: 43 | E4: 44 | F4: 45 | G4: 46 | H4: 47 | I4: 48 | J4: 49 | K4: 50 | L4: 51 | M4: 52 | N4: 1 | O4: 2 | P4: 3 | Q4: 4 | R4: 5 | S4: 6 | T4: 7 | U4: 8 | V4: 9 | W4: 10 | X4: 11 | Y4: 12 | Z4: 13 | AA4: 14 | AB4: 15 | AC4: 16 | AD4: 17 | AE4: 18 | AF4: 19 | AG4: 20 | AH4: 21 | AI4: 22 | AJ4: 23 | AK4: 24 | AL4: 25 | AM4: 26 | AN4: 27 | AO4: 28 | AP4: 29 | AQ4: 30 | AR4: 31 | AS4: 32 | AT4: 33 | AU4: 34 | AV4: 35 | AW4: 36 | AX4: 37 | AY4: 38 | AZ4: 39 | BA4: 40 | BB4: 41 | BC4: 42 | BD4: 43 | BE4: 44 | BF4: 45 | BG4: 46 | BH4: 47 | BI4: 48 | BJ4: 49 | BK4: 50 | BL4: 51 | BM4: 52 | BN4: 1 | BO4: 2 | BP4: 3 | BQ4: 4 | BR4: 5 | BS4: 6 | BT4: 7 | BU4: 8 | BV4: 9 | BW4: 10 | BX4: 11 | BY4: 12 | BZ4: 13 | CA4: 14 | CB4: 15 | CC4: 16 | CD4: 17 | CE4: 18 | CF4: 19 | CG4: 20 | CH4: 21 | CI4: 22 | CJ4: 23 | CK4: 24 | CL4: 25 | CM4: 26 | CN4: 27 | CO4: 28 | CP4: 29 | CQ4: 30 | CR4: 31 | CS4: 32 | CT4: 33 | CU4: 34 | CV4: 35 | CW4: 36 | CX4: 37 | CY4: 38 | CZ4: 39 | DA4: 40 | DB4: 41 | DC4: 42 | DD4: 43 | DE4: 44 | DF4: 45 | DG4: 46 | DH4: 47 | DI4: 48 | DJ4: 49 | DK4: 50 | DL4: 51 | DM4: 52 | DN4: 合計 | DO4: 保健所等＼週
B5: インフルエンザ | C5: 北部 | D5: 24 | E5: 15 | F5: 4 | G5: 8 | H5: 9 | I5: 26 | J5: 15 | K5: 21 | L5: 19 | M5: 94 | N5: 114 | O5: 117 | P5: 128 | Q5: 66 | R5: 43 | S5: 27 | T5: 21 | U5: 7 | V5: 4 | W5: 13 | X5: 11 | Y5: 10 | Z5: 7 | AA5: 4 | AB5: 3 | AC5: 5 | AD5: 21 | AE5: 16 | AF5: 17 | AG5: 8 | AH5: 10 | AI5: 17 | AJ5: 15 | AK5: 8 | AL5: 6 | AM5: 4 | AN5: 2 | AO5: 0 | AP5: 4 | AQ5: 7 | AR5: 16 | AS5: 4 | AT5: 8 | AU5: 6 | AV5: 5 | AW5: 10 | AX5: 13 | AY5: 21 | AZ5: 18 | BA5: 32 | BB5: 45 | BC5: 56 | BD5: 115 | BE5: 120 | BF5: 176 | BG5: 150 | BH5: 90 | BI5: 97 | BJ5: 109 | BK5: 105 | BL5: 94 | BM5: 76 | BN5: 156 | BO5: 64 | BP5: 76 | BQ5: 60 | BR5: 66 | BS5: 77 | BT5: 90 | BU5: 66 | BV5: 93 | BW5: 65 | BX5: 62 | BY5: 55 | BZ5: 29 | CA5: 15 | CB5: 19 | CC5: 6 | CD5: 4 | CE5: 5 | CF5: 5 | CG5: 2 | CH5: 3 | CI5: 2 | CJ5: 1 | CK5: 2 | CL5: 0 | CM5: 2 | CN5: 0 | CO5: 0 | CP5: 3 | CQ5: 6 | CR5: 2 | CS5: 5 | CT5: 12 | CU5: 10 | CV5: 16 | CW5: 24 | CX5: 44 | CY5: 130 | CZ5: 178 | DN5: =SUM(BN5:DM5) -> 1455 | DO5: 北部
B6: （報告数） | C6: 中部 | D6: 194 | E6: 251 | F6: 143 | G6: 109 | H6: 100 | I6: 61 | J6: 60 | K6: 75 | L6: 150 | M6: 310 | N6: 258 | O6: 560 | P6: 565 | Q6: 398 | R6: 263 | S6: 287 | T6: 252 | U6: 224 | V6: 168 | W6: 132 | X6: 120 | Y6: 76 | Z6: 106 | AA6: 78 | AB6: 48 | AC6: 41 | AD6: 53 | AE6: 41 | AF6: 55 | AG6: 55 | AH6: 22 | AI6: 26 | AJ6: 24 | AK6: 22 | AL6: 45 | AM6: 69 | AN6: 72 | AO6: 48 | AP6: 32 | AQ6: 20 | AR6: 34 | AS6: 41 | AT6: 39 | AU6: 58 | AV6: 35 | AW6: 80 | AX6: 142 | AY6: 192 | AZ6: 206 | BA6: 336 | BB6: 325 | BC6: 242 | BD6: 270 | BE6: 295 | BF6: 249 | BG6: 248 | BH6: 277 | BI6: 275 | BJ6: 255 | BK6: 200 | BL6: 214 | BM6: 204 | BN6: 149 | BO6: 277 | BP6: 265 | BQ6: 282 | BR6: 354 | BS6: 313 | BT6: 350 | BU6: 394 | BV6: 250 | BW6: 213 | BX6: 172 | BY6: 167 | BZ6: 173 | CA6: 128 | CB6: 68 | CC6: 64 | CD6: 79 | CE6: 32 | CF6: 19 | CG6: 49 | CH6: 26 | CI6: 20 | CJ6: 9 | CK6: 16 | CL6: 8 | CM6: 7 | CN6: 9 | CO6: 2 | CP6: 9 | CQ6: 19 | CR6: 25 | CS6: 21 | CT6: 40 | CU6: 48 | CV6: 90 | CW6: 142 | CX6: 283 | CY6: 371 | CZ6: 335 | DN6: =SUM(BN6:DM6) -> 5278 | DO6: 中部
C7: 那覇市 | D7: 129 | E7: 117 | F7: 93 | G7: 42 | H7: 45 | I7: 35 | J7: 49 | K7: 82 | L7: 148 | M7: 297 | N7: 711 | O7: 431 | P7: 450 | Q7: 226 | R7: 136 | S7: 91 | T7: 164 | U7: 91 | V7: 101 | W7: 59 | X7: 43 | Y7: 51 | Z7: 35 | AA7: 19 | AB7: 23 | AC7: 22 | AD7: 16 | AE7: 35 | AF7: 48 | AG7: 15 | AH7: 19 | AI7: 27 | AJ7: 33 | AK7: 28 | AL7: 51 | AM7: 56 | AN7: 64 | AO7: 75 | AP7: 33 | AQ7: 53 | AR7: 54 | AS7: 46 | AT7: 41 | AU7: 22 | AV7: 19 | AW7: 17 | AX7: 26 | AY7: 44 | AZ7: 86 | BA7: 83 | BB7: 114 | BC7: 161 | BD7: 166 | BE7: 183 | BF7: 203 | BG7: 177 | BH7: 202 | BI7: 207 | BJ7: 160 | BK7: 144 | BL7: 127 | BM7: 148 | BN7: 328 | BO7: 133 | BP7: 208 | BQ7: 138 | BR7: 162 | BS7: 154 | BT7: 253 | BU7: 203 | BV7: 217 | BW7: 119 | BX7: 90 | BY7: 112 | BZ7: 88 | CA7: 51 | CB7: 24 | CC7: 14 | CD7: 12 | CE7: 19 | CF7: 22 | CG7: 16 | CH7: 8 | CI7: 4 | CJ7: 3 | CK7: 3 | CL7: 5 | CM7: 6 | CN7: 0 | CO7: 13 | CP7: 8 | CQ7: 17 | CR7: 29 | CS7: 26 | CT7: 31 | CU7: 48 | CV7: 81 | CW7: 82 | CX7: 136 | CY7: 261 | CZ7: 547 | DN7: =SUM(BN7:DM7) -> 3671 | DO7: 那覇市
C8: 南部 | D8: 183 | E8: 143 | F8: 93 | G8: 68 | H8: 101 | I8: 48 | J8: 71 | K8: 83 | L8: 127 | M8: 373 | N8: 749 | O8: 538 | P8: 597 | Q8: 300 | R8: 261 | S8: 212 | T8: 193 | U8: 148 | V8: 149 | W8: 107 | X8: 100 | Y8: 96 | Z8: 65 | AA8: 38 | AB8: 35 | AC8: 31 | AD8: 29 | AE8: 53 | AF8: 41 | AG8: 29 | AH8: 32 | AI8: 30 | AJ8: 52 | AK8: 34 | AL8: 36 | AM8: 43 | AN8: 36 | AO8: 53 | AP8: 75 | AQ8: 82 | AR8: 71 | AS8: 84 | AT8: 72 | AU8: 37 | AV8: 37 | AW8: 21 | AX8: 33 | AY8: 49 | AZ8: 64 | BA8: 81 | BB8: 123 | BC8: 167 | BD8: 187 | BE8: 219 | BF8: 228 | BG8: 246 | BH8: 273 | BI8: 247 | BJ8: 171 | BK8: 125 | BL8: 162 | BM8: 167 | BN8: 377 | BO8: 269 | BP8: 290 | BQ8: 201 | BR8: 265 | BS8: 251 | BT8: 307 | BU8: 255 | BV8: 273 | BW8: 157 | BX8: 136 | BY8: 129 | BZ8: 124 | CA8: 51 | CB8: 53 | CC8: 28 | CD8: 26 | CE8: 43 | CF8: 47 | CG8: 36 | CH8: 28 | CI8: 23 | CJ8: 21 | CK8: 13 | CL8: 6 | CM8: 17 | CN8: 11 | CO8: 11 | CP8: 18 | CQ8: 33 | CR8: 37 | CS8: 48 | CT8: 43 | CU8: 87 | CV8: 173 | CW8: 158 | CX8: 244 | CY8: 341 | CZ8: 686 | DN8: =SUM(BN8:DM8) -> 5316 | DO8: 南部
C9: 宮古 | D9: 79 | E9: 43 | F9: 50 | G9: 32 | H9: 29 | I9: 17 | J9: 18 | K9: 10 | L9: 33 | M9: 123 | N9: 121 | O9: 140 | P9: 62 | Q9: 39 | R9: 22 | S9: 22 | T9: 16 | U9: 8 | V9: 1 | W9: 1 | X9: 0 | Y9: 0 | Z9: 2 | AA9: 6 | AB9: 3 | AC9: 1 | AD9: 1 | AE9: 0 | AF9: 0 | AG9: 0 | AH9: 2 | AI9: 0 | AJ9: 1 | AK9: 1 | AL9: 6 | AM9: 13 | AN9: 8 | AO9: 6 | AP9: 2 | AQ9: 1 | AR9: 0 | AS9: 1 | AT9: 0 | AU9: 0 | AV9: 1 | AW9: 0 | AX9: 1 | AY9: 0 | AZ9: 1 | BA9: 2 | BB9: 10 | BC9: 6 | BD9: 39 | BE9: 64 | BF9: 89 | BG9: 40 | BH9: 40 | BI9: 28 | BJ9: 18 | BK9: 7 | BL9: 18 | BM9: 17 | BN9: 15 | BO9: 24 | BP9: 9 | BQ9: 15 | BR9: 9 | BS9: 11 | BT9: 19 | BU9: 23 | BV9: 15 | BW9: 16 | BX9: 4 | BY9: 9 | BZ9: 9 | CA9: 2 | CB9: 3 | CC9: 3 | CD9: 1 | CE9: 1 | CF9: 0 | CG9: 0 | CH9: 1 | CI9: 0 | CJ9: 0 | CK9: 0 | CL9: 0 | CM9: 0 | CN9: 1 | CO9: 0 | CP9: 0 | CQ9: 5 | CR9: 1 | CS9: 1 | CT9: 0 | CU9: 2 | CV9: 4 | CW9: 9 | CX9: 10 | CY9: 32 | CZ9: 49 | DN9: =SUM(BN9:DM9) -> 303 | DO9: 宮古
C10: 八重山 | D10: 13 | E10: 27 | F10: 30 | G10: 22 | H10: 25 | I10: 15 | J10: 11 | K10: 19 | L10: 107 | M10: 164 | N10: 121 | O10: 138 | P10: 63 | Q10: 22 | R10: 21 | S10: 3 | T10: 1 | U10: 7 | V10: 3 | W10: 0 | X10: 4 | Y10: 2 | Z10: 0 | AA10: 6 | AB10: 1 | AC10: 4 | AD10: 0 | AE10: 1 | AF10: 1 | AG10: 0 | AH10: 12 | AI10: 70 | AJ10: 40 | AK10: 50 | AL10: 28 | AM10: 45 | AN10: 41 | AO10: 23 | AP10: 19 | AQ10: 5 | AR10: 2 | AS10: 1 | AT10: 4 | AU10: 1 | AV10: 6 | AW10: 14 | AX10: 7 | AY10: 14 | AZ10: 29 | BA10: 14 | BB10: 30 | BC10: 45 | BD10: 96 | BE10: 190 | BF10: 110 | BG10: 116 | BH10: 148 | BI10: 128 | BJ10: 100 | BK10: 56 | BL10: 49 | BM10: 56 | BN10: 18 | BO10: 48 | BP10: 42 | BQ10: 25 | BR10: 16 | BS10: 26 | BT10: 27 | BU10: 26 | BV10: 40 | BW10: 52 | BX10: 30 | BY10: 86 | BZ10: 86 | CA10: 45 | CB10: 25 | CC10: 38 | CD10: 50 | CE10: 22 | CF10: 9 | CG10: 8 | CH10: 3 | CI10: 0 | CJ10: 1 | CK10: 0 | CL10: 0 | CM10: 1 | CN10: 3 | CO10: 1 | CP10: 0 | CQ10: 0 | CR10: 3 | CS10: 0 | CT10: 1 | CU10: 0 | CV10: 10 | CW10: 40 | CX10: 14 | CY10: 22 | CZ10: 75 | DN10: =SUM(BN10:DM10) -> 893 | DO10: 八重山
C11: 沖縄県 | D11: 622 | E11: 596 | F11: 413 | G11: 281 | H11: 309 | I11: 202 | J11: 224 | K11: 290 | L11: 584 | M11: 1361 | N11: 2074 | O11: 1924 | P11: 1865 | Q11: 1051 | R11: 746 | S11: 642 | T11: 647 | U11: 485 | V11: 426 | W11: 312 | X11: 278 | Y11: 235 | Z11: 215 | AA11: 151 | AB11: 113 | AC11: 104 | AD11: 120 | AE11: 146 | AF11: 162 | AG11: 107 | AH11: 97 | AI11: 170 | AJ11: 165 | AK11: 143 | AL11: 172 | AM11: 230 | AN11: 223 | AO11: 205 | AP11: 165 | AQ11: 168 | AR11: 177 | AS11: 177 | AT11: 164 | AU11: 124 | AV11: 103 | AW11: 142 | AX11: 222 | AY11: 320 | AZ11: 404 | BA11: 548 | BB11: 647 | BC11: 677 | BD11: 873 | BE11: 1071 | BF11: 1055 | BG11: 977 | BH11: 1030 | BI11: 982 | BJ11: 813 | BK11: 637 | BL11: 664 | BM11: 668 | BN11: 1043 | BO11: 815 | BP11: 890 | BQ11: 721 | BR11: 872 | BS11: 832 | BT11: 1046 | BU11: 967 | BV11: 888 | BW11: 622 | BX11: 494 | BY11: 558 | BZ11: 509 | CA11: 292 | CB11: 192 | CC11: 153 | CD11: 172 | CE11: 122 | CF11: 102 | CG11: 111 | CH11: 69 | CI11: 49 | CJ11: 35 | CK11: 34 | CL11: 19 | CM11: 33 | CN11: 24 | CO11: 27 | CP11: 38 | CQ11: 80 | CR11: 97 | CS11: 101 | CT11: 127 | CU11: 195 | CV11: 374 | CW11: 455 | CX11: 731 | CY11: 1157 | CZ11: 1870 | DN11: =SUM(BN11:DM11) -> 16916 | DO11: 沖縄県
C12: 全国 | D12: 4298 | E12: 5127 | F12: 5252 | G12: 9309 | H12: 11678 | I12: 24027 | J12: 44673 | K12: 94259 | L12: 211049 | M12: 317812 | N12: 141998 | O12: 172417 | P12: 90712 | Q12: 54594 | R12: 28943 | S12: 18592 | T12: 12964 | U12: 10866 | V12: 9302 | W12: 9941 | X12: 10960 | Y12: 9714 | Z12: 9093 | AA12: 5667 | AB12: 4621 | AC12: 4627 | AD12: 4209 | AE12: 3039 | AF12: 2580 | AG12: 2910 | AH12: 2035 | AI12: 1677 | AJ12: 1415 | AK12: 1141 | AL12: 1048 | AM12: 1023 | AN12: 1095 | AO12: 956 | AP12: 1146 | AQ12: 1223 | AR12: 1153 | AS12: 1131 | AT12: 980 | AU12: 1183 | AV12: 1347 | AW12: 1949 | AX12: 2732 | AY12: 3073 | AZ12: 4030 | BA12: 6013 | BB12: 9074 | BC12: 12576 | BD12: 24276 | BE12: 57424 | BF12: 84183 | BG12: 145526 | BH12: 196895 | BI12: 173380 | BJ12: 148314 | BK12: 142434 | BL12: 126127 | BM12: 87534 | BN12: 33217 | BO12: 39996 | BP12: 43027 | BQ12: 63326 | BR12: 114291 | BS12: 164744 | BT12: 157713 | BU12: 131200 | BV12: 86175 | BW12: 54516 | BX12: 44322 | BY12: 37043 | BZ12: 24536 | CA12: 12086 | CB12: 5444 | CC12: 3457 | CD12: 2295 | CE12: 1500 | CF12: 662 | CG12: 527 | CH12: 346 | CI12: 261 | CJ12: 239 | CK12: 272 | CL12: 251 | CM12: 310 | CN12: 446 | CO12: 486 | CP12: 749 | CQ12: 886 | CR12: 1384 | CS12: 1926 | CT12: 2417 | CU12: 4094 | CV12: 6543 | CW12: 12299 | CX12: 20697 | CY12: 31428 | CZ12: 26678 | DN12: =SUM(BN12:DM12) -> 1131789 | DO12: 全国
B13: インフルエンザ | C13: 北部 | D13: 4.8 | E13: 3 | F13: 0.8 | G13: 1.6 | H13: 1.8 | I13: 5.2 | J13: 3 | K13: 4.2 | L13: 3.8 | M13: 18.8 | N13: 22.8 | O13: 23.4 | P13: 25.6 | Q13: 13.2 | R13: 8.6 | S13: 5.4 | T13: 4.2 | U13: 1.4 | V13: 0.8 | W13: 2.6 | X13: 2.2 | Y13: 2 | Z13: 1.4 | AA13: 0.8 | AB13: 0.6 | AC13: 1 | AD13: 4.2 | AE13: 3.2 | AF13: 3.4 | AG13: 1.6 | AH13: 2 | AI13: 3.4 | AJ13: 3 | AK13: 1.6 | AL13: 1.2 | AM13: 0.8 | AN13: 0.4 | AO13: 0 | AP13: 0.8 | AQ13: 1.4 | AR13: 3.2 | AS13: 0.8 | AT13: 1.6 | AU13: 1.2 | AV13: 1 | AW13: 2 | AX13: 2.6 | AY13: 4.2 | AZ13: 3.6 | BA13: 6.4 | BB13: 9 | BC13: 11.2 | BD13: 23 | BE13: 24 | BF13: 35.2 | BG13: 30 | BH13: 18 | BI13: 19.4 | BJ13: 21.8 | BK13: 21 | BL13: 18.8 | BM13: 15.2 | BN13: 31.2 | BO13: 12.8 | BP13: 15.2 | BQ13: 12 | BR13: 13.2 | BS13: 15.4 | BT13: 18 | BU13: 13.2 | BV13: 18.6 | BW13: 13 | BX13: 12.4 | BY13: 11 | BZ13: 5.8 | CA13: 3 | CB13: 3.8 | CC13: 1.2 | CD13: 0.8 | CE13: 1 | CF13: 1 | CG13: 0.4 | CH13: 0.6 | CI13: 0.4 | CJ13: 0.2 | CK13: 0.4 | CL13: 0 | CM13: 0.4 | CN13: 0 | CO13: 0 | CP13: 0.6 | CQ13: 1.2 | CR13: 0.4 | CS13: 1 | CT13: 2.4 | CU13: 2 | CV13: 3.2 | CW13: 4.8 | CX13: 8.8 | CY13: 26 | CZ13: 35.6 | DN13: =SUM(BN13:DM13) -> 291 | DO13: 北部
B14: （定点あたり報告数） | C14: 中部 | D14: 10.78 | E14: 13.94 | F14: 7.94 | G14: 6.06 | H14: 5.56 | I14: 3.39 | J14: 3.33 | K14: 4.17 | L14: 8.33 | M14: 17.22 | N14: 14.33 | O14: 31.11 | P14: 31.39 | Q14: 22.11 | R14: 14.61 | S14: 15.94 | T14: 14 | U14: 12.44 | V14: 9.33 | W14: 7.33 | X14: 6.67 | Y14: 4.22 | Z14: 5.89 | AA14: 4.33 | AB14: 3.69 | AC14: 3.15 | AD14: 4.08 | AE14: 3.15 | AF14: 4.23 | AG14: 4.23 | AH14: 1.69 | AI14: 2 | AJ14: 1.85 | AK14: 1.69 | AL14: 3.46 | AM14: 5.31 | AN14: 5.54 | AO14: 3.69 | AP14: 2.46 | AQ14: 1.54 | AR14: 2.62 | AS14: 3.15 | AT14: 3 | AU14: 4.46 | AV14: 2.69 | AW14: 6.15 | AX14: 10.92 | AY14: 14.77 | AZ14: 15.85 | BA14: 25.85 | BB14: 25 | BC14: 18.62 | BD14: 20.77 | BE14: 22.69 | BF14: 19.15 | BG14: 19.08 | BH14: 21.31 | BI14: 21.15 | BJ14: 19.62 | BK14: 15.38 | BL14: 16.46 | BM14: 15.69 | BN14: 11.46 | BO14: 21.31 | BP14: 20.38 | BQ14: 21.69 | BR14: 27.23 | BS14: 24.08 | BT14: 26.92 | BU14: 30.31 | BV14: 19.23 | BW14: 16.38 | BX14: 13.23 | BY14: 12.85 | BZ14: 13.31 | CA14: 9.85 | CB14: 5.23 | CC14: 4.92 | CD14: 6.08 | CE14: 2.46 | CF14: 1.46 | CG14: 3.77 | CH14: 2 | CI14: 1.54 | CJ14: 0.69 | CK14: 1.23 | CL14: 0.62 | CM14: 0.54 | CN14: 0.69 | CO14: 0.15 | CP14: 0.69 | CQ14: 1.46 | CR14: 1.92 | CS14: 1.62 | CT14: 3.08 | CU14: 3.69 | CV14: 6.92 | CW14: 10.92 | CX14: 21.77 | CY14: 28.54 | CZ14: 25.77 | DN14: =SUM(BN14:DM14) -> 405.99 | DO14: 中部
B15: 警報（30以上。終息基準値は10未満） | C15: 那覇市 | D15: 10.75 | E15: 9.75 | F15: 7.75 | G15: 3.5 | H15: 3.75 | I15: 2.92 | J15: 4.08 | K15: 6.83 | L15: 12.33 | M15: 24.75 | N15: 59.25 | O15: 35.92 | P15: 37.5 | Q15: 18.83 | R15: 11.33 | S15: 7.58 | T15: 13.67 | U15: 7.58 | V15: 8.42 | W15: 4.92 | X15: 3.58 | Y15: 4.25 | Z15: 2.92 | AA15: 1.58 | AB15: 2.3 | AC15: 2.2 | AD15: 1.6 | AE15: 3.5 | AF15: 4.8 | AG15: 1.5 | AH15: 1.9 | AI15: 2.7 | AJ15: 3.3 | AK15: 2.8 | AL15: 5.1 | AM15: 5.6 | AN15: 6.4 | AO15: 7.5 | AP15: 3.3 | AQ15: 5.3 | AR15: 5.4 | AS15: 4.6 | AT15: 4.1 | AU15: 2.2 | AV15: 1.9 | AW15: 1.7 | AX15: 2.6 | AY15: 4.4 | AZ15: 8.6 | BA15: 8.3 | BB15: 11.4 | BC15: 16.1 | BD15: 16.6 | BE15: 18.3 | BF15: 20.3 | BG15: 17.7 | BH15: 20.2 | BI15: 20.7 | BJ15: 16 | BK15: 14.4 | BL15: 12.7 | BM15: 14.8 | BN15: 32.8 | BO15: 13.3 | BP15: 20.8 | BQ15: 13.8 | BR15: 16.2 | BS15: 15.4 | BT15: 25.3 | BU15: 20.3 | BV15: 21.7 | BW15: 11.9 | BX15: 9 | BY15: 11.2 | BZ15: 8.8 | CA15: 5.67 | CB15: 2.67 | CC15: 1.56 | CD15: 1.33 | CE15: 2.11 | CF15: 2.44 | CG15: 1.78 | CH15: 0.89 | CI15: 0.44 | CJ15: 0.33 | CK15: 0.33 | CL15: 0.56 | CM15: 0.67 | CN15: 0 | CO15: 1.44 | CP15: 0.89 | CQ15: 1.89 | CR15: 3.22 | CS15: 2.89 | CT15: 3.44 | CU15: 5.33 | CV15: 9 | CW15: 9.11 | CX15: 15.11 | CY15: 29 | CZ15: 60.78 | DN15: =SUM(BN15:DM15) -> 383.38 | DO15: 那覇市
B16: 注意報(10以上) | C16: 南部 | D16: 13.07 | E16: 10.21 | F16: 6.64 | G16: 4.86 | H16: 7.21 | I16: 3.43 | J16: 5.07 | K16: 5.93 | L16: 9.07 | M16: 26.64 | N16: 53.5 | O16: 38.43 | P16: 42.64 | Q16: 21.43 | R16: 18.64 | S16: 15.14 | T16: 13.79 | U16: 10.57 | V16: 10.64 | W16: 7.64 | X16: 7.14 | Y16: 6.86 | Z16: 4.64 | AA16: 2.71 | AB16: 2.92 | AC16: 2.58 | AD16: 2.42 | AE16: 4.42 | AF16: 3.42 | AG16: 2.42 | AH16: 2.67 | AI16: 2.5 | AJ16: 4.33 | AK16: 2.83 | AL16: 3 | AM16: 3.58 | AN16: 3 | AO16: 4.42 | AP16: 6.25 | AQ16: 6.83 | AR16: 5.92 | AS16: 7 | AT16: 6 | AU16: 3.08 | AV16: 3.08 | AW16: 1.75 | AX16: 2.75 | AY16: 4.08 | AZ16: 5.33 | BA16: 6.75 | BB16: 10.25 | BC16: 13.92 | BD16: 15.58 | BE16: 18.25 | BF16: 19 | BG16: 20.5 | BH16: 22.75 | BI16: 20.58 | BJ16: 14.25 | BK16: 10.42 | BL16: 13.5 | BM16: 13.92 | BN16: 31.42 | BO16: 22.42 | BP16: 24.17 | BQ16: 16.75 | BR16: 22.08 | BS16: 20.92 | BT16: 25.58 | BU16: 21.25 | BV16: 22.75 | BW16: 13.08 | BX16: 11.33 | BY16: 10.75 | BZ16: 10.33 | CA16: 4.25 | CB16: 4.42 | CC16: 2.33 | CD16: 2.17 | CE16: 3.58 | CF16: 3.92 | CG16: 3 | CH16: 2.33 | CI16: 1.92 | CJ16: 1.75 | CK16: 1.08 | CL16: 0.5 | CM16: 1.42 | CN16: 0.92 | CO16: 0.92 | CP16: 1.5 | CQ16: 2.75 | CR16: 3.08 | CS16: 4 | CT16: 3.58 | CU16: 7.25 | CV16: 14.42 | CW16: 13.17 | CX16: 20.33 | CY16: 28.42 | CZ16: 57.17 | DN16: =SUM(BN16:DM16) -> 443.01 | DO16: 南部
C17: 宮古 | D17: 19.75 | E17: 10.75 | F17: 12.5 | G17: 8 | H17: 7.25 | I17: 4.25 | J17: 4.5 | K17: 2.5 | L17: 8.25 | M17: 30.75 | N17: 30.25 | O17: 35 | P17: 15.5 | Q17: 9.75 | R17: 5.5 | S17: 5.5 | T17: 4 | U17: 2 | V17: 0.25 | W17: 0.25 | X17: 0 | Y17: 0 | Z17: 0.5 | AA17: 1.5 | AB17: 1.5 | AC17: 0.5 | AD17: 0.5 | AE17: 0 | AF17: 0 | AG17: 0 | AH17: 1 | AI17: 0 | AJ17: 0.5 | AK17: 0.5 | AL17: 3 | AM17: 6.5 | AN17: 4 | AO17: 3 | AP17: 1 | AQ17: 0.5 | AR17: 0 | AS17: 0.5 | AT17: 0 | AU17: 0 | AV17: 0.5 | AW17: 0 | AX17: 0.5 | AY17: 0 | AZ17: 0.5 | BA17: 1 | BB17: 5 | BC17: 3 | BD17: 19.5 | BE17: 32 | BF17: 44.5 | BG17: 20 | BH17: 20 | BI17: 14 | BJ17: 9 | BK17: 3.5 | BL17: 9 | BM17: 8.5 | BN17: 7.5 | BO17: 12 | BP17: 4.5 | BQ17: 7.5 | BR17: 4.5 | BS17: 5.5 | BT17: 9.5 | BU17: 11.5 | BV17: 7.5 | BW17: 8 | BX17: 2 | BY17: 4.5 | BZ17: 4.5 | CA17: 1 | CB17: 1.5 | CC17: 1.5 | CD17: 0.5 | CE17: 0.5 | CF17: 0 | CG17: 0 | CH17: 0.5 | CI17: 0 | CJ17: 0 | CK17: 0 | CL17: 0 | CM17: 0 | CN17: 0.5 | CO17: 0 | CP17: 0 | CQ17: 2.5 | CR17: 0.5 | CS17: 0.5 | CT17: 0 | CU17: 1 | CV17: 2 | CW17: 4.5 | CX17: 5 | CY17: 16 | CZ17: 24.5 | DN17: =SUM(BN17:DM17) -> 151.5 | DO17: 宮古
C18: 八重山 | D18: 4.33 | E18: 9 | F18: 10 | G18: 7.33 | H18: 8.33 | I18: 5 | J18: 3.67 | K18: 6.33 | L18: 35.67 | M18: 54.67 | N18: 40.33 | O18: 46 | P18: 21 | Q18: 7.33 | R18: 7 | S18: 1 | T18: 0.33 | U18: 2.33 | V18: 1 | W18: 0 | X18: 1.33 | Y18: 0.67 | Z18: 0 | AA18: 2 | AB18: 0.33 | AC18: 1.33 | AD18: 0 | AE18: 0.33 | AF18: 0.33 | AG18: 0 | AH18: 4 | AI18: 23.33 | AJ18: 13.33 | AK18: 16.67 | AL18: 9.33 | AM18: 15 | AN18: 13.67 | AO18: 7.67 | AP18: 6.33 | AQ18: 1.67 | AR18: 0.67 | AS18: 0.33 | AT18: 1.33 | AU18: 0.33 | AV18: 2 | AW18: 4.67 | AX18: 2.33 | AY18: 4.67 | AZ18: 9.67 | BA18: 4.67 | BB18: 10 | BC18: 15 | BD18: 32 | BE18: 63.33 | BF18: 36.67 | BG18: 38.67 | BH18: 49.33 | BI18: 42.67 | BJ18: 33.33 | BK18: 18.67 | BL18: 16.33 | BM18: 18.67 | BN18: 6 | BO18: 16 | BP18: 14 | BQ18: 8.33 | BR18: 5.33 | BS18: 8.67 | BT18: 9 | BU18: 8.67 | BV18: 13.33 | BW18: 17.33 | BX18: 10 | BY18: 28.67 | BZ18: 28.67 | CA18: 15 | CB18: 8.33 | CC18: 12.67 | CD18: 16.67 | CE18: 7.33 | CF18: 3 | CG18: 2.67 | CH18: 1 | CI18: 0 | CJ18: 0.33 | CK18: 0 | CL18: 0 | CM18: 0.33 | CN18: 1 | CO18: 0.33 | CP18: 0 | CQ18: 0 | CR18: 1 | CS18: 0 | CT18: 0.33 | CU18: 0 | CV18: 3.33 | CW18: 13.33 | CX18: 4.67 | CY18: 7.33 | CZ18: 25 | DN18: =SUM(BN18:DM18) -> 297.65 | DO18: 八重山
C19: 沖縄県 | D19: 11.11 | E19: 10.64 | F19: 7.38 | G19: 5.02 | H19: 5.52 | I19: 3.61 | J19: 4 | K19: 5.18 | L19: 10.43 | M19: 24.3 | N19: 37.04 | O19: 34.36 | P19: 33.3 | Q19: 18.77 | R19: 13.32 | S19: 11.46 | T19: 11.55 | U19: 8.66 | V19: 7.61 | W19: 5.57 | X19: 4.96 | Y19: 4.2 | Z19: 3.84 | AA19: 2.7 | AB19: 2.51 | AC19: 2.31 | AD19: 2.67 | AE19: 3.24 | AF19: 3.6 | AG19: 2.38 | AH19: 2.16 | AI19: 3.78 | AJ19: 3.67 | AK19: 3.18 | AL19: 3.82 | AM19: 5.11 | AN19: 4.96 | AO19: 4.56 | AP19: 3.67 | AQ19: 3.73 | AR19: 3.93 | AS19: 3.93 | AT19: 3.64 | AU19: 2.76 | AV19: 2.29 | AW19: 3.16 | AX19: 4.93 | AY19: 7.11 | AZ19: 8.98 | BA19: 12.18 | BB19: 14.38 | BC19: 15.04 | BD19: 19.4 | BE19: 23.8 | BF19: 23.44 | BG19: 21.71 | BH19: 22.89 | BI19: 21.82 | BJ19: 18.07 | BK19: 14.16 | BL19: 14.76 | BM19: 14.84 | BN19: 23.18 | BO19: 18.11 | BP19: 19.78 | BQ19: 16.02 | BR19: 19.38 | BS19: 18.49 | BT19: 23.24 | BU19: 21.49 | BV19: 19.73 | BW19: 13.82 | BX19: 10.98 | BY19: 12.4 | BZ19: 11.31 | CA19: 6.64 | CB19: 4.36 | CC19: 3.48 | CD19: 3.91 | CE19: 2.77 | CF19: 2.32 | CG19: 2.52 | CH19: 1.57 | CI19: 1.11 | CJ19: 0.8 | CK19: 0.77 | CL19: 0.43 | CM19: 0.75 | CN19: 0.55 | CO19: 0.61 | CP19: 0.86 | CQ19: 1.82 | CR19: 2.2 | CS19: 2.3 | CT19: 2.89 | CU19: 4.43 | CV19: 8.5 | CW19: 10.34 | CX19: 16.61 | CY19: 26.3 | CZ19: 42.5 | DN19: =SUM(BN19:DM19) -> 379.27 | DO19: 沖縄県
C20: 全国 | D20: 0.87 | E20: 1.04 | F20: 1.06 | G20: 1.88 | H20: 2.36 | I20: 4.86 | J20: 9.03 | K20: 19.06 | L20: 42.66 | M20: 64.39 | N20: 33.82 | O20: 35.02 | P20: 18.38 | Q20: 11.06 | R20: 5.87 | S20: 3.78 | T20: 2.63 | U20: 2.21 | V20: 1.89 | W20: 2.02 | X20: 2.23 | Y20: 1.98 | Z20: 1.85 | AA20: 1.2 | AB20: 1.19 | AC20: 1.2 | AD20: 1.09 | AE20: 0.79 | AF20: 0.67 | AG20: 0.75 | AH20: 0.53 | AI20: 0.44 | AJ20: 0.37 | AK20: 0.3 | AL20: 0.27 | AM20: 0.27 | AN20: 0.28 | AO20: 0.25 | AP20: 0.3 | AQ20: 0.32 | AR20: 0.3 | AS20: 0.3 | AT20: 0.28 | AU20: 0.31 | AV20: 0.35 | AW20: 0.5 | AX20: 0.72 | AY20: 0.8 | AZ20: 1.04 | BA20: 1.56 | BB20: 2.36 | BC20: 3.26 | BD20: 6.29 | BE20: 14.9 | BF20: 21.82 | BG20: 37.73 | BH20: 51.12 | BI20: 44.99 | BJ20: 38.51 | BK20: 36.96 | BL20: 32.73 | BM20: 22.77 | BN20: 10.35 | BO20: 10.54 | BP20: 11.33 | BQ20: 16.64 | BR20: 30.03 | BS20: 43.34 | BT20: 41.44 | BU20: 34.54 | BV20: 22.66 | BW20: 14.33 | BX20: 11.66 | BY20: 9.75 | BZ20: 6.46 | CA20: 3.21 | CB20: 1.46 | CC20: 0.92 | CD20: 0.61 | CE20: 0.41 | CF20: 0.18 | CG20: 0.14 | CH20: 0.09 | CI20: 0.07 | CJ20: 0.06 | CK20: 0.07 | CL20: 0.07 | CM20: 0.08 | CN20: 0.12 | CO20: 0.13 | CP20: 0.2 | CQ20: 0.24 | CR20: 0.37 | CS20: 0.52 | CT20: 0.69 | CU20: 1.11 | CV20: 1.76 | CW20: 3.29 | CX20: 5.54 | CY20: 8.48 | CZ20: 7.17 | DN20: =SUM(BN20:DM20) -> 300.06 | DO20: 全国
B21: RSウイルス感染症 | C21: 北部 | D21: 0 | E21: 0 | F21: 0 | G21: 0 | H21: 0 | I21: 0 | J21: 0 | K21: 1 | L21: 1 | M21: 3 | N21: 0 | O21: 0 | P21: 0 | Q21: 0 | R21: 0 | S21: 0 | T21: 0 | U21: 0 | V21: 0 | W21: 0 | X21: 3 | Y21: 1 | Z21: 5 | AA21: 2 | AB21: 5 | AC21: 3 | AD21: 5 | AE21: 6 | AF21: 7 | AG21: 4 | AH21: 12 | AI21: 10 | AJ21: 15 | AK21: 17 | AL21: 27 | AM21: 28 | AN21: 19 | AO21: 19 | AP21: 8 | AQ21: 6 | AR21: 7 | AS21: 12 | AT21: 3 | AU21: 3 | AV21: 4 | AW21: 1 | AX21: 1 | AY21: 4 | AZ21: 1 | BA21: 1 | BB21: 0 | BC21: 2 | BD21: 1 | BE21: 1 | BF21: 1 | BG21: 4 | BH21: 2 | BI21: 4 | BJ21: 3 | BK21: 0 | BL21: 0 | BM21: 1 | BN21: 1 | BO21: 1 | BP21: 2 | BQ21: 0 | BR21: 0 | BS21: 0 | BT21: 1 | BU21: 0 | BV21: 3 | BW21: 0 | BX21: 0 | BY21: 1 | BZ21: 0 | CA21: 0 | CB21: 1 | CC21: 0 | CD21: 0 | CE21: 0 | CF21: 0 | CG21: 2 | CH21: 0 | CI21: 1 | CJ21: 7 | CK21: 3 | CL21: 22 | CM21: 20 | CN21: 18 | CO21: 22 | CP21: 29 | CQ21: 16 | CR21: 14 | CS21: 12 | CT21: 16 | CU21: 9 | CV21: 10 | CW21: 7 | CX21: 2 | CY21: 1 | CZ21: 3 | DN21: =SUM(BN21:DM21) -> 224 | DO21: 北部
B22: （報告数） | C22: 中部 | D22: 0 | E22: 0 | F22: 0 | G22: 2 | H22: 2 | I22: 4 | J22: 3 | K22: 1 | L22: 2 | M22: 4 | N22: 0 | O22: 0 | P22: 1 | Q22: 0 | R22: 2 | S22: 1 | T22: 1 | U22: 4 | V22: 1 | W22: 5 | X22: 8 | Y22: 9 | Z22: 12 | AA22: 12 | AB22: 16 | AC22: 17 | AD22: 12 | AE22: 10 | AF22: 6 | AG22: 17 | AH22: 30 | AI22: 21 | AJ22: 28 | AK22: 36 | AL22: 40 | AM22: 27 | AN22: 31 | AO22: 22 | AP22: 25 | AQ22: 11 | AR22: 10 | AS22: 14 | AT22: 7 | AU22: 2 | AV22: 17 | AW22: 2 | AX22: 0 | AY22: 0 | AZ22: 3 | BA22: 1 | BB22: 2 | BC22: 1 | BD22: 1 | BE22: 2 | BF22: 0 | BG22: 3 | BH22: 2 | BI22: 0 | BJ22: 0 | BK22: 0 | BL22: 0 | BM22: 1 | BN22: 0 | BO22: 1 | BP22: 0 | BQ22: 0 | BR22: 0 | BS22: 0 | BT22: 0 | BU22: 0 | BV22: 0 | BW22: 0 | BX22: 1 | BY22: 0 | BZ22: 1 | CA22: 0 | CB22: 2 | CC22: 6 | CD22: 12 | CE22: 4 | CF22: 2 | CG22: 10 | CH22: 12 | CI22: 13 | CJ22: 7 | CK22: 7 | CL22: 25 | CM22: 34 | CN22: 35 | CO22: 69 | CP22: 39 | CQ22: 31 | CR22: 28 | CS22: 13 | CT22: 16 | CU22: 9 | CV22: 4 | CW22: 2 | CX22: 2 | CY22: 1 | CZ22: 0 | DN22: =SUM(BN22:DM22) -> 386 | DO22: 中部
C23: 那覇市 | D23: 0 | E23: 6 | F23: 1 | G23: 0 | H23: 1 | I23: 1 | J23: 0 | K23: 1 | L23: 0 | M23: 0 | N23: 0 | O23: 0 | P23: 0 | Q23: 3 | R23: 1 | S23: 3 | T23: 1 | U23: 0 | V23: 5 | W23: 2 | X23: 1 | Y23: 1 | Z23: 1 | AA23: 3 | AB23: 8 | AC23: 5 | AD23: 1 | AE23: 9 | AF23: 10 | AG23: 8 | AH23: 8 | AI23: 21 | AJ23: 16 | AK23: 9 | AL23: 12 | AM23: 15 | AN23: 10 | AO23: 6 | AP23: 17 | AQ23: 4 | AR23: 3 | AS23: 9 | AT23: 4 | AU23: 5 | AV23: 2 | AW23: 2 | AX23: 2 | AY23: 2 | AZ23: 5 | BA23: 1 | BB23: 0 | BC23: 1 | BD23: 1 | BE23: 1 | BF23: 2 | BG23: 1 | BH23: 1 | BI23: 0 | BJ23: 1 | BK23: 0 | BL23: 0 | BM23: 0 | BN23: 0 | BO23: 3 | BP23: 0 | BQ23: 0 | BR23: 0 | BS23: 2 | BT23: 0 | BU23: 1 | BV23: 0 | BW23: 0 | BX23: 1 | BY23: 0 | BZ23: 0 | CA23: 0 | CB23: 0 | CC23: 5 | CD23: 5 | CE23: 3 | CF23: 4 | CG23: 2 | CH23: 5 | CI23: 7 | CJ23: 11 | CK23: 12 | CL23: 15 | CM23: 14 | CN23: 20 | CO23: 23 | CP23: 32 | CQ23: 20 | CR23: 23 | CS23: 15 | CT23: 14 | CU23: 15 | CV23: 5 | CW23: 5 | CX23: 6 | CY23: 1 | CZ23: 0 | DN23: =SUM(BN23:DM23) -> 269 | DO23: 那覇市
C24: 南部 | D24: 0 | E24: 1 | F24: 1 | G24: 1 | H24: 0 | I24: 0 | J24: 1 | K24: 1 | L24: 1 | M24: 0 | N24: 0 | O24: 1 | P24: 0 | Q24: 1 | R24: 1 | S24: 2 | T24: 3 | U24: 1 | V24: 3 | W24: 1 | X24: 4 | Y24: 6 | Z24: 4 | AA24: 9 | AB24: 6 | AC24: 7 | AD24: 5 | AE24: 8 | AF24: 11 | AG24: 11 | AH24: 19 | AI24: 21 | AJ24: 17 | AK24: 31 | AL24: 29 | AM24: 34 | AN24: 17 | AO24: 22 | AP24: 14 | AQ24: 16 | AR24: 5 | AS24: 1 | AT24: 3 | AU24: 4 | AV24: 2 | AW24: 0 | AX24: 0 | AY24: 2 | AZ24: 1 | BA24: 2 | BB24: 1 | BC24: 1 | BD24: 3 | BE24: 2 | BF24: 0 | BG24: 0 | BH24: 5 | BI24: 2 | BJ24: 1 | BK24: 0 | BL24: 0 | BM24: 0 | BN24: 0 | BO24: 3 | BP24: 1 | BQ24: 1 | BR24: 1 | BS24: 5 | BT24: 2 | BU24: 2 | BV24: 1 | BW24: 2 | BX24: 0 | BY24: 1 | BZ24: 0 | CA24: 1 | CB24: 0 | CC24: 2 | CD24: 4 | CE24: 5 | CF24: 9 | CG24: 10 | CH24: 14 | CI24: 15 | CJ24: 12 | CK24: 10 | CL24: 26 | CM24: 29 | CN24: 26 | CO24: 27 | CP24: 25 | CQ24: 29 | CR24: 12 | CS24: 18 | CT24: 14 | CU24: 5 | CV24: 3 | CW24: 3 | CX24: 1 | CY24: 1 | CZ24: 1 | DN24: =SUM(BN24:DM24) -> 321 | DO24: 南部
C25: 宮古 | D25: 1 | E25: 0 | F25: 2 | G25: 0 | H25: 0 | I25: 0 | J25: 0 | K25: 0 | L25: 0 | M25: 0 | N25: 0 | O25: 0 | P25: 0 | Q25: 0 | R25: 0 | S25: 0 | T25: 0 | U25: 0 | V25: 1 | W25: 0 | X25: 0 | Y25: 0 | Z25: 0 | AA25: 0 | AB25: 0 | AC25: 0 | AD25: 1 | AE25: 1 | AF25: 1 | AG25: 0 | AH25: 0 | AI25: 1 | AJ25: 2 | AK25: 4 | AL25: 2 | AM25: 5 | AN25: 2 | AO25: 1 | AP25: 0 | AQ25: 0 | AR25: 1 | AS25: 0 | AT25: 0 | AU25: 0 | AV25: 1 | AW25: 0 | AX25: 0 | AY25: 0 | AZ25: 0 | BA25: 0 | BB25: 0 | BC25: 0 | BD25: 0 | BE25: 0 | BF25: 0 | BG25: 0 | BH25: 0 | BI25: 0 | BJ25: 0 | BK25: 0 | BL25: 0 | BM25: 0 | BN25: 0 | BO25: 0 | BP25: 0 | BQ25: 1 | BR25: 1 | BS25: 0 | BT25: 0 | BU25: 0 | BV25: 0 | BW25: 0 | BX25: 0 | BY25: 0 | BZ25: 0 | CA25: 0 | CB25: 0 | CC25: 0 | CD25: 0 | CE25: 0 | CF25: 0 | CG25: 1 | CH25: 4 | CI25: 0 | CJ25: 0 | CK25: 0 | CL25: 0 | CM25: 0 | CN25: 1 | CO25: 0 | CP25: 1 | CQ25: 2 | CR25: 3 | CS25: 3 | CT25: 0 | CU25: 1 | CV25: 0 | CW25: 2 | CX25: 3 | CY25: 2 | CZ25: 1 | DN25: =SUM(BN25:DM25) -> 26 | DO25: 宮古
C26: 八重山 | D26: 0 | E26: 0 | F26: 0 | G26: 0 | H26: 0 | I26: 0 | J26: 0 | K26: 0 | L26: 0 | M26: 0 | N26: 0 | O26: 0 | P26: 0 | Q26: 1 | R26: 1 | S26: 0 | T26: 0 | U26: 0 | V26: 0 | W26: 0 | X26: 0 | Y26: 0 | Z26: 0 | AA26: 0 | AB26: 0 | AC26: 2 | AD26: 0 | AE26: 1 | AF26: 0 | AG26: 4 | AH26: 10 | AI26: 3 | AJ26: 4 | AK26: 0 | AL26: 2 | AM26: 5 | AN26: 14 | AO26: 9 | AP26: 11 | AQ26: 6 | AR26: 13 | AS26: 6 | AT26: 8 | AU26: 6 | AV26: 2 | AW26: 1 | AX26: 0 | AY26: 0 | AZ26: 2 | BA26: 0 | BB26: 1 | BC26: 0 | BD26: 0 | BE26: 0 | BF26: 1 | BG26: 0 | BH26: 0 | BI26: 0 | BJ26: 0 | BK26: 0 | BL26: 0 | BM26: 0 | BN26: 0 | BO26: 0 | BP26: 0 | BQ26: 0 | BR26: 0 | BS26: 0 | BT26: 0 | BU26: 0 | BV26: 0 | BW26: 0 | BX26: 0 | BY26: 0 | BZ26: 0 | CA26: 1 | CB26: 0 | CC26: 0 | CD26: 0 | CE26: 0 | CF26: 0 | CG26: 1 | CH26: 0 | CI26: 0 | CJ26: 1 | CK26: 0 | CL26: 0 | CM26: 3 | CN26: 5 | CO26: 4 | CP26: 3 | CQ26: 3 | CR26: 5 | CS26: 0 | CT26: 2 | CU26: 0 | CV26: 0 | CW26: 2 | CX26: 0 | CY26: 3 | CZ26: 0 | DN26: =SUM(BN26:DM26) -> 33 | DO26: 八重山
C27: 沖縄県 | D27: 1 | E27: 7 | F27: 4 | G27: 3 | H27: 3 | I27: 5 | J27: 4 | K27: 4 | L27: 4 | M27: 7 | N27: 0 | O27: 1 | P27: 1 | Q27: 5 | R27: 5 | S27: 6 | T27: 5 | U27: 5 | V27: 10 | W27: 8 | X27: 16 | Y27: 17 | Z27: 22 | AA27: 26 | AB27: 35 | AC27: 34 | AD27: 24 | AE27: 35 | AF27: 35 | AG27: 44 | AH27: 79 | AI27: 77 | AJ27: 82 | AK27: 97 | AL27: 112 | AM27: 114 | AN27: 93 | AO27: 79 | AP27: 75 | AQ27: 43 | AR27: 39 | AS27: 42 | AT27: 25 | AU27: 20 | AV27: 28 | AW27: 6 | AX27: 3 | AY27: 8 | AZ27: 12 | BA27: 5 | BB27: 4 | BC27: 5 | BD27: 6 | BE27: 6 | BF27: 4 | BG27: 8 | BH27: 10 | BI27: 6 | BJ27: 5 | BK27: 0 | BL27: 0 | BM27: 2 | BN27: 1 | BO27: 8 | BP27: 3 | BQ27: 2 | BR27: 2 | BS27: 7 | BT27: 3 | BU27: 3 | BV27: 4 | BW27: 2 | BX27: 2 | BY27: 2 | BZ27: 1 | CA27: 2 | CB27: 3 | CC27: 13 | CD27: 21 | CE27: 12 | CF27: 15 | CG27: 26 | CH27: 35 | CI27: 36 | CJ27: 38 | CK27: 32 | CL27: 88 | CM27: 100 | CN27: 105 | CO27: 145 | CP27: 129 | CQ27: 101 | CR27: 85 | CS27: 61 | CT27: 62 | CU27: 39 | CV27: 22 | CW27: 21 | CX27: 14 | CY27: 9 | CZ27: 5 | DN27: =SUM(BN27:DM27) -> 1259 | DO27: 沖縄県
C28: 全国 | D28: 743 | E28: 822 | F28: 739 | G28: 805 | H28: 734 | I28: 858 | J28: 961 | K28: 1048 | L28: 1164 | M28: 1272 | N28: 446 | O28: 1058 | P28: 1273 | Q28: 2283 | R28: 2677 | S28: 2989 | T28: 3315 | U28: 3775 | V28: 3984 | W28: 4391 | X28: 4611 | Y28: 3663 | Z28: 3177 | AA28: 2404 | AB28: 2205 | AC28: 2012 | AD28: 1686 | AE28: 1160 | AF28: 710 | AG28: 726 | AH28: 746 | AI28: 619 | AJ28: 590 | AK28: 528 | AL28: 560 | AM28: 661 | AN28: 821 | AO28: 905 | AP28: 1180 | AQ28: 1239 | AR28: 1629 | AS28: 1976 | AT28: 1358 | AU28: 1790 | AV28: 3013 | AW28: 3896 | AX28: 3781 | AY28: 3834 | AZ28: 3546 | BA28: 3631 | BB28: 3806 | BC28: 2966 | BD28: 2924 | BE28: 2821 | BF28: 2067 | BG28: 1809 | BH28: 1699 | BI28: 1362 | BJ28: 1342 | BK28: 1366 | BL28: 1480 | BM28: 1709 | BN28: 677 | BO28: 1209 | BP28: 1430 | BQ28: 1803 | BR28: 1771 | BS28: 1741 | BT28: 1362 | BU28: 1276 | BV28: 1134 | BW28: 1307 | BX28: 1354 | BY28: 1240 | BZ28: 1143 | CA28: 1059 | CB28: 1186 | CC28: 1337 | CD28: 1201 | CE28: 982 | CF28: 615 | CG28: 633 | CH28: 678 | CI28: 737 | CJ28: 682 | CK28: 788 | CL28: 885 | CM28: 764 | CN28: 826 | CO28: 976 | CP28: 1082 | CQ28: 1027 | CR28: 1155 | CS28: 1417 | CT28: 1067 | CU28: 1090 | CV28: 1755 | CW28: 2289 | CX28: 2522 | CY28: 2787 | CZ28: 1882 | DN28: =SUM(BN28:DM28) -> 48869 | DO28: 全国
B29: RSウイルス感染症 | C29: 北部 | D29: 0 | E29: 0 | F29: 0 | G29: 0 | H29: 0 | I29: 0 | J29: 0 | K29: 0.33 | L29: 0.33 | M29: 1 | N29: 0 | O29: 0 | P29: 0 | Q29: 0 | R29: 0 | S29: 0 | T29: 0 | U29: 0 | V29: 0 | W29: 0 | X29: 1 | Y29: 0.33 | Z29: 1.67 | AA29: 0.67 | AB29: 1.67 | AC29: 1 | AD29: 1.67 | AE29: 2 | AF29: 2.33 | AG29: 1.33 | AH29: 4 | AI29: 3.33 | AJ29: 5 | AK29: 5.67 | AL29: 9 | AM29: 9.33 | AN29: 6.33 | AO29: 6.33 | AP29: 2.67 | AQ29: 2 | AR29: 2.33 | AS29: 4 | AT29: 1 | AU29: 1 | AV29: 1.33 | AW29: 0.33 | AX29: 0.33 | AY29: 1.33 | AZ29: 0.33 | BA29: 0.33 | BB29: 0 | BC29: 0.67 | BD29: 0.33 | BE29: 0.33 | BF29: 0.33 | BG29: 1.33 | BH29: 0.67 | BI29: 1.33 | BJ29: 1 | BK29: 0 | BL29: 0 | BM29: 0.33 | BN29: 0.33 | BO29: 0.33 | BP29: 0.67 | BQ29: 0 | BR29: 0 | BS29: 0 | BT29: 0.33 | BU29: 0 | BV29: 1 | BW29: 0 | BX29: 0 | BY29: 0.33 | BZ29: 0 | CA29: 0 | CB29: 0.33 | CC29: 0 | CD29: 0 | CE29: 0 | CF29: 0 | CG29: 0.67 | CH29: 0 | CI29: 0.33 | CJ29: 2.33 | CK29: 1 | CL29: 7.33 | CM29: 6.67 | CN29: 6 | CO29: 7.33 | CP29: 9.67 | CQ29: 5.33 | CR29: 4.67 | CS29: 4 | CT29: 5.33 | CU29: 3 | CV29: 3.33 | CW29: 2.33 | CX29: 0.67 | CY29: 0.33 | CZ29: 1 | DN29: =SUM(BN29:DM29) -> 74.64 | DO29: 北部
B30: （定点あたり報告数） | C30: 中部 | D30: 0 | E30: 0 | F30: 0 | G30: 0.2 | H30: 0.2 | I30: 0.4 | J30: 0.3 | K30: 0.1 | L30: 0.2 | M30: 0.4 | N30: 0 | O30: 0 | P30: 0.1 | Q30: 0 | R30: 0.2 | S30: 0.1 | T30: 0.1 | U30: 0.4 | V30: 0.1 | W30: 0.5 | X30: 0.8 | Y30: 0.9 | Z30: 1.2 | AA30: 1.2 | AB30: 2.29 | AC30: 2.43 | AD30: 1.71 | AE30: 1.43 | AF30: 0.86 | AG30: 2.43 | AH30: 4.29 | AI30: 3 | AJ30: 4 | AK30: 5.14 | AL30: 5.71 | AM30: 3.86 | AN30: 4.43 | AO30: 3.14 | AP30: 3.57 | AQ30: 1.57 | AR30: 1.43 | AS30: 2 | AT30: 1 | AU30: 0.29 | AV30: 2.43 | AW30: 0.29 | AX30: 0 | AY30: 0 | AZ30: 0.43 | BA30: 0.14 | BB30: 0.29 | BC30: 0.14 | BD30: 0.14 | BE30: 0.29 | BF30: 0 | BG30: 0.43 | BH30: 0.29 | BI30: 0 | BJ30: 0 | BK30: 0 | BL30: 0 | BM30: 0.14 | BN30: 0 | BO30: 0.14 | BP30: 0 | BQ30: 0 | BR30: 0 | BS30: 0 | BT30: 0 | BU30: 0 | BV30: 0 | BW30: 0 | BX30: 0.14 | BY30: 0 | BZ30: 0.14 | CA30: 0 | CB30: 0.29 | CC30: 0.86 | CD30: 1.71 | CE30: 0.57 | CF30: 0.29 | CG30: 1.43 | CH30: 1.71 | CI30: 1.86 | CJ30: 1 | CK30: 1 | CL30: 3.57 | CM30: 4.86 | CN30: 5 | CO30: 9.86 | CP30: 5.57 | CQ30: 4.43 | CR30: 4 | CS30: 1.86 | CT30: 2.29 | CU30: 1.29 | CV30: 0.57 | CW30: 0.29 | CX30: 0.29 | CY30: 0.14 | CZ30: 0 | DN30: =SUM(BN30:DM30) -> 55.16 | DO30: 中部
C31: 那覇市 | D31: 0 | E31: 0.86 | F31: 0.14 | G31: 0 | H31: 0.14 | I31: 0.14 | J31: 0 | K31: 0.14 | L31: 0 | M31: 0 | N31: 0 | O31: 0 | P31: 0 | Q31: 0.43 | R31: 0.14 | S31: 0.43 | T31: 0.14 | U31: 0 | V31: 0.71 | W31: 0.29 | X31: 0.14 | Y31: 0.14 | Z31: 0.14 | AA31: 0.43 | AB31: 1.33 | AC31: 0.83 | AD31: 0.17 | AE31: 1.5 | AF31: 1.67 | AG31: 1.33 | AH31: 1.33 | AI31: 3.5 | AJ31: 2.67 | AK31: 1.5 | AL31: 2 | AM31: 2.5 | AN31: 1.67 | AO31: 1 | AP31: 2.83 | AQ31: 0.67 | AR31: 0.5 | AS31: 1.5 | AT31: 0.67 | AU31: 0.83 | AV31: 0.33 | AW31: 0.33 | AX31: 0.33 | AY31: 0.33 | AZ31: 0.83 | BA31: 0.17 | BB31: 0 | BC31: 0.17 | BD31: 0.17 | BE31: 0.17 | BF31: 0.33 | BG31: 0.17 | BH31: 0.17 | BI31: 0 | BJ31: 0.17 | BK31: 0 | BL31: 0 | BM31: 0 | BN31: 0 | BO31: 0.5 | BP31: 0 | BQ31: 0 | BR31: 0 | BS31: 0.33 | BT31: 0 | BU31: 0.17 | BV31: 0 | BW31: 0 | BX31: 0.17 | BY31: 0 | BZ31: 0 | CA31: 0 | CB31: 0 | CC31: 1 | CD31: 1 | CE31: 0.6 | CF31: 0.8 | CG31: 0.4 | CH31: 1 | CI31: 1.4 | CJ31: 2.2 | CK31: 2.4 | CL31: 3 | CM31: 2.8 | CN31: 4 | CO31: 4.6 | CP31: 6.4 | CQ31: 4 | CR31: 4.6 | CS31: 3 | CT31: 2.8 | CU31: 3 | CV31: 1 | CW31: 1 | CX31: 1.2 | CY31: 0.2 | CZ31: 0 | DN31: =SUM(BN31:DM31) -> 53.57 | DO31: 那覇市
C32: 南部 | D32: 0 | E32: 0.13 | F32: 0.13 | G32: 0.13 | H32: 0 | I32: 0 | J32: 0.13 | K32: 0.13 | L32: 0.13 | M32: 0 | N32: 0 | O32: 0.13 | P32: 0 | Q32: 0.13 | R32: 0.13 | S32: 0.25 | T32: 0.38 | U32: 0.13 | V32: 0.38 | W32: 0.13 | X32: 0.5 | Y32: 0.75 | Z32: 0.5 | AA32: 1.13 | AB32: 1 | AC32: 1.17 | AD32: 0.83 | AE32: 1.33 | AF32: 1.83 | AG32: 1.83 | AH32: 3.17 | AI32: 3.5 | AJ32: 3.4 | AK32: 5.17 | AL32: 4.83 | AM32: 5.67 | AN32: 2.83 | AO32: 3.67 | AP32: 2.33 | AQ32: 2.67 | AR32: 0.83 | AS32: 0.17 | AT32: 0.5 | AU32: 0.67 | AV32: 0.33 | AW32: 0 | AX32: 0 | AY32: 0.33 | AZ32: 0.17 | BA32: 0.33 | BB32: 0.17 | BC32: 0.17 | BD32: 0.5 | BE32: 0.33 | BF32: 0 | BG32: 0 | BH32: 0.83 | BI32: 0.33 | BJ32: 0.17 | BK32: 0 | BL32: 0 | BM32: 0 | BN32: 0 | BO32: 0.5 | BP32: 0.17 | BQ32: 0.17 | BR32: 0.17 | BS32: 0.83 | BT32: 0.33 | BU32: 0.33 | BV32: 0.17 | BW32: 0.33 | BX32: 0 | BY32: 0.17 | BZ32: 0 | CA32: 0.17 | CB32: 0 | CC32: 0.33 | CD32: 0.67 | CE32: 0.83 | CF32: 1.5 | CG32: 1.67 | CH32: 2.33 | CI32: 2.5 | CJ32: 2 | CK32: 1.67 | CL32: 4.33 | CM32: 4.83 | CN32: 4.33 | CO32: 4.5 | CP32: 4.17 | CQ32: 4.83 | CR32: 2 | CS32: 3 | CT32: 2.33 | CU32: 0.83 | CV32: 0.5 | CW32: 0.5 | CX32: 0.17 | CY32: 0.17 | CZ32: 0.17 | DN32: =SUM(BN32:DM32) -> 53.5 | DO32: 南部
C33: 宮古 | D33: 0.5 | E33: 0 | F33: 1 | G33: 0 | H33: 0 | I33: 0 | J33: 0 | K33: 0 | L33: 0 | M33: 0 | N33: 0 | O33: 0 | P33: 0 | Q33: 0 | R33: 0 | S33: 0 | T33: 0 | U33: 0 | V33: 0.5 | W33: 0 | X33: 0 | Y33: 0 | Z33: 0 | AA33: 0 | AB33: 0 | AC33: 0 | AD33: 1 | AE33: 1 | AF33: 1 | AG33: 0 | AH33: 0 | AI33: 1 | AJ33: 2 | AK33: 4 | AL33: 2 | AM33: 5 | AN33: 2 | AO33: 1 | AP33: 0 | AQ33: 0 | AR33: 1 | AS33: 0 | AT33: 0 | AU33: 0 | AV33: 1 | AW33: 0 | AX33: 0 | AY33: 0 | AZ33: 0 | BA33: 0 | BB33: 0 | BC33: 0 | BD33: 0 | BE33: 0 | BF33: 0 | BG33: 0 | BH33: 0 | BI33: 0 | BJ33: 0 | BK33: 0 | BL33: 0 | BM33: 0 | BN33: 0 | BO33: 0 | BP33: 0 | BQ33: 1 | BR33: 1 | BS33: 0 | BT33: 0 | BU33: 0 | BV33: 0 | BW33: 0 | BX33: 0 | BY33: 0 | BZ33: 0 | CA33: 0 | CB33: 0 | CC33: 0 | CD33: 0 | CE33: 0 | CF33: 0 | CG33: 1 | CH33: 4 | CI33: 0 | CJ33: 0 | CK33: 0 | CL33: 0 | CM33: 0 | CN33: 1 | CO33: 0 | CP33: 1 | CQ33: 2 | CR33: 3 | CS33: 3 | CT33: 0 | CU33: 1 | CV33: 0 | CW33: 2 | CX33: 3 | CY33: 2 | CZ33: 1 | DN33: =SUM(BN33:DM33) -> 26 | DO33: 宮古
C34: 八重山 | D34: 0 | E34: 0 | F34: 0 | G34: 0 | H34: 0 | I34: 0 | J34: 0 | K34: 0 | L34: 0 | M34: 0 | N34: 0 | O34: 0 | P34: 0 | Q34: 0.5 | R34: 0.5 | S34: 0 | T34: 0 | U34: 0 | V34: 0 | W34: 0 | X34: 0 | Y34: 0 | Z34: 0 | AA34: 0 | AB34: 0 | AC34: 1 | AD34: 0 | AE34: 0.5 | AF34: 0 | AG34: 2 | AH34: 5 | AI34: 1.5 | AJ34: 2 | AK34: 0 | AL34: 1 | AM34: 2.5 | AN34: 7 | AO34: 4.5 | AP34: 5.5 | AQ34: 3 | AR34: 6.5 | AS34: 3 | AT34: 4 | AU34: 3 | AV34: 1 | AW34: 0.5 | AX34: 0 | AY34: 0 | AZ34: 1 | BA34: 0 | BB34: 0.5 | BC34: 0 | BD34: 0 | BE34: 0 | BF34: 0.5 | BG34: 0 | BH34: 0 | BI34: 0 | BJ34: 0 | BK34: 0 | BL34: 0 | BM34: 0 | BN34: 0 | BO34: 0 | BP34: 0 | BQ34: 0 | BR34: 0 | BS34: 0 | BT34: 0 | BU34: 0 | BV34: 0 | BW34: 0 | BX34: 0 | BY34: 0 | BZ34: 0 | CA34: 0.5 | CB34: 0 | CC34: 0 | CD34: 0 | CE34: 0 | CF34: 0 | CG34: 0.5 | CH34: 0 | CI34: 0 | CJ34: 0.5 | CK34: 0 | CL34: 0 | CM34: 1.5 | CN34: 2.5 | CO34: 2 | CP34: 1.5 | CQ34: 1.5 | CR34: 2.5 | CS34: 0 | CT34: 1 | CU34: 0 | CV34: 0 | CW34: 1 | CX34: 0 | CY34: 1.5 | CZ34: 0 | DN34: =SUM(BN34:DM34) -> 16.5 | DO34: 八重山
C35: 沖縄県 | D35: 0.03 | E35: 0.22 | F35: 0.13 | G35: 0.09 | H35: 0.09 | I35: 0.16 | J35: 0.13 | K35: 0.13 | L35: 0.13 | M35: 0.22 | N35: 0 | O35: 0.03 | P35: 0.03 | Q35: 0.16 | R35: 0.16 | S35: 0.19 | T35: 0.16 | U35: 0.16 | V35: 0.31 | W35: 0.25 | X35: 0.5 | Y35: 0.53 | Z35: 0.69 | AA35: 0.81 | AB35: 1.4 | AC35: 1.36 | AD35: 0.96 | AE35: 1.4 | AF35: 1.4 | AG35: 1.76 | AH35: 3.16 | AI35: 3.08 | AJ35: 3.42 | AK35: 3.88 | AL35: 4.48 | AM35: 4.56 | AN35: 3.72 | AO35: 3.16 | AP35: 3 | AQ35: 1.72 | AR35: 1.56 | AS35: 1.68 | AT35: 1 | AU35: 0.8 | AV35: 1.12 | AW35: 0.24 | AX35: 0.12 | AY35: 0.32 | AZ35: 0.48 | BA35: 0.2 | BB35: 0.16 | BC35: 0.2 | BD35: 0.24 | BE35: 0.24 | BF35: 0.16 | BG35: 0.32 | BH35: 0.4 | BI35: 0.24 | BJ35: 0.2 | BK35: 0 | BL35: 0 | BM35: 0.08 | BN35: 0.04 | BO35: 0.32 | BP35: 0.12 | BQ35: 0.08 | BR35: 0.08 | BS35: 0.28 | BT35: 0.12 | BU35: 0.12 | BV35: 0.16 | BW35: 0.08 | BX35: 0.08 | BY35: 0.08 | BZ35: 0.04 | CA35: 0.08 | CB35: 0.13 | CC35: 0.54 | CD35: 0.88 | CE35: 0.5 | CF35: 0.63 | CG35: 1.08 | CH35: 1.46 | CI35: 1.5 | CJ35: 1.58 | CK35: 1.33 | CL35: 3.67 | CM35: 4.17 | CN35: 4.38 | CO35: 6.04 | CP35: 5.38 | CQ35: 4.21 | CR35: 3.54 | CS35: 2.54 | CT35: 2.58 | CU35: 1.63 | CV35: 0.92 | CW35: 0.88 | CX35: 0.58 | CY35: 0.38 | CZ35: 0.21 | DN35: =SUM(BN35:DM35) -> 52.42 | DO35: 沖縄県
C36: 全国 | D36: 0.24 | E36: 0.26 | F36: 0.24 | G36: 0.26 | H36: 0.23 | I36: 0.27 | J36: 0.31 | K36: 0.33 | L36: 0.37 | M36: 0.41 | N36: 0.17 | O36: 0.34 | P36: 0.41 | Q36: 0.73 | R36: 0.86 | S36: 0.96 | T36: 1.06 | U36: 1.21 | V36: 1.27 | W36: 1.41 | X36: 1.48 | Y36: 1.18 | Z36: 1.02 | AA36: 0.8 | AB36: 0.93 | AC36: 0.85 | AD36: 0.72 | AE36: 0.5 | AF36: 0.3 | AG36: 0.31 | AH36: 0.32 | AI36: 0.26 | AJ36: 0.25 | AK36: 0.22 | AL36: 0.24 | AM36: 0.28 | AN36: 0.35 | AO36: 0.38 | AP36: 0.5 | AQ36: 0.53 | AR36: 0.69 | AS36: 0.86 | AT36: 0.63 | AU36: 0.77 | AV36: 1.28 | AW36: 1.66 | AX36: 1.65 | AY36: 1.64 | AZ36: 1.51 | BA36: 1.55 | BB36: 1.63 | BC36: 1.26 | BD36: 1.24 | BE36: 1.21 | BF36: 0.88 | BG36: 0.77 | BH36: 0.73 | BI36: 0.58 | BJ36: 0.57 | BK36: 0.58 | BL36: 0.63 | BM36: 0.73 | BN36: 0.35 | BO36: 0.53 | BP36: 0.62 | BQ36: 0.78 | BR36: 0.77 | BS36: 0.75 | BT36: 0.59 | BU36: 0.56 | BV36: 0.49 | BW36: 0.57 | BX36: 0.59 | BY36: 0.54 | BZ36: 0.5 | CA36: 0.47 | CB36: 0.53 | CC36: 0.59 | CD36: 0.53 | CE36: 0.44 | CF36: 0.27 | CG36: 0.28 | CH36: 0.3 | CI36: 0.33 | CJ36: 0.3 | CK36: 0.35 | CL36: 0.4 | CM36: 0.34 | CN36: 0.37 | CO36: 0.43 | CP36: 0.48 | CQ36: 0.46 | CR36: 0.51 | CS36: 0.64 | CT36: 0.51 | CU36: 0.49 | CV36: 0.78 | CW36: 1.02 | CX36: 1.12 | CY36: 1.24 | CZ36: 0.84 | DN36: =SUM(BN36:DM36) -> 21.66 | DO36: 全国
B37: 咽頭結膜熱 | C37: 北部 | D37: 0 | E37: 0 | F37: 0 | G37: 0 | H37: 0 | I37: 0 | J37: 0 | K37: 0 | L37: 0 | M37: 0 | N37: 0 | O37: 0 | P37: 0 | Q37: 0 | R37: 0 | S37: 0 | T37: 0 | U37: 0 | V37: 0 | W37: 0 | X37: 0 | Y37: 0 | Z37: 0 | AA37: 0 | AB37: 0 | AC37: 2 | AD37: 0 | AE37: 0 | AF37: 2 | AG37: 1 | AH37: 0 | AI37: 1 | AJ37: 1 | AK37: 2 | AL37: 0 | AM37: 0 | AN37: 1 | AO37: 2 | AP37: 1 | AQ37: 1 | AR37: 1 | AS37: 0 | AT37: 0 | AU37: 0 | AV37: 0 | AW37: 3 | AX37: 0 | AY37: 1 | AZ37: 1 | BA37: 0 | BB37: 1 | BC37: 1 | BD37: 1 | BE37: 1 | BF37: 1 | BG37: 2 | BH37: 0 | BI37: 1 | BJ37: 0 | BK37: 1 | BL37: 1 | BM37: 0 | BN37: 0 | BO37: 2 | BP37: 0 | BQ37: 1 | BR37: 2 | BS37: 3 | BT37: 1 | BU37: 2 | BV37: 3 | BW37: 1 | BX37: 1 | BY37: 1 | BZ37: 0 | CA37: 0 | CB37: 0 | CC37: 0 | CD37: 2 | CE37: 2 | CF37: 0 | CG37: 2 | CH37: 0 | CI37: 2 | CJ37: 1 | CK37: 1 | CL37: 0 | CM37: 2 | CN37: 2 | CO37: 1 | CP37: 1 | CQ37: 0 | CR37: 0 | CS37: 3 | CT37: 0 | CU37: 2 | CV37: 0 | CW37: 0 | CX37: 2 | CY37: 1 | CZ37: 0 | DN37: =SUM(BN37:DM37) -> 41 | DO37: 北部
B38: （報告数） | C38: 中部 | D38: 2 | E38: 0 | F38: 4 | G38: 0 | H38: 2 | I38: 1 | J38: 2 | K38: 2 | L38: 0 | M38: 5 | N38: 0 | O38: 4 | P38: 0 | Q38: 1 | R38: 2 | S38: 2 | T38: 1 | U38: 1 | V38: 0 | W38: 2 | X38: 6 | Y38: 0 | Z38: 4 | AA38: 3 | AB38: 0 | AC38: 1 | AD38: 2 | AE38: 4 | AF38: 4 | AG38: 5 | AH38: 8 | AI38: 14 | AJ38: 3 | AK38: 14 | AL38: 13 | AM38: 6 | AN38: 12 | AO38: 6 | AP38: 7 | AQ38: 7 | AR38: 8 | AS38: 7 | AT38: 15 | AU38: 8 | AV38: 10 | AW38: 6 | AX38: 10 | AY38: 6 | AZ38: 5 | BA38: 4 | BB38: 3 | BC38: 5 | BD38: 6 | BE38: 9 | BF38: 3 | BG38: 4 | BH38: 3 | BI38: 1 | BJ38: 4 | BK38: 2 | BL38: 3 | BM38: 2 | BN38: 0 | BO38: 3 | BP38: 2 | BQ38: 5 | BR38: 1 | BS38: 1 | BT38: 4 | BU38: 2 | BV38: 0 | BW38: 3 | BX38: 2 | BY38: 0 | BZ38: 1 | CA38: 2 | CB38: 3 | CC38: 1 | CD38: 4 | CE38: 3 | CF38: 5 | CG38: 3 | CH38: 10 | CI38: 9 | CJ38: 7 | CK38: 13 | CL38: 7 | CM38: 4 | CN38: 5 | CO38: 4 | CP38: 8 | CQ38: 3 | CR38: 0 | CS38: 2 | CT38: 8 | CU38: 1 | CV38: 4 | CW38: 4 | CX38: 8 | CY38: 9 | CZ38: 2 | DN38: =SUM(BN38:DM38) -> 153 | DO38: 中部
C39: 那覇市 | D39: 0 | E39: 1 | F39: 0 | G39: 0 | H39: 0 | I39: 1 | J39: 0 | K39: 2 | L39: 0 | M39: 1 | N39: 0 | O39: 2 | P39: 0 | Q39: 0 | R39: 3 | S39: 0 | T39: 1 | U39: 2 | V39: 1 | W39: 1 | X39: 3 | Y39: 2 | Z39: 0 | AA39: 3 | AB39: 0 | AC39: 1 | AD39: 1 | AE39: 0 | AF39: 1 | AG39: 0 | AH39: 1 | AI39: 11 | AJ39: 0 | AK39: 4 | AL39: 1 | AM39: 2 | AN39: 0 | AO39: 4 | AP39: 5 | AQ39: 5 | AR39: 2 | AS39: 0 | AT39: 0 | AU39: 2 | AV39: 1 | AW39: 8 | AX39: 6 | AY39: 1 | AZ39: 2 | BA39: 4 | BB39: 0 | BC39: 0 | BD39: 3 | BE39: 0 | BF39: 0 | BG39: 1 | BH39: 0 | BI39: 1 | BJ39: 1 | BK39: 0 | BL39: 1 | BM39: 2 | BN39: 0 | BO39: 11 | BP39: 0 | BQ39: 0 | BR39: 0 | BS39: 2 | BT39: 1 | BU39: 1 | BV39: 2 | BW39: 0 | BX39: 0 | BY39: 0 | BZ39: 3 | CA39: 0 | CB39: 0 | CC39: 0 | CD39: 1 | CE39: 4 | CF39: 0 | CG39: 0 | CH39: 0 | CI39: 1 | CJ39: 2 | CK39: 0 | CL39: 0 | CM39: 1 | CN39: 1 | CO39: 3 | CP39: 0 | CQ39: 3 | CR39: 2 | CS39: 2 | CT39: 3 | CU39: 4 | CV39: 1 | CW39: 2 | CX39: 1 | CY39: 2 | CZ39: 0 | DN39: =SUM(BN39:DM39) -> 53 | DO39: 那覇市
C40: 南部 | D40: 2 | E40: 0 | F40: 0 | G40: 0 | H40: 1 | I40: 0 | J40: 2 | K40: 1 | L40: 1 | M40: 3 | N40: 0 | O40: 3 | P40: 2 | Q40: 3 | R40: 1 | S40: 2 | T40: 3 | U40: 0 | V40: 4 | W40: 2 | X40: 2 | Y40: 0 | Z40: 0 | AA40: 2 | AB40: 1 | AC40: 6 | AD40: 1 | AE40: 3 | AF40: 2 | AG40: 0 | AH40: 5 | AI40: 7 | AJ40: 3 | AK40: 3 | AL40: 2 | AM40: 1 | AN40: 2 | AO40: 6 | AP40: 10 | AQ40: 4 | AR40: 1 | AS40: 3 | AT40: 0 | AU40: 7 | AV40: 3 | AW40: 6 | AX40: 3 | AY40: 3 | AZ40: 3 | BA40: 6 | BB40: 2 | BC40: 11 | BD40: 6 | BE40: 12 | BF40: 2 | BG40: 4 | BH40: 1 | BI40: 1 | BJ40: 3 | BK40: 2 | BL40: 2 | BM40: 1 | BN40: 2 | BO40: 1 | BP40: 2 | BQ40: 2 | BR40: 4 | BS40: 3 | BT40: 2 | BU40: 1 | BV40: 2 | BW40: 1 | BX40: 0 | BY40: 2 | BZ40: 0 | CA40: 0 | CB40: 1 | CC40: 6 | CD40: 1 | CE40: 3 | CF40: 0 | CG40: 3 | CH40: 1 | CI40: 1 | CJ40: 1 | CK40: 3 | CL40: 3 | CM40: 0 | CN40: 6 | CO40: 4 | CP40: 2 | CQ40: 1 | CR40: 6 | CS40: 5 | CT40: 5 | CU40: 4 | CV40: 3 | CW40: 1 | CX40: 3 | CY40: 3 | CZ40: 0 | DN40: =SUM(BN40:DM40) -> 88 | DO40: 南部
C41: 宮古 | D41: 1 | E41: 0 | F41: 0 | G41: 0 | H41: 0 | I41: 0 | J41: 0 | K41: 0 | L41: 0 | M41: 0 | N41: 0 | O41: 0 | P41: 0 | Q41: 2 | R41: 1 | S41: 0 | T41: 0 | U41: 0 | V41: 0 | W41: 2 | X41: 1 | Y41: 0 | Z41: 0 | AA41: 0 | AB41: 0 | AC41: 0 | AD41: 0 | AE41: 0 | AF41: 0 | AG41: 0 | AH41: 0 | AI41: 0 | AJ41: 0 | AK41: 0 | AL41: 0 | AM41: 0 | AN41: 0 | AO41: 0 | AP41: 0 | AQ41: 0 | AR41: 1 | AS41: 0 | AT41: 0 | AU41: 0 | AV41: 0 | AW41: 0 | AX41: 0 | AY41: 0 | AZ41: 0 | BA41: 0 | BB41: 0 | BC41: 0 | BD41: 0 | BE41: 0 | BF41: 0 | BG41: 0 | BH41: 0 | BI41: 0 | BJ41: 0 | BK41: 0 | BL41: 0 | BM41: 0 | BN41: 0 | BO41: 0 | BP41: 0 | BQ41: 0 | BR41: 0 | BS41: 0 | BT41: 0 | BU41: 0 | BV41: 0 | BW41: 0 | BX41: 0 | BY41: 0 | BZ41: 0 | CA41: 0 | CB41: 0 | CC41: 0 | CD41: 0 | CE41: 0 | CF41: 0 | CG41: 0 | CH41: 0 | CI41: 0 | CJ41: 0 | CK41: 0 | CL41: 0 | CM41: 0 | CN41: 0 | CO41: 0 | CP41: 0 | CQ41: 0 | CR41: 0 | CS41: 0 | CT41: 0 | CU41: 0 | CV41: 0 | CW41: 0 | CX41: 1 | CY41: 0 | CZ41: 0 | DN41: =SUM(BN41:DM41) -> 1 | DO41: 宮古
C42: 八重山 | D42: 2 | E42: 1 | F42: 5 | G42: 1 | H42: 2 | I42: 0 | J42: 0 | K42: 0 | L42: 0 | M42: 0 | N42: 0 | O42: 0 | P42: 0 | Q42: 0 | R42: 0 | S42: 0 | T42: 2 | U42: 0 | V42: 0 | W42: 0 | X42: 0 | Y42: 0 | Z42: 0 | AA42: 0 | AB42: 0 | AC42: 0 | AD42: 0 | AE42: 0 | AF42: 0 | AG42: 0 | AH42: 0 | AI42: 0 | AJ42: 0 | AK42: 0 | AL42: 0 | AM42: 0 | AN42: 0 | AO42: 0 | AP42: 0 | AQ42: 0 | AR42: 0 | AS42: 0 | AT42: 1 | AU42: 0 | AV42: 0 | AW42: 0 | AX42: 0 | AY42: 0 | AZ42: 0 | BA42: 0 | BB42: 0 | BC42: 0 | BD42: 0 | BE42: 0 | BF42: 0 | BG42: 0 | BH42: 0 | BI42: 0 | BJ42: 0 | BK42: 0 | BL42: 0 | BM42: 0 | BN42: 0 | BO42: 0 | BP42: 0 | BQ42: 0 | BR42: 0 | BS42: 1 | BT42: 0 | BU42: 0 | BV42: 0 | BW42: 0 | BX42: 0 | BY42: 0 | BZ42: 0 | CA42: 0 | CB42: 0 | CC42: 0 | CD42: 0 | CE42: 0 | CF42: 0 | CG42: 0 | CH42: 0 | CI42: 0 | CJ42: 0 | CK42: 1 | CL42: 0 | CM42: 1 | CN42: 0 | CO42: 0 | CP42: 0 | CQ42: 1 | CR42: 1 | CS42: 1 | CT42: 0 | CU42: 0 | CV42: 1 | CW42: 3 | CX42: 1 | CY42: 1 | CZ42: 0 | DN42: =SUM(BN42:DM42) -> 12 | DO42: 八重山
C43: 沖縄県 | D43: 7 | E43: 2 | F43: 9 | G43: 1 | H43: 5 | I43: 2 | J43: 4 | K43: 5 | L43: 1 | M43: 9 | N43: 0 | O43: 9 | P43: 2 | Q43: 6 | R43: 7 | S43: 4 | T43: 7 | U43: 3 | V43: 5 | W43: 7 | X43: 12 | Y43: 2 | Z43: 4 | AA43: 8 | AB43: 1 | AC43: 10 | AD43: 4 | AE43: 7 | AF43: 9 | AG43: 6 | AH43: 14 | AI43: 33 | AJ43: 7 | AK43: 23 | AL43: 16 | AM43: 9 | AN43: 15 | AO43: 18 | AP43: 23 | AQ43: 17 | AR43: 13 | AS43: 10 | AT43: 16 | AU43: 17 | AV43: 14 | AW43: 23 | AX43: 19 | AY43: 11 | AZ43: 11 | BA43: 14 | BB43: 6 | BC43: 17 | BD43: 16 | BE43: 22 | BF43: 6 | BG43: 11 | BH43: 4 | BI43: 4 | BJ43: 8 | BK43: 5 | BL43: 7 | BM43: 5 | BN43: 2 | BO43: 17 | BP43: 4 | BQ43: 8 | BR43: 7 | BS43: 10 | BT43: 8 | BU43: 6 | BV43: 7 | BW43: 5 | BX43: 3 | BY43: 3 | BZ43: 4 | CA43: 2 | CB43: 4 | CC43: 7 | CD43: 8 | CE43: 12 | CF43: 5 | CG43: 8 | CH43: 11 | CI43: 13 | CJ43: 11 | CK43: 18 | CL43: 10 | CM43: 8 | CN43: 14 | CO43: 12 | CP43: 11 | CQ43: 8 | CR43: 9 | CS43: 13 | CT43: 16 | CU43: 11 | CV43: 9 | CW43: 10 | CX43: 16 | CY43: 16 | CZ43: 2 | DN43: =SUM(BN43:DM43) -> 348 | DO43: 沖縄県
C44: 全国 | D44: 677 | E44: 787 | F44: 676 | G44: 842 | H44: 883 | I44: 1070 | J44: 1244 | K44: 1271 | L44: 1390 | M44: 1358 | N44: 310 | O44: 981 | P44: 710 | Q44: 1038 | R44: 901 | S44: 995 | T44: 886 | U44: 909 | V44: 774 | W44: 904 | X44: 883 | Y44: 802 | Z44: 721 | AA44: 750 | AB44: 594 | AC44: 755 | AD44: 923 | AE44: 919 | AF44: 934 | AG44: 1272 | AH44: 1343 | AI44: 1549 | AJ44: 1690 | AK44: 1747 | AL44: 1706 | AM44: 1713 | AN44: 1580 | AO44: 1382 | AP44: 1306 | AQ44: 1061 | AR44: 1041 | AS44: 970 | AT44: 534 | AU44: 749 | AV44: 589 | AW44: 736 | AX44: 677 | AY44: 651 | AZ44: 632 | BA44: 589 | BB44: 606 | BC44: 515 | BD44: 587 | BE44: 612 | BF44: 540 | BG44: 666 | BH44: 665 | BI44: 571 | BJ44: 683 | BK44: 706 | BL44: 750 | BM44: 861 | BN44: 255 | BO44: 650 | BP44: 504 | BQ44: 739 | BR44: 669 | BS44: 709 | BT44: 605 | BU44: 635 | BV44: 493 | BW44: 580 | BX44: 570 | BY44: 537 | BZ44: 508 | CA44: 466 | CB44: 529 | CC44: 581 | CD44: 692 | CE44: 745 | CF44: 586 | CG44: 974 | CH44: 1034 | CI44: 1264 | CJ44: 1403 | CK44: 1365 | CL44: 1344 | CM44: 1220 | CN44: 1019 | CO44: 901 | CP44: 777 | CQ44: 652 | CR44: 685 | CS44: 604 | CT44: 373 | CU44: 573 | CV44: 455 | CW44: 580 | CX44: 546 | CY44: 570 | CZ44: 329 | DN44: =SUM(BN44:DM44) -> 27721 | DO44: 全国
B45: 咽頭結膜熱 | C45: 北部 | D45: 0 | E45: 0 | F45: 0 | G45: 0 | H45: 0 | I45: 0 | J45: 0 | K45: 0 | L45: 0 | M45: 0 | N45: 0 | O45: 0 | P45: 0 | Q45: 0 | R45: 0 | S45: 0 | T45: 0 | U45: 0 | V45: 0 | W45: 0 | X45: 0 | Y45: 0 | Z45: 0 | AA45: 0 | AB45: 0 | AC45: 0.67 | AD45: 0 | AE45: 0 | AF45: 0.67 | AG45: 0.33 | AH45: 0 | AI45: 0.33 | AJ45: 0.33 | AK45: 0.67 | AL45: 0 | AM45: 0 | AN45: 0.33 | AO45: 0.67 | AP45: 0.33 | AQ45: 0.33 | AR45: 0.33 | AS45: 0 | AT45: 0 | AU45: 0 | AV45: 0 | AW45: 1 | AX45: 0 | AY45: 0.33 | AZ45: 0.33 | BA45: 0 | BB45: 0.33 | BC45: 0.33 | BD45: 0.33 | BE45: 0.33 | BF45: 0.33 | BG45: 0.67 | BH45: 0 | BI45: 0.33 | BJ45: 0 | BK45: 0.33 | BL45: 0.33 | BM45: 0 | BN45: 0 | BO45: 0.67 | BP45: 0 | BQ45: 0.33 | BR45: 0.67 | BS45: 1 | BT45: 0.33 | BU45: 0.67 | BV45: 1 | BW45: 0.33 | BX45: 0.33 | BY45: 0.33 | BZ45: 0 | CA45: 0 | CB45: 0 | CC45: 0 | CD45: 0.67 | CE45: 0.67 | CF45: 0 | CG45: 0.67 | CH45: 0 | CI45: 0.67 | CJ45: 0.33 | CK45: 0.33 | CL45: 0 | CM45: 0.67 | CN45: 0.67 | CO45: 0.33 | CP45: 0.33 | CQ45: 0 | CR45: 0 | CS45: 1 | CT45: 0 | CU45: 0.67 | CV45: 0 | CW45: 0 | CX45: 0.67 | CY45: 0.33 | CZ45: 0 | DN45: =SUM(BN45:DM45) -> 13.67 | DO45: 北部
B46: （定点あたり報告数） | C46: 中部 | D46: 0.2 | E46: 0 | F46: 0.4 | G46: 0 | H46: 0.2 | I46: 0.1 | J46: 0.2 | K46: 0.2 | L46: 0 | M46: 0.5 | N46: 0 | O46: 0.4 | P46: 0 | Q46: 0.1 | R46: 0.2 | S46: 0.2 | T46: 0.1 | U46: 0.1 | V46: 0 | W46: 0.2 | X46: 0.6 | Y46: 0 | Z46: 0.4 | AA46: 0.3 | AB46: 0 | AC46: 0.14 | AD46: 0.29 | AE46: 0.57 | AF46: 0.57 | AG46: 0.71 | AH46: 1.14 | AI46: 2 | AJ46: 0.43 | AK46: 2 | AL46: 1.86 | AM46: 0.86 | AN46: 1.71 | AO46: 0.86 | AP46: 1 | AQ46: 1 | AR46: 1.14 | AS46: 1 | AT46: 2.14 | AU46: 1.14 | AV46: 1.43 | AW46: 0.86 | AX46: 1.43 | AY46: 0.86 | AZ46: 0.71 | BA46: 0.57 | BB46: 0.43 | BC46: 0.71 | BD46: 0.86 | BE46: 1.29 | BF46: 0.43 | BG46: 0.57 | BH46: 0.43 | BI46: 0.14 | BJ46: 0.57 | BK46: 0.29 | BL46: 0.43 | BM46: 0.29 | BN46: 0 | BO46: 0.43 | BP46: 0.29 | BQ46: 0.71 | BR46: 0.14 | BS46: 0.14 | BT46: 0.57 | BU46: 0.29 | BV46: 0 | BW46: 0.43 | BX46: 0.29 | BY46: 0 | BZ46: 0.14 | CA46: 0.29 | CB46: 0.43 | CC46: 0.14 | CD46: 0.57 | CE46: 0.43 | CF46: 0.71 | CG46: 0.43 | CH46: 1.43 | CI46: 1.29 | CJ46: 1 | CK46: 1.86 | CL46: 1 | CM46: 0.57 | CN46: 0.71 | CO46: 0.57 | CP46: 1.14 | CQ46: 0.43 | CR46: 0 | CS46: 0.29 | CT46: 1.14 | CU46: 0.14 | CV46: 0.57 | CW46: 0.57 | CX46: 1.14 | CY46: 1.29 | CZ46: 0.29 | DN46: =SUM(BN46:DM46) -> 21.86 | DO46: 中部
B47: 警報（3以上。終息基準値は1未満） | C47: 那覇市 | D47: 0 | E47: 0.14 | F47: 0 | G47: 0 | H47: 0 | I47: 0.14 | J47: 0 | K47: 0.29 | L47: 0 | M47: 0.14 | N47: 0 | O47: 0.29 | P47: 0 | Q47: 0 | R47: 0.43 | S47: 0 | T47: 0.14 | U47: 0.29 | V47: 0.14 | W47: 0.14 | X47: 0.43 | Y47: 0.29 | Z47: 0 | AA47: 0.43 | AB47: 0 | AC47: 0.17 | AD47: 0.17 | AE47: 0 | AF47: 0.17 | AG47: 0 | AH47: 0.17 | AI47: 1.83 | AJ47: 0 | AK47: 0.67 | AL47: 0.17 | AM47: 0.33 | AN47: 0 | AO47: 0.67 | AP47: 0.83 | AQ47: 0.83 | AR47: 0.33 | AS47: 0 | AT47: 0 | AU47: 0.33 | AV47: 0.17 | AW47: 1.33 | AX47: 1 | AY47: 0.17 | AZ47: 0.33 | BA47: 0.67 | BB47: 0 | BC47: 0 | BD47: 0.5 | BE47: 0 | BF47: 0 | BG47: 0.17 | BH47: 0 | BI47: 0.17 | BJ47: 0.17 | BK47: 0 | BL47: 0.17 | BM47: 0.33 | BN47: 0 | BO47: 1.83 | BP47: 0 | BQ47: 0 | BR47: 0 | BS47: 0.33 | BT47: 0.17 | BU47: 0.17 | BV47: 0.33 | BW47: 0 | BX47: 0 | BY47: 0 | BZ47: 0.5 | CA47: 0 | CB47: 0 | CC47: 0 | CD47: 0.2 | CE47: 0.8 | CF47: 0 | CG47: 0 | CH47: 0 | CI47: 0.2 | CJ47: 0.4 | CK47: 0 | CL47: 0 | CM47: 0.2 | CN47: 0.2 | CO47: 0.6 | CP47: 0 | CQ47: 0.6 | CR47: 0.4 | CS47: 0.4 | CT47: 0.6 | CU47: 0.8 | CV47: 0.2 | CW47: 0.4 | CX47: 0.2 | CY47: 0.4 | CZ47: 0 | DN47: =SUM(BN47:DM47) -> 9.93 | DO47: 那覇市
C48: 南部 | D48: 0.25 | E48: 0 | F48: 0 | G48: 0 | H48: 0.13 | I48: 0 | J48: 0.25 | K48: 0.13 | L48: 0.13 | M48: 0.38 | N48: 0 | O48: 0.38 | P48: 0.25 | Q48: 0.38 | R48: 0.13 | S48: 0.25 | T48: 0.38 | U48: 0 | V48: 0.5 | W48: 0.25 | X48: 0.25 | Y48: 0 | Z48: 0 | AA48: 0.25 | AB48: 0.17 | AC48: 1 | AD48: 0.17 | AE48: 0.5 | AF48: 0.33 | AG48: 0 | AH48: 0.83 | AI48: 1.17 | AJ48: 0.6 | AK48: 0.5 | AL48: 0.33 | AM48: 0.17 | AN48: 0.33 | AO48: 1 | AP48: 1.67 | AQ48: 0.67 | AR48: 0.17 | AS48: 0.5 | AT48: 0 | AU48: 1.17 | AV48: 0.5 | AW48: 1 | AX48: 0.5 | AY48: 0.5 | AZ48: 0.5 | BA48: 1 | BB48: 0.33 | BC48: 1.83 | BD48: 1 | BE48: 2 | BF48: 0.33 | BG48: 0.67 | BH48: 0.17 | BI48: 0.17 | BJ48: 0.5 | BK48: 0.33 | BL48: 0.33 | BM48: 0.17 | BN48: 0.33 | BO48: 0.17 | BP48: 0.33 | BQ48: 0.33 | BR48: 0.67 | BS48: 0.5 | BT48: 0.33 | BU48: 0.17 | BV48: 0.33 | BW48: 0.17 | BX48: 0 | BY48: 0.33 | BZ48: 0 | CA48: 0 | CB48: 0.17 | CC48: 1 | CD48: 0.17 | CE48: 0.5 | CF48: 0 | CG48: 0.5 | CH48: 0.17 | CI48: 0.17 | CJ48: 0.17 | CK48: 0.5 | CL48: 0.5 | CM48: 0 | CN48: 1 | CO48: 0.67 | CP48: 0.33 | CQ48: 0.17 | CR48: 1 | CS48: 0.83 | CT48: 0.83 | CU48: 0.67 | CV48: 0.5 | CW48: 0.17 | CX48: 0.5 | CY48: 0.5 | CZ48: 0 | DN48: =SUM(BN48:DM48) -> 14.68 | DO48: 南部
C49: 宮古 | D49: 0.5 | E49: 0 | F49: 0 | G49: 0 | H49: 0 | I49: 0 | J49: 0 | K49: 0 | L49: 0 | M49: 0 | N49: 0 | O49: 0 | P49: 0 | Q49: 1 | R49: 0.5 | S49: 0 | T49: 0 | U49: 0 | V49: 0 | W49: 1 | X49: 0.5 | Y49: 0 | Z49: 0 | AA49: 0 | AB49: 0 | AC49: 0 | AD49: 0 | AE49: 0 | AF49: 0 | AG49: 0 | AH49: 0 | AI49: 0 | AJ49: 0 | AK49: 0 | AL49: 0 | AM49: 0 | AN49: 0 | AO49: 0 | AP49: 0 | AQ49: 0 | AR49: 1 | AS49: 0 | AT49: 0 | AU49: 0 | AV49: 0 | AW49: 0 | AX49: 0 | AY49: 0 | AZ49: 0 | BA49: 0 | BB49: 0 | BC49: 0 | BD49: 0 | BE49: 0 | BF49: 0 | BG49: 0 | BH49: 0 | BI49: 0 | BJ49: 0 | BK49: 0 | BL49: 0 | BM49: 0 | BN49: 0 | BO49: 0 | BP49: 0 | BQ49: 0 | BR49: 0 | BS49: 0 | BT49: 0 | BU49: 0 | BV49: 0 | BW49: 0 | BX49: 0 | BY49: 0 | BZ49: 0 | CA49: 0 | CB49: 0 | CC49: 0 | CD49: 0 | CE49: 0 | CF49: 0 | CG49: 0 | CH49: 0 | CI49: 0 | CJ49: 0 | CK49: 0 | CL49: 0 | CM49: 0 | CN49: 0 | CO49: 0 | CP49: 0 | CQ49: 0 | CR49: 0 | CS49: 0 | CT49: 0 | CU49: 0 | CV49: 0 | CW49: 0 | CX49: 1 | CY49: 0 | CZ49: 0 | DN49: =SUM(BN49:DM49) -> 1 | DO49: 宮古
C50: 八重山 | D50: 1 | E50: 0.5 | F50: 2.5 | G50: 0.5 | H50: 1 | I50: 0 | J50: 0 | K50: 0 | L50: 0 | M50: 0 | N50: 0 | O50: 0 | P50: 0 | Q50: 0 | R50: 0 | S50: 0 | T50: 1 | U50: 0 | V50: 0 | W50: 0 | X50: 0 | Y50: 0 | Z50: 0 | AA50: 0 | AB50: 0 | AC50: 0 | AD50: 0 | AE50: 0 | AF50: 0 | AG50: 0 | AH50: 0 | AI50: 0 | AJ50: 0 | AK50: 0 | AL50: 0 | AM50: 0 | AN50: 0 | AO50: 0 | AP50: 0 | AQ50: 0 | AR50: 0 | AS50: 0 | AT50: 0.5 | AU50: 0 | AV50: 0 | AW50: 0 | AX50: 0 | AY50: 0 | AZ50: 0 | BA50: 0 | BB50: 0 | BC50: 0 | BD50: 0 | BE50: 0 | BF50: 0 | BG50: 0 | BH50: 0 | BI50: 0 | BJ50: 0 | BK50: 0 | BL50: 0 | BM50: 0 | BN50: 0 | BO50: 0 | BP50: 0 | BQ50: 0 | BR50: 0 | BS50: 0.5 | BT50: 0 | BU50: 0 | BV50: 0 | BW50: 0 | BX50: 0 | BY50: 0 | BZ50: 0 | CA50: 0 | CB50: 0 | CC50: 0 | CD50: 0 | CE50: 0 | CF50: 0 | CG50: 0 | CH50: 0 | CI50: 0 | CJ50: 0 | CK50: 0.5 | CL50: 0 | CM50: 0.5 | CN50: 0 | CO50: 0 | CP50: 0 | CQ50: 0.5 | CR50: 0.5 | CS50: 0.5 | CT50: 0 | CU50: 0 | CV50: 0.5 | CW50: 1.5 | CX50: 0.5 | CY50: 0.5 | CZ50: 0 | DN50: =SUM(BN50:DM50) -> 6 | DO50: 八重山
C51: 沖縄県 | D51: 0.22 | E51: 0.06 | F51: 0.28 | G51: 0.03 | H51: 0.16 | I51: 0.06 | J51: 0.13 | K51: 0.16 | L51: 0.03 | M51: 0.28 | N51: 0 | O51: 0.28 | P51: 0.06 | Q51: 0.19 | R51: 0.22 | S51: 0.13 | T51: 0.22 | U51: 0.09 | V51: 0.16 | W51: 0.22 | X51: 0.38 | Y51: 0.06 | Z51: 0.13 | AA51: 0.25 | AB51: 0.04 | AC51: 0.4 | AD51: 0.16 | AE51: 0.28 | AF51: 0.36 | AG51: 0.24 | AH51: 0.56 | AI51: 1.32 | AJ51: 0.29 | AK51: 0.92 | AL51: 0.64 | AM51: 0.36 | AN51: 0.6 | AO51: 0.72 | AP51: 0.92 | AQ51: 0.68 | AR51: 0.52 | AS51: 0.4 | AT51: 0.64 | AU51: 0.68 | AV51: 0.56 | AW51: 0.92 | AX51: 0.76 | AY51: 0.44 | AZ51: 0.44 | BA51: 0.56 | BB51: 0.24 | BC51: 0.68 | BD51: 0.64 | BE51: 0.88 | BF51: 0.24 | BG51: 0.44 | BH51: 0.16 | BI51: 0.16 | BJ51: 0.32 | BK51: 0.2 | BL51: 0.28 | BM51: 0.2 | BN51: 0.08 | BO51: 0.68 | BP51: 0.16 | BQ51: 0.32 | BR51: 0.28 | BS51: 0.4 | BT51: 0.32 | BU51: 0.24 | BV51: 0.28 | BW51: 0.2 | BX51: 0.12 | BY51: 0.12 | BZ51: 0.16 | CA51: 0.08 | CB51: 0.17 | CC51: 0.29 | CD51: 0.33 | CE51: 0.5 | CF51: 0.21 | CG51: 0.33 | CH51: 0.46 | CI51: 0.54 | CJ51: 0.46 | CK51: 0.75 | CL51: 0.42 | CM51: 0.33 | CN51: 0.58 | CO51: 0.5 | CP51: 0.46 | CQ51: 0.33 | CR51: 0.38 | CS51: 0.54 | CT51: 0.67 | CU51: 0.46 | CV51: 0.38 | CW51: 0.42 | CX51: 0.67 | CY51: 0.67 | CZ51: 0.08 | DN51: =SUM(BN51:DM51) -> 14.37 | DO51: 沖縄県
C52: 全国 | D52: 0.22 | E52: 0.25 | F52: 0.22 | G52: 0.27 | H52: 0.28 | I52: 0.34 | J52: 0.4 | K52: 0.4 | L52: 0.44 | M52: 0.43 | N52: 0.12 | O52: 0.31 | P52: 0.23 | Q52: 0.33 | R52: 0.29 | S52: 0.32 | T52: 0.28 | U52: 0.29 | V52: 0.25 | W52: 0.29 | X52: 0.28 | Y52: 0.26 | Z52: 0.23 | AA52: 0.25 | AB52: 0.25 | AC52: 0.32 | AD52: 0.39 | AE52: 0.39 | AF52: 0.4 | AG52: 0.54 | AH52: 0.57 | AI52: 0.66 | AJ52: 0.72 | AK52: 0.74 | AL52: 0.73 | AM52: 0.73 | AN52: 0.67 | AO52: 0.59 | AP52: 0.56 | AQ52: 0.45 | AR52: 0.44 | AS52: 0.42 | AT52: 0.25 | AU52: 0.32 | AV52: 0.25 | AW52: 0.31 | AX52: 0.29 | AY52: 0.28 | AZ52: 0.27 | BA52: 0.25 | BB52: 0.26 | BC52: 0.22 | BD52: 0.25 | BE52: 0.26 | BF52: 0.23 | BG52: 0.28 | BH52: 0.28 | BI52: 0.24 | BJ52: 0.29 | BK52: 0.3 | BL52: 0.32 | BM52: 0.37 | BN52: 0.13 | BO52: 0.28 | BP52: 0.22 | BQ52: 0.32 | BR52: 0.29 | BS52: 0.31 | BT52: 0.26 | BU52: 0.28 | BV52: 0.21 | BW52: 0.25 | BX52: 0.25 | BY52: 0.23 | BZ52: 0.22 | CA52: 0.21 | CB52: 0.23 | CC52: 0.26 | CD52: 0.31 | CE52: 0.33 | CF52: 0.26 | CG52: 0.43 | CH52: 0.46 | CI52: 0.56 | CJ52: 0.62 | CK52: 0.6 | CL52: 0.6 | CM52: 0.54 | CN52: 0.45 | CO52: 0.4 | CP52: 0.34 | CQ52: 0.29 | CR52: 0.3 | CS52: 0.27 | CT52: 0.18 | CU52: 0.26 | CV52: 0.2 | CW52: 0.26 | CX52: 0.24 | CY52: 0.25 | CZ52: 0.15 | DN52: =SUM(BN52:DM52) -> 12.25 | DO52: 全国
B53: A群溶血性レンサ球菌咽頭炎 | C53: 北部 | D53: 3 | E53: 2 | F53: 1 | G53: 2 | H53: 1 | I53: 3 | J53: 5 | K53: 3 | L53: 8 | M53: 0 | N53: 0 | O53: 3 | P53: 3 | Q53: 2 | R53: 4 | S53: 6 | T53: 9 | U53: 3 | V53: 7 | W53: 8 | X53: 1 | Y53: 8 | Z53: 4 | AA53: 3 | AB53: 0 | AC53: 2 | AD53: 3 | AE53: 2 | AF53: 1 | AG53: 5 | AH53: 12 | AI53: 2 | AJ53: 1 | AK53: 3 | AL53: 4 | AM53: 3 | AN53: 9 | AO53: 9 | AP53: 1 | AQ53: 9 | AR53: 8 | AS53: 2 | AT53: 7 | AU53: 2 | AV53: 5 | AW53: 6 | AX53: 6 | AY53: 4 | AZ53: 1 | BA53: 5 | BB53: 2 | BC53: 1 | BD53: 5 | BE53: 7 | BF53: 3 | BG53: 2 | BH53: 0 | BI53: 2 | BJ53: 7 | BK53: 3 | BL53: 1 | BM53: 6 | BN53: 4 | BO53: 2 | BP53: 5 | BQ53: 6 | BR53: 8 | BS53: 6 | BT53: 2 | BU53: 0 | BV53: 4 | BW53: 5 | BX53: 3 | BY53: 1 | BZ53: 0 | CA53: 3 | CB53: 1 | CC53: 1 | CD53: 2 | CE53: 5 | CF53: 2 | CG53: 6 | CH53: 2 | CI53: 2 | CJ53: 1 | CK53: 2 | CL53: 0 | CM53: 0 | CN53: 3 | CO53: 3 | CP53: 2 | CQ53: 2 | CR53: 4 | CS53: 0 | CT53: 2 | CU53: 3 | CV53: 3 | CW53: 0 | CX53: 1 | CY53: 2 | CZ53: 1 | DN53: =SUM(BN53:DM53) -> 99 | DO53: 北部
B54: （報告数） | C54: 中部 | D54: 21 | E54: 24 | F54: 14 | G54: 25 | H54: 18 | I54: 14 | J54: 23 | K54: 28 | L54: 21 | M54: 27 | N54: 3 | O54: 26 | P54: 30 | Q54: 24 | R54: 29 | S54: 36 | T54: 22 | U54: 14 | V54: 25 | W54: 27 | X54: 20 | Y54: 22 | Z54: 16 | AA54: 5 | AB54: 17 | AC54: 11 | AD54: 12 | AE54: 11 | AF54: 6 | AG54: 16 | AH54: 10 | AI54: 10 | AJ54: 9 | AK54: 14 | AL54: 46 | AM54: 16 | AN54: 15 | AO54: 3 | AP54: 13 | AQ54: 10 | AR54: 23 | AS54: 6 | AT54: 9 | AU54: 7 | AV54: 10 | AW54: 12 | AX54: 20 | AY54: 11 | AZ54: 10 | BA54: 7 | BB54: 18 | BC54: 4 | BD54: 7 | BE54: 10 | BF54: 12 | BG54: 10 | BH54: 13 | BI54: 7 | BJ54: 15 | BK54: 13 | BL54: 7 | BM54: 13 | BN54: 2 | BO54: 11 | BP54: 10 | BQ54: 15 | BR54: 14 | BS54: 6 | BT54: 11 | BU54: 20 | BV54: 10 | BW54: 13 | BX54: 15 | BY54: 19 | BZ54: 18 | CA54: 10 | CB54: 11 | CC54: 9 | CD54: 18 | CE54: 22 | CF54: 5 | CG54: 9 | CH54: 14 | CI54: 10 | CJ54: 6 | CK54: 9 | CL54: 7 | CM54: 3 | CN54: 9 | CO54: 12 | CP54: 5 | CQ54: 5 | CR54: 11 | CS54: 5 | CT54: 3 | CU54: 9 | CV54: 7 | CW54: 8 | CX54: 6 | CY54: 10 | CZ54: 2 | DN54: =SUM(BN54:DM54) -> 389 | DO54: 中部
C55: 那覇市 | D55: 3 | E55: 3 | F55: 9 | G55: 9 | H55: 3 | I55: 3 | J55: 10 | K55: 9 | L55: 5 | M55: 8 | N55: 5 | O55: 8 | P55: 4 | Q55: 15 | R55: 8 | S55: 8 | T55: 7 | U55: 6 | V55: 4 | W55: 7 | X55: 16 | Y55: 7 | Z55: 9 | AA55: 7 | AB55: 3 | AC55: 6 | AD55: 4 | AE55: 9 | AF55: 4 | AG55: 3 | AH55: 3 | AI55: 6 | AJ55: 5 | AK55: 8 | AL55: 9 | AM55: 1 | AN55: 2 | AO55: 3 | AP55: 3 | AQ55: 8 | AR55: 7 | AS55: 6 | AT55: 5 | AU55: 6 | AV55: 9 | AW55: 6 | AX55: 11 | AY55: 2 | AZ55: 5 | BA55: 2 | BB55: 7 | BC55: 2 | BD55: 4 | BE55: 5 | BF55: 3 | BG55: 9 | BH55: 6 | BI55: 2 | BJ55: 13 | BK55: 4 | BL55: 15 | BM55: 11 | BN55: 13 | BO55: 9 | BP55: 11 | BQ55: 9 | BR55: 14 | BS55: 17 | BT55: 13 | BU55: 21 | BV55: 23 | BW55: 9 | BX55: 10 | BY55: 17 | BZ55: 10 | CA55: 2 | CB55: 10 | CC55: 5 | CD55: 3 | CE55: 6 | CF55: 9 | CG55: 7 | CH55: 3 | CI55: 0 | CJ55: 2 | CK55: 6 | CL55: 3 | CM55: 1 | CN55: 5 | CO55: 4 | CP55: 2 | CQ55: 4 | CR55: 5 | CS55: 3 | CT55: 2 | CU55: 3 | CV55: 5 | CW55: 8 | CX55: 4 | CY55: 4 | CZ55: 2 | DN55: =SUM(BN55:DM55) -> 284 | DO55: 那覇市
C56: 南部 | D56: 13 | E56: 18 | F56: 10 | G56: 10 | H56: 13 | I56: 6 | J56: 8 | K56: 12 | L56: 18 | M56: 14 | N56: 12 | O56: 7 | P56: 9 | Q56: 21 | R56: 14 | S56: 12 | T56: 19 | U56: 13 | V56: 17 | W56: 16 | X56: 18 | Y56: 13 | Z56: 9 | AA56: 0 | AB56: 3 | AC56: 10 | AD56: 5 | AE56: 9 | AF56: 3 | AG56: 10 | AH56: 7 | AI56: 3 | AJ56: 9 | AK56: 7 | AL56: 13 | AM56: 15 | AN56: 5 | AO56: 10 | AP56: 9 | AQ56: 4 | AR56: 7 | AS56: 6 | AT56: 4 | AU56: 3 | AV56: 3 | AW56: 4 | AX56: 3 | AY56: 2 | AZ56: 4 | BA56: 4 | BB56: 2 | BC56: 5 | BD56: 6 | BE56: 6 | BF56: 6 | BG56: 6 | BH56: 7 | BI56: 4 | BJ56: 7 | BK56: 9 | BL56: 15 | BM56: 12 | BN56: 12 | BO56: 6 | BP56: 12 | BQ56: 2 | BR56: 8 | BS56: 8 | BT56: 17 | BU56: 9 | BV56: 15 | BW56: 16 | BX56: 21 | BY56: 11 | BZ56: 5 | CA56: 2 | CB56: 4 | CC56: 0 | CD56: 5 | CE56: 6 | CF56: 6 | CG56: 3 | CH56: 7 | CI56: 6 | CJ56: 5 | CK56: 0 | CL56: 1 | CM56: 4 | CN56: 2 | CO56: 7 | CP56: 9 | CQ56: 2 | CR56: 5 | CS56: 13 | CT56: 5 | CU56: 9 | CV56: 5 | CW56: 4 | CX56: 11 | CY56: 11 | CZ56: 2 | DN56: =SUM(BN56:DM56) -> 276 | DO56: 南部
C57: 宮古 | D57: 1 | E57: 1 | F57: 1 | G57: 0 | H57: 2 | I57: 1 | J57: 0 | K57: 2 | L57: 5 | M57: 4 | N57: 1 | O57: 2 | P57: 1 | Q57: 2 | R57: 1 | S57: 4 | T57: 2 | U57: 11 | V57: 3 | W57: 5 | X57: 2 | Y57: 1 | Z57: 5 | AA57: 1 | AB57: 0 | AC57: 0 | AD57: 0 | AE57: 0 | AF57: 0 | AG57: 1 | AH57: 0 | AI57: 1 | AJ57: 0 | AK57: 0 | AL57: 0 | AM57: 1 | AN57: 1 | AO57: 0 | AP57: 0 | AQ57: 0 | AR57: 0 | AS57: 0 | AT57: 0 | AU57: 0 | AV57: 0 | AW57: 0 | AX57: 1 | AY57: 0 | AZ57: 2 | BA57: 0 | BB57: 1 | BC57: 0 | BD57: 0 | BE57: 0 | BF57: 1 | BG57: 0 | BH57: 1 | BI57: 0 | BJ57: 0 | BK57: 0 | BL57: 1 | BM57: 1 | BN57: 2 | BO57: 0 | BP57: 0 | BQ57: 0 | BR57: 0 | BS57: 1 | BT57: 2 | BU57: 0 | BV57: 0 | BW57: 0 | BX57: 0 | BY57: 0 | BZ57: 0 | CA57: 0 | CB57: 0 | CC57: 1 | CD57: 1 | CE57: 0 | CF57: 0 | CG57: 0 | CH57: 0 | CI57: 1 | CJ57: 0 | CK57: 0 | CL57: 1 | CM57: 0 | CN57: 0 | CO57: 0 | CP57: 0 | CQ57: 0 | CR57: 1 | CS57: 0 | CT57: 0 | CU57: 0 | CV57: 0 | CW57: 1 | CX57: 0 | CY57: 0 | CZ57: 0 | DN57: =SUM(BN57:DM57) -> 11 | DO57: 宮古
C58: 八重山 | D58: 8 | E58: 7 | F58: 6 | G58: 14 | H58: 9 | I58: 14 | J58: 18 | K58: 21 | L58: 15 | M58: 21 | N58: 10 | O58: 22 | P58: 9 | Q58: 12 | R58: 21 | S58: 25 | T58: 19 | U58: 23 | V58: 20 | W58: 14 | X58: 13 | Y58: 15 | Z58: 16 | AA58: 8 | AB58: 9 | AC58: 16 | AD58: 5 | AE58: 4 | AF58: 5 | AG58: 3 | AH58: 5 | AI58: 1 | AJ58: 5 | AK58: 1 | AL58: 6 | AM58: 1 | AN58: 6 | AO58: 24 | AP58: 7 | AQ58: 5 | AR58: 8 | AS58: 0 | AT58: 2 | AU58: 3 | AV58: 4 | AW58: 4 | AX58: 1 | AY58: 1 | AZ58: 8 | BA58: 3 | BB58: 6 | BC58: 3 | BD58: 2 | BE58: 1 | BF58: 2 | BG58: 1 | BH58: 1 | BI58: 2 | BJ58: 0 | BK58: 0 | BL58: 0 | BM58: 0 | BN58: 0 | BO58: 4 | BP58: 1 | BQ58: 3 | BR58: 4 | BS58: 1 | BT58: 3 | BU58: 3 | BV58: 5 | BW58: 2 | BX58: 1 | BY58: 1 | BZ58: 2 | CA58: 2 | CB58: 4 | CC58: 1 | CD58: 2 | CE58: 1 | CF58: 3 | CG58: 6 | CH58: 7 | CI58: 4 | CJ58: 2 | CK58: 4 | CL58: 3 | CM58: 6 | CN58: 5 | CO58: 3 | CP58: 1 | CQ58: 0 | CR58: 3 | CS58: 6 | CT58: 5 | CU58: 6 | CV58: 3 | CW58: 1 | CX58: 1 | CY58: 3 | CZ58: 1 | DN58: =SUM(BN58:DM58) -> 113 | DO58: 八重山
C59: 沖縄県 | D59: 49 | E59: 55 | F59: 41 | G59: 60 | H59: 46 | I59: 41 | J59: 64 | K59: 75 | L59: 72 | M59: 74 | N59: 31 | O59: 68 | P59: 56 | Q59: 76 | R59: 77 | S59: 91 | T59: 78 | U59: 70 | V59: 76 | W59: 77 | X59: 70 | Y59: 66 | Z59: 59 | AA59: 24 | AB59: 32 | AC59: 45 | AD59: 29 | AE59: 35 | AF59: 19 | AG59: 38 | AH59: 37 | AI59: 23 | AJ59: 29 | AK59: 33 | AL59: 78 | AM59: 37 | AN59: 38 | AO59: 49 | AP59: 33 | AQ59: 36 | AR59: 53 | AS59: 20 | AT59: 27 | AU59: 21 | AV59: 31 | AW59: 32 | AX59: 42 | AY59: 20 | AZ59: 30 | BA59: 21 | BB59: 36 | BC59: 15 | BD59: 24 | BE59: 29 | BF59: 27 | BG59: 28 | BH59: 28 | BI59: 17 | BJ59: 42 | BK59: 29 | BL59: 39 | BM59: 43 | BN59: 33 | BO59: 32 | BP59: 39 | BQ59: 35 | BR59: 48 | BS59: 39 | BT59: 48 | BU59: 53 | BV59: 57 | BW59: 45 | BX59: 50 | BY59: 49 | BZ59: 35 | CA59: 19 | CB59: 30 | CC59: 17 | CD59: 31 | CE59: 40 | CF59: 25 | CG59: 31 | CH59: 33 | CI59: 23 | CJ59: 16 | CK59: 21 | CL59: 15 | CM59: 14 | CN59: 24 | CO59: 29 | CP59: 19 | CQ59: 13 | CR59: 29 | CS59: 27 | CT59: 17 | CU59: 30 | CV59: 23 | CW59: 22 | CX59: 23 | CY59: 30 | CZ59: 8 | DN59: =SUM(BN59:DM59) -> 1172 | DO59: 沖縄県
C60: 全国 | D60: 6098 | E60: 5967 | F60: 5270 | G60: 7173 | H60: 6401 | I60: 8101 | J60: 8188 | K60: 8185 | L60: 8200 | M60: 7466 | N60: 1608 | O60: 5417 | P60: 5750 | Q60: 7415 | R60: 7810 | S60: 7748 | T60: 6499 | U60: 7616 | V60: 6097 | W60: 7291 | X60: 7273 | Y60: 6098 | Z60: 5885 | AA60: 5148 | AB60: 5020 | AC60: 6250 | AD60: 6672 | AE60: 5350 | AF60: 4667 | AG60: 7520 | AH60: 6700 | AI60: 6860 | AJ60: 7684 | AK60: 7158 | AL60: 6096 | AM60: 5974 | AN60: 5565 | AO60: 5410 | AP60: 5179 | AQ60: 3775 | AR60: 4221 | AS60: 4009 | AT60: 2093 | AU60: 3096 | AV60: 3695 | AW60: 4109 | AX60: 4312 | AY60: 3399 | AZ60: 3508 | BA60: 4245 | BB60: 4512 | BC60: 3550 | BD60: 4448 | BE60: 5104 | BF60: 4623 | BG60: 5771 | BH60: 5565 | BI60: 4834 | BJ60: 6024 | BK60: 6446 | BL60: 6512 | BM60: 6557 | BN60: 1600 | BO60: 4680 | BP60: 5115 | BQ60: 6622 | BR60: 6507 | BS60: 6708 | BT60: 6143 | BU60: 6600 | BV60: 5096 | BW60: 6452 | BX60: 6792 | BY60: 6049 | BZ60: 5828 | CA60: 5058 | CB60: 5132 | CC60: 6673 | CD60: 7282 | CE60: 7214 | CF60: 3637 | CG60: 6828 | CH60: 6927 | CI60: 6296 | CJ60: 5825 | CK60: 5834 | CL60: 5512 | CM60: 5076 | CN60: 4640 | CO60: 4258 | CP60: 3944 | CQ60: 2981 | CR60: 3094 | CS60: 2880 | CT60: 1727 | CU60: 2420 | CV60: 2878 | CW60: 3094 | CX60: 3280 | CY60: 3320 | CZ60: 1625 | DN60: =SUM(BN60:DM60) -> 191627 | DO60: 全国
B61: A群溶血性レンサ球菌咽頭炎 | C61: 北部 | D61: 1 | E61: 0.67 | F61: 0.33 | G61: 0.67 | H61: 0.33 | I61: 1 | J61: 1.67 | K61: 1 | L61: 2.67 | M61: 0 | N61: 0 | O61: 1 | P61: 1 | Q61: 0.67 | R61: 1.33 | S61: 2 | T61: 3 | U61: 1 | V61: 2.33 | W61: 2.67 | X61: 0.33 | Y61: 2.67 | Z61: 1.33 | AA61: 1 | AB61: 0 | AC61: 0.67 | AD61: 1 | AE61: 0.67 | AF61: 0.33 | AG61: 1.67 | AH61: 4 | AI61: 0.67 | AJ61: 0.33 | AK61: 1 | AL61: 1.33 | AM61: 1 | AN61: 3 | AO61: 3 | AP61: 0.33 | AQ61: 3 | AR61: 2.67 | AS61: 0.67 | AT61: 2.33 | AU61: 0.67 | AV61: 1.67 | AW61: 2 | AX61: 2 | AY61: 1.33 | AZ61: 0.33 | BA61: 1.67 | BB61: 0.67 | BC61: 0.33 | BD61: 1.67 | BE61: 2.33 | BF61: 1 | BG61: 0.67 | BH61: 0 | BI61: 0.67 | BJ61: 2.33 | BK61: 1 | BL61: 0.33 | BM61: 2 | BN61: 1.33 | BO61: 0.67 | BP61: 1.67 | BQ61: 2 | BR61: 2.67 | BS61: 2 | BT61: 0.67 | BU61: 0 | BV61: 1.33 | BW61: 1.67 | BX61: 1 | BY61: 0.33 | BZ61: 0 | CA61: 1 | CB61: 0.33 | CC61: 0.33 | CD61: 0.67 | CE61: 1.67 | CF61: 0.67 | CG61: 2 | CH61: 0.67 | CI61: 0.67 | CJ61: 0.33 | CK61: 0.67 | CL61: 0 | CM61: 0 | CN61: 1 | CO61: 1 | CP61: 0.67 | CQ61: 0.67 | CR61: 1.33 | CS61: 0 | CT61: 0.67 | CU61: 1 | CV61: 1 | CW61: 0 | CX61: 0.33 | CY61: 0.67 | CZ61: 0.33 | DN61: =SUM(BN61:DM61) -> 33.02 | DO61: 北部
B62: （定点あたり報告数） | C62: 中部 | D62: 2.1 | E62: 2.4 | F62: 1.4 | G62: 2.5 | H62: 1.8 | I62: 1.4 | J62: 2.3 | K62: 2.8 | L62: 2.1 | M62: 2.7 | N62: 0.3 | O62: 2.6 | P62: 3 | Q62: 2.4 | R62: 2.9 | S62: 3.6 | T62: 2.2 | U62: 1.4 | V62: 2.5 | W62: 2.7 | X62: 2 | Y62: 2.2 | Z62: 1.6 | AA62: 0.5 | AB62: 2.43 | AC62: 1.57 | AD62: 1.71 | AE62: 1.57 | AF62: 0.86 | AG62: 2.29 | AH62: 1.43 | AI62: 1.43 | AJ62: 1.29 | AK62: 2 | AL62: 6.57 | AM62: 2.29 | AN62: 2.14 | AO62: 0.43 | AP62: 1.86 | AQ62: 1.43 | AR62: 3.29 | AS62: 0.86 | AT62: 1.29 | AU62: 1 | AV62: 1.43 | AW62: 1.71 | AX62: 2.86 | AY62: 1.57 | AZ62: 1.43 | BA62: 1 | BB62: 2.57 | BC62: 0.57 | BD62: 1 | BE62: 1.43 | BF62: 1.71 | BG62: 1.43 | BH62: 1.86 | BI62: 1 | BJ62: 2.14 | BK62: 1.86 | BL62: 1 | BM62: 1.86 | BN62: 0.29 | BO62: 1.57 | BP62: 1.43 | BQ62: 2.14 | BR62: 2 | BS62: 0.86 | BT62: 1.57 | BU62: 2.86 | BV62: 1.43 | BW62: 1.86 | BX62: 2.14 | BY62: 2.71 | BZ62: 2.57 | CA62: 1.43 | CB62: 1.57 | CC62: 1.29 | CD62: 2.57 | CE62: 3.14 | CF62: 0.71 | CG62: 1.29 | CH62: 2 | CI62: 1.43 | CJ62: 0.86 | CK62: 1.29 | CL62: 1 | CM62: 0.43 | CN62: 1.29 | CO62: 1.71 | CP62: 0.71 | CQ62: 0.71 | CR62: 1.57 | CS62: 0.71 | CT62: 0.43 | CU62: 1.29 | CV62: 1 | CW62: 1.14 | CX62: 0.86 | CY62: 1.43 | CZ62: 0.29 | DN62: =SUM(BN62:DM62) -> 55.58 | DO62: 中部
B63: 警報（8以上。終息基準値は4未満） | C63: 那覇市 | D63: 0.43 | E63: 0.43 | F63: 1.29 | G63: 1.29 | H63: 0.43 | I63: 0.43 | J63: 1.43 | K63: 1.29 | L63: 0.71 | M63: 1.14 | N63: 0.71 | O63: 1.14 | P63: 0.57 | Q63: 2.14 | R63: 1.14 | S63: 1.14 | T63: 1 | U63: 0.86 | V63: 0.57 | W63: 1 | X63: 2.29 | Y63: 1 | Z63: 1.29 | AA63: 1 | AB63: 0.5 | AC63: 1 | AD63: 0.67 | AE63: 1.5 | AF63: 0.67 | AG63: 0.5 | AH63: 0.5 | AI63: 1 | AJ63: 0.83 | AK63: 1.33 | AL63: 1.5 | AM63: 0.17 | AN63: 0.33 | AO63: 0.5 | AP63: 0.5 | AQ63: 1.33 | AR63: 1.17 | AS63: 1 | AT63: 0.83 | AU63: 1 | AV63: 1.5 | AW63: 1 | AX63: 1.83 | AY63: 0.33 | AZ63: 0.83 | BA63: 0.33 | BB63: 1.17 | BC63: 0.33 | BD63: 0.67 | BE63: 0.83 | BF63: 0.5 | BG63: 1.5 | BH63: 1 | BI63: 0.33 | BJ63: 2.17 | BK63: 0.67 | BL63: 2.5 | BM63: 1.83 | BN63: 2.17 | BO63: 1.5 | BP63: 1.83 | BQ63: 1.5 | BR63: 2.33 | BS63: 2.83 | BT63: 2.17 | BU63: 3.5 | BV63: 3.83 | BW63: 1.5 | BX63: 1.67 | BY63: 2.83 | BZ63: 1.67 | CA63: 0.4 | CB63: 2 | CC63: 1 | CD63: 0.6 | CE63: 1.2 | CF63: 1.8 | CG63: 1.4 | CH63: 0.6 | CI63: 0 | CJ63: 0.4 | CK63: 1.2 | CL63: 0.6 | CM63: 0.2 | CN63: 1 | CO63: 0.8 | CP63: 0.4 | CQ63: 0.8 | CR63: 1 | CS63: 0.6 | CT63: 0.4 | CU63: 0.6 | CV63: 1 | CW63: 1.6 | CX63: 0.8 | CY63: 0.8 | CZ63: 0.4 | DN63: =SUM(BN63:DM63) -> 50.93 | DO63: 那覇市
C64: 南部 | D64: 1.63 | E64: 2.25 | F64: 1.25 | G64: 1.25 | H64: 1.63 | I64: 0.75 | J64: 1 | K64: 1.5 | L64: 2.25 | M64: 1.75 | N64: 1.5 | O64: 0.88 | P64: 1.13 | Q64: 2.63 | R64: 1.75 | S64: 1.5 | T64: 2.38 | U64: 1.63 | V64: 2.13 | W64: 2 | X64: 2.25 | Y64: 1.63 | Z64: 1.13 | AA64: 0 | AB64: 0.5 | AC64: 1.67 | AD64: 0.83 | AE64: 1.5 | AF64: 0.5 | AG64: 1.67 | AH64: 1.17 | AI64: 0.5 | AJ64: 1.8 | AK64: 1.17 | AL64: 2.17 | AM64: 2.5 | AN64: 0.83 | AO64: 1.67 | AP64: 1.5 | AQ64: 0.67 | AR64: 1.17 | AS64: 1 | AT64: 0.67 | AU64: 0.5 | AV64: 0.5 | AW64: 0.67 | AX64: 0.5 | AY64: 0.33 | AZ64: 0.67 | BA64: 0.67 | BB64: 0.33 | BC64: 0.83 | BD64: 1 | BE64: 1 | BF64: 1 | BG64: 1 | BH64: 1.17 | BI64: 0.67 | BJ64: 1.17 | BK64: 1.5 | BL64: 2.5 | BM64: 2 | BN64: 2 | BO64: 1 | BP64: 2 | BQ64: 0.33 | BR64: 1.33 | BS64: 1.33 | BT64: 2.83 | BU64: 1.5 | BV64: 2.5 | BW64: 2.67 | BX64: 3.5 | BY64: 1.83 | BZ64: 0.83 | CA64: 0.33 | CB64: 0.67 | CC64: 0 | CD64: 0.83 | CE64: 1 | CF64: 1 | CG64: 0.5 | CH64: 1.17 | CI64: 1 | CJ64: 0.83 | CK64: 0 | CL64: 0.17 | CM64: 0.67 | CN64: 0.33 | CO64: 1.17 | CP64: 1.5 | CQ64: 0.33 | CR64: 0.83 | CS64: 2.17 | CT64: 0.83 | CU64: 1.5 | CV64: 0.83 | CW64: 0.67 | CX64: 1.83 | CY64: 1.83 | CZ64: 0.33 | DN64: =SUM(BN64:DM64) -> 45.97 | DO64: 南部
C65: 宮古 | D65: 0.5 | E65: 0.5 | F65: 0.5 | G65: 0 | H65: 1 | I65: 0.5 | J65: 0 | K65: 1 | L65: 2.5 | M65: 2 | N65: 0.5 | O65: 1 | P65: 0.5 | Q65: 1 | R65: 0.5 | S65: 2 | T65: 1 | U65: 5.5 | V65: 1.5 | W65: 2.5 | X65: 1 | Y65: 0.5 | Z65: 2.5 | AA65: 0.5 | AB65: 0 | AC65: 0 | AD65: 0 | AE65: 0 | AF65: 0 | AG65: 1 | AH65: 0 | AI65: 1 | AJ65: 0 | AK65: 0 | AL65: 0 | AM65: 1 | AN65: 1 | AO65: 0 | AP65: 0 | AQ65: 0 | AR65: 0 | AS65: 0 | AT65: 0 | AU65: 0 | AV65: 0 | AW65: 0 | AX65: 1 | AY65: 0 | AZ65: 2 | BA65: 0 | BB65: 1 | BC65: 0 | BD65: 0 | BE65: 0 | BF65: 1 | BG65: 0 | BH65: 1 | BI65: 0 | BJ65: 0 | BK65: 0 | BL65: 1 | BM65: 1 | BN65: 2 | BO65: 0 | BP65: 0 | BQ65: 0 | BR65: 0 | BS65: 1 | BT65: 2 | BU65: 0 | BV65: 0 | BW65: 0 | BX65: 0 | BY65: 0 | BZ65: 0 | CA65: 0 | CB65: 0 | CC65: 1 | CD65: 1 | CE65: 0 | CF65: 0 | CG65: 0 | CH65: 0 | CI65: 1 | CJ65: 0 | CK65: 0 | CL65: 1 | CM65: 0 | CN65: 0 | CO65: 0 | CP65: 0 | CQ65: 0 | CR65: 1 | CS65: 0 | CT65: 0 | CU65: 0 | CV65: 0 | CW65: 1 | CX65: 0 | CY65: 0 | CZ65: 0 | DN65: =SUM(BN65:DM65) -> 11 | DO65: 宮古
C66: 八重山 | D66: 4 | E66: 3.5 | F66: 3 | G66: 7 | H66: 4.5 | I66: 7 | J66: 9 | K66: 10.5 | L66: 7.5 | M66: 10.5 | N66: 5 | O66: 11 | P66: 4.5 | Q66: 6 | R66: 10.5 | S66: 12.5 | T66: 9.5 | U66: 11.5 | V66: 10 | W66: 7 | X66: 6.5 | Y66: 7.5 | Z66: 8 | AA66: 4 | AB66: 4.5 | AC66: 8 | AD66: 2.5 | AE66: 2 | AF66: 2.5 | AG66: 1.5 | AH66: 2.5 | AI66: 0.5 | AJ66: 2.5 | AK66: 0.5 | AL66: 3 | AM66: 0.5 | AN66: 3 | AO66: 12 | AP66: 3.5 | AQ66: 2.5 | AR66: 4 | AS66: 0 | AT66: 1 | AU66: 1.5 | AV66: 2 | AW66: 2 | AX66: 0.5 | AY66: 0.5 | AZ66: 4 | BA66: 1.5 | BB66: 3 | BC66: 1.5 | BD66: 1 | BE66: 0.5 | BF66: 1 | BG66: 0.5 | BH66: 0.5 | BI66: 1 | BJ66: 0 | BK66: 0 | BL66: 0 | BM66: 0 | BN66: 0 | BO66: 2 | BP66: 0.5 | BQ66: 1.5 | BR66: 2 | BS66: 0.5 | BT66: 1.5 | BU66: 1.5 | BV66: 2.5 | BW66: 1 | BX66: 0.5 | BY66: 0.5 | BZ66: 1 | CA66: 1 | CB66: 2 | CC66: 0.5 | CD66: 1 | CE66: 0.5 | CF66: 1.5 | CG66: 3 | CH66: 3.5 | CI66: 2 | CJ66: 1 | CK66: 2 | CL66: 1.5 | CM66: 3 | CN66: 2.5 | CO66: 1.5 | CP66: 0.5 | CQ66: 0 | CR66: 1.5 | CS66: 3 | CT66: 2.5 | CU66: 3 | CV66: 1.5 | CW66: 0.5 | CX66: 0.5 | CY66: 1.5 | CZ66: 0.5 | DN66: =SUM(BN66:DM66) -> 56.5 | DO66: 八重山
C67: 沖縄県 | D67: 1.53 | E67: 1.72 | F67: 1.28 | G67: 1.88 | H67: 1.44 | I67: 1.28 | J67: 2 | K67: 2.34 | L67: 2.25 | M67: 2.31 | N67: 0.97 | O67: 2.13 | P67: 1.75 | Q67: 2.38 | R67: 2.41 | S67: 2.84 | T67: 2.44 | U67: 2.19 | V67: 2.38 | W67: 2.41 | X67: 2.19 | Y67: 2.06 | Z67: 1.84 | AA67: 0.75 | AB67: 1.28 | AC67: 1.8 | AD67: 1.16 | AE67: 1.4 | AF67: 0.76 | AG67: 1.52 | AH67: 1.48 | AI67: 0.92 | AJ67: 1.21 | AK67: 1.32 | AL67: 3.12 | AM67: 1.48 | AN67: 1.52 | AO67: 1.96 | AP67: 1.32 | AQ67: 1.44 | AR67: 2.12 | AS67: 0.8 | AT67: 1.08 | AU67: 0.84 | AV67: 1.24 | AW67: 1.28 | AX67: 1.68 | AY67: 0.8 | AZ67: 1.2 | BA67: 0.84 | BB67: 1.44 | BC67: 0.6 | BD67: 0.96 | BE67: 1.16 | BF67: 1.08 | BG67: 1.12 | BH67: 1.12 | BI67: 0.68 | BJ67: 1.68 | BK67: 1.16 | BL67: 1.56 | BM67: 1.72 | BN67: 1.32 | BO67: 1.28 | BP67: 1.56 | BQ67: 1.4 | BR67: 1.92 | BS67: 1.56 | BT67: 1.92 | BU67: 2.12 | BV67: 2.28 | BW67: 1.8 | BX67: 2 | BY67: 1.96 | BZ67: 1.4 | CA67: 0.79 | CB67: 1.25 | CC67: 0.71 | CD67: 1.29 | CE67: 1.67 | CF67: 1.04 | CG67: 1.29 | CH67: 1.38 | CI67: 0.96 | CJ67: 0.67 | CK67: 0.88 | CL67: 0.63 | CM67: 0.58 | CN67: 1 | CO67: 1.21 | CP67: 0.79 | CQ67: 0.54 | CR67: 1.21 | CS67: 1.13 | CT67: 0.71 | CU67: 1.25 | CV67: 0.96 | CW67: 0.92 | CX67: 0.96 | CY67: 1.25 | CZ67: 0.33 | DN67: =SUM(BN67:DM67) -> 47.92 | DO67: 沖縄県
C68: 全国 | D68: 1.94 | E68: 1.91 | F68: 1.68 | G68: 2.29 | H68: 2.04 | I68: 2.58 | J68: 2.61 | K68: 2.61 | L68: 2.61 | M68: 2.38 | N68: 0.61 | O68: 1.73 | P68: 1.84 | Q68: 2.37 | R68: 2.5 | S68: 2.48 | T68: 2.08 | U68: 2.44 | V68: 1.95 | W68: 2.33 | X68: 2.33 | Y68: 1.96 | Z68: 1.89 | AA68: 1.71 | AB68: 2.12 | AC68: 2.64 | AD68: 2.83 | AE68: 2.29 | AF68: 1.98 | AG68: 3.19 | AH68: 2.84 | AI68: 2.91 | AJ68: 3.26 | AK68: 3.03 | AL68: 2.6 | AM68: 2.54 | AN68: 2.36 | AO68: 2.3 | AP68: 2.2 | AQ68: 1.6 | AR68: 1.79 | AS68: 1.74 | AT68: 0.97 | AU68: 1.34 | AV68: 1.58 | AW68: 1.75 | AX68: 1.88 | AY68: 1.45 | AZ68: 1.49 | BA68: 1.81 | BB68: 1.93 | BC68: 1.51 | BD68: 1.89 | BE68: 2.18 | BF68: 1.97 | BG68: 2.46 | BH68: 2.38 | BI68: 2.06 | BJ68: 2.57 | BK68: 2.75 | BL68: 2.77 | BM68: 2.8 | BN68: 0.82 | BO68: 2.03 | BP68: 2.22 | BQ68: 2.87 | BR68: 2.82 | BS68: 2.91 | BT68: 2.66 | BU68: 2.87 | BV68: 2.21 | BW68: 2.8 | BX68: 2.95 | BY68: 2.63 | BZ68: 2.54 | CA68: 2.23 | CB68: 2.28 | CC68: 2.96 | CD68: 3.23 | CE68: 3.21 | CF68: 1.61 | CG68: 3.02 | CH68: 3.07 | CI68: 2.79 | CJ68: 2.58 | CK68: 2.58 | CL68: 2.48 | CM68: 2.25 | CN68: 2.06 | CO68: 1.89 | CP68: 1.75 | CQ68: 1.32 | CR68: 1.37 | CS68: 1.3 | CT68: 0.82 | CU68: 1.09 | CV68: 1.28 | CW68: 1.38 | CX68: 1.46 | CY68: 1.48 | CZ68: 0.72 | DN68: =SUM(BN68:DM68) -> 84.54 | DO68: 全国
B69: 感染性胃腸炎 | C69: 北部 | D69: 0 | E69: 1 | F69: 0 | G69: 0 | H69: 0 | I69: 0 | J69: 1 | K69: 0 | L69: 0 | M69: 0 | N69: 0 | O69: 0 | P69: 0 | Q69: 0 | R69: 1 | S69: 0 | T69: 2 | U69: 0 | V69: 1 | W69: 0 | X69: 0 | Y69: 0 | Z69: 1 | AA69: 0 | AB69: 1 | AC69: 0 | AD69: 0 | AE69: 1 | AF69: 0 | AG69: 0 | AH69: 1 | AI69: 1 | AJ69: 0 | AK69: 1 | AL69: 1 | AM69: 0 | AN69: 1 | AO69: 0 | AP69: 0 | AQ69: 0 | AR69: 0 | AS69: 1 | AT69: 0 | AU69: 0 | AV69: 0 | AW69: 1 | AX69: 1 | AY69: 0 | AZ69: 0 | BA69: 0 | BB69: 0 | BC69: 0 | BD69: 1 | BE69: 1 | BF69: 0 | BG69: 0 | BH69: 0 | BI69: 1 | BJ69: 0 | BK69: 0 | BL69: 0 | BM69: 1 | BN69: 0 | BO69: 0 | BP69: 1 | BQ69: 1 | BR69: 2 | BS69: 1 | BT69: 0 | BU69: 4 | BV69: 3 | BW69: 5 | BX69: 6 | BY69: 13 | BZ69: 2 | CA69: 1 | CB69: 10 | CC69: 2 | CD69: 9 | CE69: 9 | CF69: 11 | CG69: 2 | CH69: 7 | CI69: 0 | CJ69: 4 | CK69: 8 | CL69: 6 | CM69: 6 | CN69: 10 | CO69: 10 | CP69: 21 | CQ69: 14 | CR69: 6 | CS69: 9 | CT69: 4 | CU69: 7 | CV69: 7 | CW69: 4 | CX69: 5 | CY69: 8 | CZ69: 8 | DN69: =SUM(BN69:DM69) -> 226 | DO69: 北部
B70: （報告数） | C70: 中部 | D70: 16 | E70: 13 | F70: 17 | G70: 13 | H70: 16 | I70: 13 | J70: 17 | K70: 19 | L70: 16 | M70: 16 | N70: 2 | O70: 10 | P70: 18 | Q70: 32 | R70: 20 | S70: 21 | T70: 6 | U70: 43 | V70: 34 | W70: 17 | X70: 28 | Y70: 19 | Z70: 17 | AA70: 3 | AB70: 11 | AC70: 9 | AD70: 7 | AE70: 6 | AF70: 8 | AG70: 15 | AH70: 8 | AI70: 15 | AJ70: 2 | AK70: 18 | AL70: 13 | AM70: 11 | AN70: 24 | AO70: 13 | AP70: 10 | AQ70: 12 | AR70: 15 | AS70: 32 | AT70: 11 | AU70: 11 | AV70: 19 | AW70: 18 | AX70: 27 | AY70: 8 | AZ70: 18 | BA70: 7 | BB70: 14 | BC70: 20 | BD70: 10 | BE70: 14 | BF70: 12 | BG70: 13 | BH70: 9 | BI70: 7 | BJ70: 14 | BK70: 15 | BL70: 15 | BM70: 14 | BN70: 6 | BO70: 12 | BP70: 4 | BQ70: 4 | BR70: 9 | BS70: 14 | BT70: 6 | BU70: 4 | BV70: 10 | BW70: 4 | BX70: 20 | BY70: 15 | BZ70: 10 | CA70: 11 | CB70: 15 | CC70: 2 | CD70: 5 | CE70: 10 | CF70: 5 | CG70: 13 | CH70: 16 | CI70: 6 | CJ70: 15 | CK70: 6 | CL70: 9 | CM70: 0 | CN70: 10 | CO70: 15 | CP70: 16 | CQ70: 18 | CR70: 24 | CS70: 14 | CT70: 3 | CU70: 16 | CV70: 12 | CW70: 20 | CX70: 18 | CY70: 15 | CZ70: 3 | DN70: =SUM(BN70:DM70) -> 415 | DO70: 中部
C71: 那覇市 | D71: 8 | E71: 8 | F71: 17 | G71: 17 | H71: 12 | I71: 11 | J71: 18 | K71: 18 | L71: 22 | M71: 31 | N71: 43 | O71: 22 | P71: 27 | Q71: 48 | R71: 24 | S71: 33 | T71: 69 | U71: 59 | V71: 89 | W71: 71 | X71: 74 | Y71: 52 | Z71: 46 | AA71: 43 | AB71: 39 | AC71: 44 | AD71: 30 | AE71: 40 | AF71: 41 | AG71: 39 | AH71: 32 | AI71: 29 | AJ71: 22 | AK71: 21 | AL71: 25 | AM71: 32 | AN71: 22 | AO71: 35 | AP71: 36 | AQ71: 41 | AR71: 34 | AS71: 34 | AT71: 24 | AU71: 32 | AV71: 25 | AW71: 44 | AX71: 39 | AY71: 31 | AZ71: 25 | BA71: 30 | BB71: 29 | BC71: 28 | BD71: 29 | BE71: 25 | BF71: 26 | BG71: 38 | BH71: 29 | BI71: 33 | BJ71: 26 | BK71: 43 | BL71: 38 | BM71: 42 | BN71: 61 | BO71: 21 | BP71: 41 | BQ71: 51 | BR71: 28 | BS71: 40 | BT71: 48 | BU71: 30 | BV71: 33 | BW71: 32 | BX71: 25 | BY71: 42 | BZ71: 38 | CA71: 41 | CB71: 28 | CC71: 24 | CD71: 31 | CE71: 28 | CF71: 25 | CG71: 20 | CH71: 13 | CI71: 19 | CJ71: 37 | CK71: 13 | CL71: 22 | CM71: 34 | CN71: 16 | CO71: 17 | CP71: 27 | CQ71: 30 | CR71: 23 | CS71: 21 | CT71: 39 | CU71: 21 | CV71: 34 | CW71: 30 | CX71: 20 | CY71: 35 | CZ71: 47 | DN71: =SUM(BN71:DM71) -> 1185 | DO71: 那覇市
C72: 南部 | D72: 22 | E72: 15 | F72: 13 | G72: 12 | H72: 12 | I72: 12 | J72: 19 | K72: 23 | L72: 21 | M72: 12 | N72: 10 | O72: 20 | P72: 17 | Q72: 27 | R72: 20 | S72: 38 | T72: 17 | U72: 31 | V72: 23 | W72: 15 | X72: 23 | Y72: 12 | Z72: 21 | AA72: 7 | AB72: 9 | AC72: 11 | AD72: 52 | AE72: 40 | AF72: 41 | AG72: 67 | AH72: 48 | AI72: 59 | AJ72: 38 | AK72: 68 | AL72: 54 | AM72: 40 | AN72: 50 | AO72: 47 | AP72: 64 | AQ72: 43 | AR72: 52 | AS72: 47 | AT72: 29 | AU72: 72 | AV72: 46 | AW72: 39 | AX72: 42 | AY72: 29 | AZ72: 44 | BA72: 42 | BB72: 41 | BC72: 41 | BD72: 49 | BE72: 39 | BF72: 31 | BG72: 45 | BH72: 52 | BI72: 34 | BJ72: 33 | BK72: 27 | BL72: 34 | BM72: 35 | BN72: 24 | BO72: 47 | BP72: 43 | BQ72: 59 | BR72: 52 | BS72: 44 | BT72: 55 | BU72: 47 | BV72: 36 | BW72: 38 | BX72: 39 | BY72: 35 | BZ72: 36 | CA72: 32 | CB72: 28 | CC72: 29 | CD72: 34 | CE72: 52 | CF72: 31 | CG72: 40 | CH72: 40 | CI72: 32 | CJ72: 41 | CK72: 50 | CL72: 57 | CM72: 31 | CN72: 32 | CO72: 36 | CP72: 52 | CQ72: 48 | CR72: 71 | CS72: 61 | CT72: 50 | CU72: 48 | CV72: 41 | CW72: 55 | CX72: 49 | CY72: 59 | CZ72: 34 | DN72: =SUM(BN72:DM72) -> 1688 | DO72: 南部
C73: 宮古 | D73: 0 | E73: 0 | F73: 1 | G73: 0 | H73: 2 | I73: 1 | J73: 0 | K73: 0 | L73: 0 | M73: 1 | N73: 0 | O73: 6 | P73: 4 | Q73: 1 | R73: 1 | S73: 0 | T73: 1 | U73: 0 | V73: 0 | W73: 6 | X73: 1 | Y73: 1 | Z73: 0 | AA73: 2 | AB73: 4 | AC73: 0 | AD73: 0 | AE73: 0 | AF73: 1 | AG73: 1 | AH73: 2 | AI73: 1 | AJ73: 1 | AK73: 0 | AL73: 0 | AM73: 0 | AN73: 2 | AO73: 0 | AP73: 2 | AQ73: 0 | AR73: 1 | AS73: 3 | AT73: 1 | AU73: 1 | AV73: 2 | AW73: 1 | AX73: 2 | AY73: 0 | AZ73: 1 | BA73: 0 | BB73: 2 | BC73: 0 | BD73: 1 | BE73: 1 | BF73: 0 | BG73: 2 | BH73: 1 | BI73: 1 | BJ73: 0 | BK73: 3 | BL73: 1 | BM73: 4 | BN73: 2 | BO73: 1 | BP73: 1 | BQ73: 1 | BR73: 0 | BS73: 0 | BT73: 3 | BU73: 4 | BV73: 3 | BW73: 2 | BX73: 1 | BY73: 1 | BZ73: 0 | CA73: 1 | CB73: 2 | CC73: 0 | CD73: 1 | CE73: 2 | CF73: 0 | CG73: 1 | CH73: 0 | CI73: 6 | CJ73: 1 | CK73: 2 | CL73: 3 | CM73: 4 | CN73: 9 | CO73: 1 | CP73: 2 | CQ73: 3 | CR73: 3 | CS73: 0 | CT73: 4 | CU73: 3 | CV73: 1 | CW73: 0 | CX73: 3 | CY73: 4 | CZ73: 1 | DN73: =SUM(BN73:DM73) -> 76 | DO73: 宮古
C74: 八重山 | D74: 4 | E74: 4 | F74: 7 | G74: 7 | H74: 4 | I74: 7 | J74: 3 | K74: 14 | L74: 15 | M74: 11 | N74: 17 | O74: 4 | P74: 9 | Q74: 4 | R74: 6 | S74: 5 | T74: 4 | U74: 7 | V74: 13 | W74: 5 | X74: 6 | Y74: 10 | Z74: 7 | AA74: 8 | AB74: 9 | AC74: 6 | AD74: 11 | AE74: 9 | AF74: 8 | AG74: 5 | AH74: 8 | AI74: 5 | AJ74: 8 | AK74: 4 | AL74: 5 | AM74: 3 | AN74: 3 | AO74: 2 | AP74: 3 | AQ74: 0 | AR74: 1 | AS74: 4 | AT74: 4 | AU74: 3 | AV74: 2 | AW74: 4 | AX74: 7 | AY74: 11 | AZ74: 2 | BA74: 0 | BB74: 2 | BC74: 4 | BD74: 3 | BE74: 1 | BF74: 2 | BG74: 0 | BH74: 2 | BI74: 5 | BJ74: 2 | BK74: 9 | BL74: 6 | BM74: 2 | BN74: 7 | BO74: 9 | BP74: 7 | BQ74: 11 | BR74: 8 | BS74: 5 | BT74: 8 | BU74: 1 | BV74: 3 | BW74: 4 | BX74: 5 | BY74: 5 | BZ74: 5 | CA74: 2 | CB74: 0 | CC74: 3 | CD74: 3 | CE74: 8 | CF74: 5 | CG74: 3 | CH74: 4 | CI74: 0 | CJ74: 4 | CK74: 2 | CL74: 3 | CM74: 1 | CN74: 3 | CO74: 2 | CP74: 3 | CQ74: 5 | CR74: 5 | CS74: 3 | CT74: 4 | CU74: 2 | CV74: 3 | CW74: 2 | CX74: 4 | CY74: 0 | CZ74: 5 | DN74: =SUM(BN74:DM74) -> 157 | DO74: 八重山
C75: 沖縄県 | D75: 50 | E75: 41 | F75: 55 | G75: 49 | H75: 46 | I75: 44 | J75: 58 | K75: 74 | L75: 74 | M75: 71 | N75: 72 | O75: 62 | P75: 75 | Q75: 112 | R75: 72 | S75: 97 | T75: 99 | U75: 140 | V75: 160 | W75: 114 | X75: 132 | Y75: 94 | Z75: 92 | AA75: 63 | AB75: 73 | AC75: 70 | AD75: 100 | AE75: 96 | AF75: 99 | AG75: 127 | AH75: 99 | AI75: 110 | AJ75: 71 | AK75: 112 | AL75: 98 | AM75: 86 | AN75: 102 | AO75: 97 | AP75: 115 | AQ75: 96 | AR75: 103 | AS75: 121 | AT75: 69 | AU75: 119 | AV75: 94 | AW75: 107 | AX75: 118 | AY75: 79 | AZ75: 90 | BA75: 79 | BB75: 88 | BC75: 93 | BD75: 93 | BE75: 81 | BF75: 71 | BG75: 98 | BH75: 93 | BI75: 81 | BJ75: 75 | BK75: 97 | BL75: 94 | BM75: 98 | BN75: 100 | BO75: 90 | BP75: 97 | BQ75: 127 | BR75: 99 | BS75: 104 | BT75: 120 | BU75: 90 | BV75: 88 | BW75: 85 | BX75: 96 | BY75: 111 | BZ75: 91 | CA75: 88 | CB75: 83 | CC75: 60 | CD75: 83 | CE75: 109 | CF75: 77 | CG75: 79 | CH75: 80 | CI75: 63 | CJ75: 102 | CK75: 81 | CL75: 100 | CM75: 76 | CN75: 80 | CO75: 81 | CP75: 121 | CQ75: 118 | CR75: 132 | CS75: 108 | CT75: 104 | CU75: 97 | CV75: 98 | CW75: 111 | CX75: 99 | CY75: 121 | CZ75: 98 | DN75: =SUM(BN75:DM75) -> 3747 | DO75: 沖縄県
C76: 全国 | D76: 8359 | E76: 8706 | F76: 7693 | G76: 9968 | H76: 9668 | I76: 12074 | J76: 13677 | K76: 15354 | L76: 16305 | M76: 15660 | N76: 2881 | O76: 12935 | P76: 14134 | Q76: 18956 | R76: 21458 | S76: 23101 | T76: 24106 | U76: 32220 | V76: 30748 | W76: 35553 | X76: 34609 | Y76: 28141 | Z76: 24790 | AA76: 19251 | AB76: 19581 | AC76: 20169 | AD76: 19774 | AE76: 15672 | AF76: 13636 | AG76: 18117 | AH76: 16422 | AI76: 15346 | AJ76: 15247 | AK76: 14739 | AL76: 13621 | AM76: 13125 | AN76: 12819 | AO76: 12699 | AP76: 12454 | AQ76: 9880 | AR76: 11236 | AS76: 10572 | AT76: 5296 | AU76: 9469 | AV76: 10159 | AW76: 10963 | AX76: 11033 | AY76: 9123 | AZ76: 8615 | BA76: 9506 | BB76: 9169 | BC76: 8020 | BD76: 8421 | BE76: 8946 | BF76: 7993 | BG76: 9346 | BH76: 9394 | BI76: 8307 | BJ76: 9876 | BK76: 11091 | BL76: 12510 | BM76: 13079 | BN76: 3708 | BO76: 13293 | BP76: 15412 | BQ76: 19741 | BR76: 21757 | BS76: 21866 | BT76: 18419 | BU76: 18439 | BV76: 14538 | BW76: 15024 | BX76: 14545 | BY76: 12759 | BZ76: 12730 | CA76: 10481 | CB76: 10396 | CC76: 11424 | CD76: 12073 | CE76: 11088 | CF76: 6970 | CG76: 11317 | CH76: 11886 | CI76: 11610 | CJ76: 11033 | CK76: 11140 | CL76: 10722 | CM76: 10373 | CN76: 10023 | CO76: 9669 | CP76: 9015 | CQ76: 7206 | CR76: 7724 | CS76: 7674 | CT76: 4432 | CU76: 7284 | CV76: 8233 | CW76: 8679 | CX76: 8555 | CY76: 8300 | CZ76: 4990 | DN76: =SUM(BN76:DM76) -> 444528 | DO76: 全国
B77: 感染性胃腸炎 | C77: 北部 | D77: 0 | E77: 0.33 | F77: 0 | G77: 0 | H77: 0 | I77: 0 | J77: 0.33 | K77: 0 | L77: 0 | M77: 0 | N77: 0 | O77: 0 | P77: 0 | Q77: 0 | R77: 0.33 | S77: 0 | T77: 0.67 | U77: 0 | V77: 0.33 | W77: 0 | X77: 0 | Y77: 0 | Z77: 0.33 | AA77: 0 | AB77: 0.33 | AC77: 0 | AD77: 0 | AE77: 0.33 | AF77: 0 | AG77: 0 | AH77: 0.33 | AI77: 0.33 | AJ77: 0 | AK77: 0.33 | AL77: 0.33 | AM77: 0 | AN77: 0.33 | AO77: 0 | AP77: 0 | AQ77: 0 | AR77: 0 | AS77: 0.33 | AT77: 0 | AU77: 0 | AV77: 0 | AW77: 0.33 | AX77: 0.33 | AY77: 0 | AZ77: 0 | BA77: 0 | BB77: 0 | BC77: 0 | BD77: 0.33 | BE77: 0.33 | BF77: 0 | BG77: 0 | BH77: 0 | BI77: 0.33 | BJ77: 0 | BK77: 0 | BL77: 0 | BM77: 0.33 | BN77: 0 | BO77: 0 | BP77: 0.33 | BQ77: 0.33 | BR77: 0.67 | BS77: 0.33 | BT77: 0 | BU77: 1.33 | BV77: 1 | BW77: 1.67 | BX77: 2 | BY77: 4.33 | BZ77: 0.67 | CA77: 0.33 | CB77: 3.33 | CC77: 0.67 | CD77: 3 | CE77: 3 | CF77: 3.67 | CG77: 0.67 | CH77: 2.33 | CI77: 0 | CJ77: 1.33 | CK77: 2.67 | CL77: 2 | CM77: 2 | CN77: 3.33 | CO77: 3.33 | CP77: 7 | CQ77: 4.67 | CR77: 2 | CS77: 3 | CT77: 1.33 | CU77: 2.33 | CV77: 2.33 | CW77: 1.33 | CX77: 1.67 | CY77: 2.67 | CZ77: 2.67 | DN77: =SUM(BN77:DM77) -> 75.32 | DO77: 北部
B78: （定点あたり報告数） | C78: 中部 | D78: 1.6 | E78: 1.3 | F78: 1.7 | G78: 1.3 | H78: 1.6 | I78: 1.3 | J78: 1.7 | K78: 1.9 | L78: 1.6 | M78: 1.6 | N78: 0.2 | O78: 1 | P78: 1.8 | Q78: 3.2 | R78: 2 | S78: 2.1 | T78: 0.6 | U78: 4.3 | V78: 3.4 | W78: 1.7 | X78: 2.8 | Y78: 1.9 | Z78: 1.7 | AA78: 0.3 | AB78: 1.57 | AC78: 1.29 | AD78: 1 | AE78: 0.86 | AF78: 1.14 | AG78: 2.14 | AH78: 1.14 | AI78: 2.14 | AJ78: 0.29 | AK78: 2.57 | AL78: 1.86 | AM78: 1.57 | AN78: 3.43 | AO78: 1.86 | AP78: 1.43 | AQ78: 1.71 | AR78: 2.14 | AS78: 4.57 | AT78: 1.57 | AU78: 1.57 | AV78: 2.71 | AW78: 2.57 | AX78: 3.86 | AY78: 1.14 | AZ78: 2.57 | BA78: 1 | BB78: 2 | BC78: 2.86 | BD78: 1.43 | BE78: 2 | BF78: 1.71 | BG78: 1.86 | BH78: 1.29 | BI78: 1 | BJ78: 2 | BK78: 2.14 | BL78: 2.14 | BM78: 2 | BN78: 0.86 | BO78: 1.71 | BP78: 0.57 | BQ78: 0.57 | BR78: 1.29 | BS78: 2 | BT78: 0.86 | BU78: 0.57 | BV78: 1.43 | BW78: 0.57 | BX78: 2.86 | BY78: 2.14 | BZ78: 1.43 | CA78: 1.57 | CB78: 2.14 | CC78: 0.29 | CD78: 0.71 | CE78: 1.43 | CF78: 0.71 | CG78: 1.86 | CH78: 2.29 | CI78: 0.86 | CJ78: 2.14 | CK78: 0.86 | CL78: 1.29 | CM78: 0 | CN78: 1.43 | CO78: 2.14 | CP78: 2.29 | CQ78: 2.57 | CR78: 3.43 | CS78: 2 | CT78: 0.43 | CU78: 2.29 | CV78: 1.71 | CW78: 2.86 | CX78: 2.57 | CY78: 2.14 | CZ78: 0.43 | DN78: =SUM(BN78:DM78) -> 59.3 | DO78: 中部
B79: 警報（20以上。終息基準値は10未満） | C79: 那覇市 | D79: 1.14 | E79: 1.14 | F79: 2.43 | G79: 2.43 | H79: 1.71 | I79: 1.57 | J79: 2.57 | K79: 2.57 | L79: 3.14 | M79: 4.43 | N79: 6.14 | O79: 3.14 | P79: 3.86 | Q79: 6.86 | R79: 3.43 | S79: 4.71 | T79: 9.86 | U79: 8.43 | V79: 12.71 | W79: 10.14 | X79: 10.57 | Y79: 7.43 | Z79: 6.57 | AA79: 6.14 | AB79: 6.5 | AC79: 7.33 | AD79: 5 | AE79: 6.67 | AF79: 6.83 | AG79: 6.5 | AH79: 5.33 | AI79: 4.83 | AJ79: 3.67 | AK79: 3.5 | AL79: 4.17 | AM79: 5.33 | AN79: 3.67 | AO79: 5.83 | AP79: 6 | AQ79: 6.83 | AR79: 5.67 | AS79: 5.67 | AT79: 4 | AU79: 5.33 | AV79: 4.17 | AW79: 7.33 | AX79: 6.5 | AY79: 5.17 | AZ79: 4.17 | BA79: 5 | BB79: 4.83 | BC79: 4.67 | BD79: 4.83 | BE79: 4.17 | BF79: 4.33 | BG79: 6.33 | BH79: 4.83 | BI79: 5.5 | BJ79: 4.33 | BK79: 7.17 | BL79: 6.33 | BM79: 7 | BN79: 10.17 | BO79: 3.5 | BP79: 6.83 | BQ79: 8.5 | BR79: 4.67 | BS79: 6.67 | BT79: 8 | BU79: 5 | BV79: 5.5 | BW79: 5.33 | BX79: 4.17 | BY79: 7 | BZ79: 6.33 | CA79: 8.2 | CB79: 5.6 | CC79: 4.8 | CD79: 6.2 | CE79: 5.6 | CF79: 5 | CG79: 4 | CH79: 2.6 | CI79: 3.8 | CJ79: 7.4 | CK79: 2.6 | CL79: 4.4 | CM79: 6.8 | CN79: 3.2 | CO79: 3.4 | CP79: 5.4 | CQ79: 6 | CR79: 4.6 | CS79: 4.2 | CT79: 7.8 | CU79: 4.2 | CV79: 6.8 | CW79: 6 | CX79: 4 | CY79: 7 | CZ79: 9.4 | DN79: =SUM(BN79:DM79) -> 220.67 | DO79: 那覇市
C80: 南部 | D80: 2.75 | E80: 1.88 | F80: 1.63 | G80: 1.5 | H80: 1.5 | I80: 1.5 | J80: 2.38 | K80: 2.88 | L80: 2.63 | M80: 1.5 | N80: 1.25 | O80: 2.5 | P80: 2.13 | Q80: 3.38 | R80: 2.5 | S80: 4.75 | T80: 2.13 | U80: 3.88 | V80: 2.88 | W80: 1.88 | X80: 2.88 | Y80: 1.5 | Z80: 2.63 | AA80: 0.88 | AB80: 1.5 | AC80: 1.83 | AD80: 8.67 | AE80: 6.67 | AF80: 6.83 | AG80: 11.17 | AH80: 8 | AI80: 9.83 | AJ80: 7.6 | AK80: 11.33 | AL80: 9 | AM80: 6.67 | AN80: 8.33 | AO80: 7.83 | AP80: 10.67 | AQ80: 7.17 | AR80: 8.67 | AS80: 7.83 | AT80: 4.83 | AU80: 12 | AV80: 7.67 | AW80: 6.5 | AX80: 7 | AY80: 4.83 | AZ80: 7.33 | BA80: 7 | BB80: 6.83 | BC80: 6.83 | BD80: 8.17 | BE80: 6.5 | BF80: 5.17 | BG80: 7.5 | BH80: 8.67 | BI80: 5.67 | BJ80: 5.5 | BK80: 4.5 | BL80: 5.67 | BM80: 5.83 | BN80: 4 | BO80: 7.83 | BP80: 7.17 | BQ80: 9.83 | BR80: 8.67 | BS80: 7.33 | BT80: 9.17 | BU80: 7.83 | BV80: 6 | BW80: 6.33 | BX80: 6.5 | BY80: 5.83 | BZ80: 6 | CA80: 5.33 | CB80: 4.67 | CC80: 4.83 | CD80: 5.67 | CE80: 8.67 | CF80: 5.17 | CG80: 6.67 | CH80: 6.67 | CI80: 5.33 | CJ80: 6.83 | CK80: 8.33 | CL80: 9.5 | CM80: 5.17 | CN80: 5.33 | CO80: 6 | CP80: 8.67 | CQ80: 8 | CR80: 11.83 | CS80: 10.17 | CT80: 8.33 | CU80: 8 | CV80: 6.83 | CW80: 9.17 | CX80: 8.17 | CY80: 9.83 | CZ80: 5.67 | DN80: =SUM(BN80:DM80) -> 281.33 | DO80: 南部
C81: 宮古 | D81: 0 | E81: 0 | F81: 0.5 | G81: 0 | H81: 1 | I81: 0.5 | J81: 0 | K81: 0 | L81: 0 | M81: 0.5 | N81: 0 | O81: 3 | P81: 2 | Q81: 0.5 | R81: 0.5 | S81: 0 | T81: 0.5 | U81: 0 | V81: 0 | W81: 3 | X81: 0.5 | Y81: 0.5 | Z81: 0 | AA81: 1 | AB81: 4 | AC81: 0 | AD81: 0 | AE81: 0 | AF81: 1 | AG81: 1 | AH81: 2 | AI81: 1 | AJ81: 1 | AK81: 0 | AL81: 0 | AM81: 0 | AN81: 2 | AO81: 0 | AP81: 2 | AQ81: 0 | AR81: 1 | AS81: 3 | AT81: 1 | AU81: 1 | AV81: 2 | AW81: 1 | AX81: 2 | AY81: 0 | AZ81: 1 | BA81: 0 | BB81: 2 | BC81: 0 | BD81: 1 | BE81: 1 | BF81: 0 | BG81: 2 | BH81: 1 | BI81: 1 | BJ81: 0 | BK81: 3 | BL81: 1 | BM81: 4 | BN81: 2 | BO81: 1 | BP81: 1 | BQ81: 1 | BR81: 0 | BS81: 0 | BT81: 3 | BU81: 4 | BV81: 3 | BW81: 2 | BX81: 1 | BY81: 1 | BZ81: 0 | CA81: 1 | CB81: 2 | CC81: 0 | CD81: 1 | CE81: 2 | CF81: 0 | CG81: 1 | CH81: 0 | CI81: 6 | CJ81: 1 | CK81: 2 | CL81: 3 | CM81: 4 | CN81: 9 | CO81: 1 | CP81: 2 | CQ81: 3 | CR81: 3 | CS81: 0 | CT81: 4 | CU81: 3 | CV81: 1 | CW81: 0 | CX81: 3 | CY81: 4 | CZ81: 1 | DN81: =SUM(BN81:DM81) -> 76 | DO81: 宮古
C82: 八重山 | D82: 2 | E82: 2 | F82: 3.5 | G82: 3.5 | H82: 2 | I82: 3.5 | J82: 1.5 | K82: 7 | L82: 7.5 | M82: 5.5 | N82: 8.5 | O82: 2 | P82: 4.5 | Q82: 2 | R82: 3 | S82: 2.5 | T82: 2 | U82: 3.5 | V82: 6.5 | W82: 2.5 | X82: 3 | Y82: 5 | Z82: 3.5 | AA82: 4 | AB82: 4.5 | AC82: 3 | AD82: 5.5 | AE82: 4.5 | AF82: 4 | AG82: 2.5 | AH82: 4 | AI82: 2.5 | AJ82: 4 | AK82: 2 | AL82: 2.5 | AM82: 1.5 | AN82: 1.5 | AO82: 1 | AP82: 1.5 | AQ82: 0 | AR82: 0.5 | AS82: 2 | AT82: 2 | AU82: 1.5 | AV82: 1 | AW82: 2 | AX82: 3.5 | AY82: 5.5 | AZ82: 1 | BA82: 0 | BB82: 1 | BC82: 2 | BD82: 1.5 | BE82: 0.5 | BF82: 1 | BG82: 0 | BH82: 1 | BI82: 2.5 | BJ82: 1 | BK82: 4.5 | BL82: 3 | BM82: 1 | BN82: 3.5 | BO82: 4.5 | BP82: 3.5 | BQ82: 5.5 | BR82: 4 | BS82: 2.5 | BT82: 4 | BU82: 0.5 | BV82: 1.5 | BW82: 2 | BX82: 2.5 | BY82: 2.5 | BZ82: 2.5 | CA82: 1 | CB82: 0 | CC82: 1.5 | CD82: 1.5 | CE82: 4 | CF82: 2.5 | CG82: 1.5 | CH82: 2 | CI82: 0 | CJ82: 2 | CK82: 1 | CL82: 1.5 | CM82: 0.5 | CN82: 1.5 | CO82: 1 | CP82: 1.5 | CQ82: 2.5 | CR82: 2.5 | CS82: 1.5 | CT82: 2 | CU82: 1 | CV82: 1.5 | CW82: 1 | CX82: 2 | CY82: 0 | CZ82: 2.5 | DN82: =SUM(BN82:DM82) -> 78.5 | DO82: 八重山
C83: 沖縄県 | D83: 1.56 | E83: 1.28 | F83: 1.72 | G83: 1.53 | H83: 1.44 | I83: 1.38 | J83: 1.81 | K83: 2.31 | L83: 2.31 | M83: 2.22 | N83: 2.25 | O83: 1.94 | P83: 2.34 | Q83: 3.5 | R83: 2.25 | S83: 3.03 | T83: 3.09 | U83: 4.38 | V83: 5 | W83: 3.56 | X83: 4.13 | Y83: 2.94 | Z83: 2.88 | AA83: 1.97 | AB83: 2.92 | AC83: 2.8 | AD83: 4 | AE83: 3.84 | AF83: 3.96 | AG83: 5.08 | AH83: 3.96 | AI83: 4.4 | AJ83: 2.96 | AK83: 4.48 | AL83: 3.92 | AM83: 3.44 | AN83: 4.08 | AO83: 3.88 | AP83: 4.6 | AQ83: 3.84 | AR83: 4.12 | AS83: 4.84 | AT83: 2.76 | AU83: 4.76 | AV83: 3.76 | AW83: 4.28 | AX83: 4.72 | AY83: 3.16 | AZ83: 3.6 | BA83: 3.16 | BB83: 3.52 | BC83: 3.72 | BD83: 3.72 | BE83: 3.24 | BF83: 2.84 | BG83: 3.92 | BH83: 3.72 | BI83: 3.24 | BJ83: 3 | BK83: 3.88 | BL83: 3.76 | BM83: 3.92 | BN83: 4 | BO83: 3.6 | BP83: 3.88 | BQ83: 5.08 | BR83: 3.96 | BS83: 4.16 | BT83: 4.8 | BU83: 3.6 | BV83: 3.52 | BW83: 3.4 | BX83: 3.84 | BY83: 4.44 | BZ83: 3.64 | CA83: 3.67 | CB83: 3.46 | CC83: 2.5 | CD83: 3.46 | CE83: 4.54 | CF83: 3.21 | CG83: 3.29 | CH83: 3.33 | CI83: 2.63 | CJ83: 4.25 | CK83: 3.38 | CL83: 4.17 | CM83: 3.17 | CN83: 3.33 | CO83: 3.38 | CP83: 5.04 | CQ83: 4.92 | CR83: 5.5 | CS83: 4.5 | CT83: 4.33 | CU83: 4.04 | CV83: 4.08 | CW83: 4.63 | CX83: 4.13 | CY83: 5.04 | CZ83: 4.08 | DN83: =SUM(BN83:DM83) -> 153.98 | DO83: 沖縄県
C84: 全国 | D84: 2.66 | E84: 2.78 | F84: 2.45 | G84: 3.18 | H84: 3.08 | I84: 3.85 | J84: 4.35 | K84: 4.89 | L84: 5.19 | M84: 5 | N84: 1.09 | O84: 4.13 | P84: 4.52 | Q84: 6.06 | R84: 6.86 | S84: 7.39 | T84: 7.7 | U84: 10.32 | V84: 9.83 | W84: 11.38 | X84: 11.1 | Y84: 9.04 | Z84: 7.95 | AA84: 6.41 | AB84: 8.26 | AC84: 8.54 | AD84: 8.39 | AE84: 6.71 | AF84: 5.78 | AG84: 7.68 | AH84: 6.96 | AI84: 6.51 | AJ84: 6.47 | AK84: 6.25 | AL84: 5.81 | AM84: 5.57 | AN84: 5.44 | AO84: 5.39 | AP84: 5.3 | AQ84: 4.19 | AR84: 4.77 | AS84: 4.59 | AT84: 2.46 | AU84: 4.08 | AV84: 4.33 | AW84: 4.66 | AX84: 4.81 | AY84: 3.9 | AZ84: 3.67 | BA84: 4.05 | BB84: 3.92 | BC84: 3.42 | BD84: 3.58 | BE84: 3.82 | BF84: 3.4 | BG84: 3.98 | BH84: 4.01 | BI84: 3.55 | BJ84: 4.21 | BK84: 4.73 | BL84: 5.33 | BM84: 5.59 | BN84: 1.9 | BO84: 5.78 | BP84: 6.68 | BQ84: 8.55 | BR84: 9.42 | BS84: 9.48 | BT84: 7.98 | BU84: 8.02 | BV84: 6.31 | BW84: 6.52 | BX84: 6.32 | BY84: 5.54 | BZ84: 5.54 | CA84: 4.62 | CB84: 4.61 | CC84: 5.06 | CD84: 5.35 | CE84: 4.94 | CF84: 3.09 | CG84: 5.01 | CH84: 5.27 | CI84: 5.14 | CJ84: 4.88 | CK84: 4.94 | CL84: 4.82 | CM84: 4.6 | CN84: 4.45 | CO84: 4.29 | CP84: 4 | CQ84: 3.2 | CR84: 3.43 | CS84: 3.46 | CT84: 2.11 | CU84: 3.29 | CV84: 3.67 | CW84: 3.86 | CX84: 3.8 | CY84: 3.7 | CZ84: 2.22 | DN84: =SUM(BN84:DM84) -> 195.85 | DO84: 全国
B85: 水痘 | C85: 北部 | D85: 0 | E85: 1 | F85: 1 | G85: 2 | H85: 0 | I85: 7 | J85: 3 | K85: 5 | L85: 3 | M85: 3 | N85: 5 | O85: 3 | P85: 1 | Q85: 3 | R85: 3 | S85: 4 | T85: 1 | U85: 2 | V85: 1 | W85: 4 | X85: 6 | Y85: 4 | Z85: 6 | AA85: 2 | AB85: 2 | AC85: 12 | AD85: 5 | AE85: 0 | AF85: 0 | AG85: 0 | AH85: 2 | AI85: 3 | AJ85: 4 | AK85: 2 | AL85: 6 | AM85: 2 | AN85: 6 | AO85: 1 | AP85: 0 | AQ85: 0 | AR85: 0 | AS85: 0 | AT85: 0 | AU85: 2 | AV85: 0 | AW85: 0 | AX85: 1 | AY85: 1 | AZ85: 1 | BA85: 0 | BB85: 5 | BC85: 7 | BD85: 3 | BE85: 3 | BF85: 4 | BG85: 1 | BH85: 1 | BI85: 2 | BJ85: 4 | BK85: 2 | BL85: 1 | BM85: 1 | BN85: 6 | BO85: 3 | BP85: 0 | BQ85: 1 | BR85: 1 | BS85: 1 | BT85: 0 | BU85: 0 | BV85: 0 | BW85: 0 | BX85: 1 | BY85: 0 | BZ85: 0 | CA85: 0 | CB85: 1 | CC85: 0 | CD85: 1 | CE85: 0 | CF85: 0 | CG85: 0 | CH85: 1 | CI85: 0 | CJ85: 0 | CK85: 0 | CL85: 1 | CM85: 0 | CN85: 2 | CO85: 0 | CP85: 0 | CQ85: 1 | CR85: 1 | CS85: 1 | CT85: 1 | CU85: 0 | CV85: 2 | CW85: 0 | CX85: 0 | CY85: 0 | CZ85: 3 | DN85: =SUM(BN85:DM85) -> 28 | DO85: 北部
B86: （報告数） | C86: 中部 | D86: 1 | E86: 0 | F86: 3 | G86: 0 | H86: 1 | I86: 0 | J86: 0 | K86: 3 | L86: 1 | M86: 3 | N86: 0 | O86: 12 | P86: 9 | Q86: 14 | R86: 6 | S86: 7 | T86: 10 | U86: 8 | V86: 15 | W86: 6 | X86: 13 | Y86: 5 | Z86: 15 | AA86: 8 | AB86: 6 | AC86: 5 | AD86: 3 | AE86: 9 | AF86: 9 | AG86: 9 | AH86: 11 | AI86: 7 | AJ86: 6 | AK86: 11 | AL86: 8 | AM86: 3 | AN86: 2 | AO86: 1 | AP86: 2 | AQ86: 2 | AR86: 5 | AS86: 2 | AT86: 1 | AU86: 4 | AV86: 1 | AW86: 2 | AX86: 5 | AY86: 5 | AZ86: 5 | BA86: 8 | BB86: 3 | BC86: 2 | BD86: 4 | BE86: 2 | BF86: 1 | BG86: 14 | BH86: 4 | BI86: 3 | BJ86: 1 | BK86: 3 | BL86: 6 | BM86: 9 | BN86: 4 | BO86: 12 | BP86: 2 | BQ86: 9 | BR86: 5 | BS86: 9 | BT86: 4 | BU86: 7 | BV86: 5 | BW86: 5 | BX86: 5 | BY86: 8 | BZ86: 3 | CA86: 9 | CB86: 7 | CC86: 8 | CD86: 10 | CE86: 2 | CF86: 2 | CG86: 2 | CH86: 2 | CI86: 3 | CJ86: 2 | CK86: 1 | CL86: 2 | CM86: 1 | CN86: 0 | CO86: 1 | CP86: 2 | CQ86: 2 | CR86: 0 | CS86: 2 | CT86: 0 | CU86: 4 | CV86: 1 | CW86: 0 | CX86: 1 | CY86: 4 | CZ86: 0 | DN86: =SUM(BN86:DM86) -> 146 | DO86: 中部
C87: 那覇市 | D87: 1 | E87: 0 | F87: 1 | G87: 0 | H87: 1 | I87: 0 | J87: 0 | K87: 0 | L87: 0 | M87: 1 | N87: 4 | O87: 3 | P87: 0 | Q87: 2 | R87: 1 | S87: 2 | T87: 11 | U87: 3 | V87: 11 | W87: 4 | X87: 2 | Y87: 2 | Z87: 3 | AA87: 1 | AB87: 2 | AC87: 1 | AD87: 3 | AE87: 4 | AF87: 4 | AG87: 4 | AH87: 1 | AI87: 3 | AJ87: 8 | AK87: 3 | AL87: 11 | AM87: 5 | AN87: 3 | AO87: 3 | AP87: 1 | AQ87: 5 | AR87: 1 | AS87: 0 | AT87: 1 | AU87: 2 | AV87: 2 | AW87: 1 | AX87: 1 | AY87: 2 | AZ87: 1 | BA87: 0 | BB87: 6 | BC87: 1 | BD87: 4 | BE87: 0 | BF87: 3 | BG87: 2 | BH87: 1 | BI87: 0 | BJ87: 1 | BK87: 0 | BL87: 5 | BM87: 6 | BN87: 12 | BO87: 3 | BP87: 4 | BQ87: 2 | BR87: 5 | BS87: 2 | BT87: 0 | BU87: 7 | BV87: 5 | BW87: 7 | BX87: 4 | BY87: 7 | BZ87: 4 | CA87: 2 | CB87: 2 | CC87: 0 | CD87: 5 | CE87: 3 | CF87: 8 | CG87: 7 | CH87: 1 | CI87: 0 | CJ87: 0 | CK87: 0 | CL87: 0 | CM87: 1 | CN87: 0 | CO87: 0 | CP87: 0 | CQ87: 0 | CR87: 0 | CS87: 0 | CT87: 0 | CU87: 0 | CV87: 0 | CW87: 0 | CX87: 1 | CY87: 0 | CZ87: 0 | DN87: =SUM(BN87:DM87) -> 92 | DO87: 那覇市
C88: 南部 | D88: 0 | E88: 1 | F88: 0 | G88: 3 | H88: 1 | I88: 6 | J88: 3 | K88: 2 | L88: 1 | M88: 0 | N88: 2 | O88: 8 | P88: 2 | Q88: 0 | R88: 0 | S88: 4 | T88: 7 | U88: 12 | V88: 11 | W88: 3 | X88: 5 | Y88: 11 | Z88: 9 | AA88: 7 | AB88: 8 | AC88: 12 | AD88: 11 | AE88: 6 | AF88: 7 | AG88: 5 | AH88: 7 | AI88: 5 | AJ88: 3 | AK88: 3 | AL88: 5 | AM88: 3 | AN88: 0 | AO88: 1 | AP88: 1 | AQ88: 2 | AR88: 0 | AS88: 1 | AT88: 1 | AU88: 2 | AV88: 0 | AW88: 0 | AX88: 1 | AY88: 1 | AZ88: 0 | BA88: 0 | BB88: 6 | BC88: 3 | BD88: 7 | BE88: 9 | BF88: 9 | BG88: 4 | BH88: 5 | BI88: 2 | BJ88: 6 | BK88: 4 | BL88: 1 | BM88: 1 | BN88: 3 | BO88: 3 | BP88: 1 | BQ88: 11 | BR88: 13 | BS88: 10 | BT88: 12 | BU88: 4 | BV88: 15 | BW88: 15 | BX88: 22 | BY88: 8 | BZ88: 3 | CA88: 10 | CB88: 12 | CC88: 15 | CD88: 7 | CE88: 6 | CF88: 5 | CG88: 3 | CH88: 5 | CI88: 8 | CJ88: 7 | CK88: 1 | CL88: 13 | CM88: 4 | CN88: 1 | CO88: 2 | CP88: 2 | CQ88: 2 | CR88: 1 | CS88: 0 | CT88: 1 | CU88: 0 | CV88: 0 | CW88: 0 | CX88: 0 | CY88: 0 | CZ88: 1 | DN88: =SUM(BN88:DM88) -> 226 | DO88: 南部
C89: 宮古 | D89: 0 | E89: 1 | F89: 0 | G89: 0 | H89: 0 | I89: 0 | J89: 0 | K89: 0 | L89: 0 | M89: 0 | N89: 0 | O89: 0 | P89: 0 | Q89: 0 | R89: 0 | S89: 0 | T89: 0 | U89: 0 | V89: 0 | W89: 0 | X89: 0 | Y89: 0 | Z89: 0 | AA89: 0 | AB89: 0 | AC89: 0 | AD89: 0 | AE89: 0 | AF89: 0 | AG89: 0 | AH89: 0 | AI89: 0 | AJ89: 0 | AK89: 0 | AL89: 0 | AM89: 0 | AN89: 0 | AO89: 0 | AP89: 0 | AQ89: 0 | AR89: 0 | AS89: 0 | AT89: 0 | AU89: 0 | AV89: 0 | AW89: 0 | AX89: 0 | AY89: 0 | AZ89: 0 | BA89: 0 | BB89: 0 | BC89: 0 | BD89: 0 | BE89: 0 | BF89: 0 | BG89: 0 | BH89: 0 | BI89: 0 | BJ89: 0 | BK89: 0 | BL89: 0 | BM89: 0 | BN89: 0 | BO89: 0 | BP89: 0 | BQ89: 0 | BR89: 0 | BS89: 0 | BT89: 0 | BU89: 0 | BV89: 0 | BW89: 0 | BX89: 0 | BY89: 0 | BZ89: 0 | CA89: 0 | CB89: 0 | CC89: 0 | CD89: 0 | CE89: 0 | CF89: 0 | CG89: 0 | CH89: 0 | CI89: 0 | CJ89: 0 | CK89: 0 | CL89: 0 | CM89: 0 | CN89: 0 | CO89: 0 | CP89: 0 | CQ89: 0 | CR89: 1 | CS89: 0 | CT89: 0 | CU89: 0 | CV89: 0 | CW89: 3 | CX89: 0 | CY89: 0 | CZ89: 0 | DN89: =SUM(BN89:DM89) -> 4 | DO89: 宮古
C90: 八重山 | D90: 0 | E90: 0 | F90: 0 | G90: 0 | H90: 0 | I90: 0 | J90: 0 | K90: 0 | L90: 2 | M90: 1 | N90: 0 | O90: 0 | P90: 0 | Q90: 1 | R90: 1 | S90: 0 | T90: 0 | U90: 1 | V90: 3 | W90: 1 | X90: 5 | Y90: 1 | Z90: 1 | AA90: 0 | AB90: 1 | AC90: 0 | AD90: 0 | AE90: 0 | AF90: 0 | AG90: 0 | AH90: 0 | AI90: 0 | AJ90: 0 | AK90: 0 | AL90: 0 | AM90: 0 | AN90: 0 | AO90: 0 | AP90: 1 | AQ90: 1 | AR90: 0 | AS90: 0 | AT90: 0 | AU90: 1 | AV90: 0 | AW90: 2 | AX90: 0 | AY90: 1 | AZ90: 0 | BA90: 1 | BB90: 3 | BC90: 2 | BD90: 3 | BE90: 1 | BF90: 1 | BG90: 1 | BH90: 0 | BI90: 0 | BJ90: 0 | BK90: 0 | BL90: 0 | BM90: 0 | BN90: 0 | BO90: 1 | BP90: 0 | BQ90: 2 | BR90: 0 | BS90: 0 | BT90: 0 | BU90: 1 | BV90: 0 | BW90: 0 | BX90: 0 | BY90: 0 | BZ90: 0 | CA90: 0 | CB90: 0 | CC90: 0 | CD90: 0 | CE90: 0 | CF90: 0 | CG90: 0 | CH90: 0 | CI90: 0 | CJ90: 0 | CK90: 1 | CL90: 0 | CM90: 1 | CN90: 2 | CO90: 0 | CP90: 1 | CQ90: 0 | CR90: 1 | CS90: 0 | CT90: 1 | CU90: 1 | CV90: 0 | CW90: 1 | CX90: 0 | CY90: 0 | CZ90: 0 | DN90: =SUM(BN90:DM90) -> 13 | DO90: 八重山
C91: 沖縄県 | D91: 2 | E91: 3 | F91: 5 | G91: 5 | H91: 3 | I91: 13 | J91: 6 | K91: 10 | L91: 7 | M91: 8 | N91: 11 | O91: 26 | P91: 12 | Q91: 20 | R91: 11 | S91: 17 | T91: 29 | U91: 26 | V91: 41 | W91: 18 | X91: 31 | Y91: 23 | Z91: 34 | AA91: 18 | AB91: 19 | AC91: 30 | AD91: 22 | AE91: 19 | AF91: 20 | AG91: 18 | AH91: 21 | AI91: 18 | AJ91: 21 | AK91: 19 | AL91: 30 | AM91: 13 | AN91: 11 | AO91: 6 | AP91: 5 | AQ91: 10 | AR91: 6 | AS91: 3 | AT91: 3 | AU91: 11 | AV91: 3 | AW91: 5 | AX91: 8 | AY91: 10 | AZ91: 7 | BA91: 9 | BB91: 23 | BC91: 15 | BD91: 21 | BE91: 15 | BF91: 18 | BG91: 22 | BH91: 11 | BI91: 7 | BJ91: 12 | BK91: 9 | BL91: 13 | BM91: 17 | BN91: 25 | BO91: 22 | BP91: 7 | BQ91: 25 | BR91: 24 | BS91: 22 | BT91: 16 | BU91: 19 | BV91: 25 | BW91: 27 | BX91: 32 | BY91: 23 | BZ91: 10 | CA91: 21 | CB91: 22 | CC91: 23 | CD91: 23 | CE91: 11 | CF91: 15 | CG91: 12 | CH91: 9 | CI91: 11 | CJ91: 9 | CK91: 3 | CL91: 16 | CM91: 7 | CN91: 5 | CO91: 3 | CP91: 5 | CQ91: 5 | CR91: 4 | CS91: 3 | CT91: 3 | CU91: 5 | CV91: 3 | CW91: 4 | CX91: 2 | CY91: 4 | CZ91: 4 | DN91: =SUM(BN91:DM91) -> 509 | DO91: 沖縄県
C92: 全国 | D92: 623 | E92: 507 | F92: 601 | G92: 650 | H92: 724 | I92: 894 | J92: 961 | K92: 960 | L92: 1050 | M92: 840 | N92: 365 | O92: 1098 | P92: 576 | Q92: 810 | R92: 594 | S92: 907 | T92: 744 | U92: 833 | V92: 784 | W92: 833 | X92: 844 | Y92: 995 | Z92: 926 | AA92: 815 | AB92: 775 | AC92: 868 | AD92: 1138 | AE92: 939 | AF92: 1190 | AG92: 1275 | AH92: 1397 | AI92: 1387 | AJ92: 1100 | AK92: 1435 | AL92: 1041 | AM92: 1291 | AN92: 934 | AO92: 1159 | AP92: 799 | AQ92: 799 | AR92: 722 | AS92: 593 | AT92: 430 | AU92: 604 | AV92: 457 | AW92: 509 | AX92: 444 | AY92: 465 | AZ92: 507 | BA92: 432 | BB92: 516 | BC92: 417 | BD92: 461 | BE92: 493 | BF92: 533 | BG92: 690 | BH92: 710 | BI92: 795 | BJ92: 792 | BK92: 886 | BL92: 908 | BM92: 949 | BN92: 493 | BO92: 1308 | BP92: 715 | BQ92: 960 | BR92: 712 | BS92: 770 | BT92: 683 | BU92: 749 | BV92: 663 | BW92: 757 | BX92: 701 | BY92: 781 | BZ92: 724 | CA92: 738 | CB92: 736 | CC92: 726 | CD92: 861 | CE92: 849 | CF92: 874 | CG92: 1095 | CH92: 870 | CI92: 999 | CJ92: 823 | CK92: 987 | CL92: 781 | CM92: 949 | CN92: 719 | CO92: 867 | CP92: 669 | CQ92: 648 | CR92: 594 | CS92: 555 | CT92: 386 | CU92: 589 | CV92: 433 | CW92: 476 | CX92: 369 | CY92: 496 | CZ92: 350 | DN92: =SUM(BN92:DM92) -> 28455 | DO92: 全国
B93: 水痘 | C93: 北部 | D93: 0 | E93: 0.33 | F93: 0.33 | G93: 0.67 | H93: 0 | I93: 2.33 | J93: 1 | K93: 1.67 | L93: 1 | M93: 1 | N93: 1.67 | O93: 1 | P93: 0.33 | Q93: 1 | R93: 1 | S93: 1.33 | T93: 0.33 | U93: 0.67 | V93: 0.33 | W93: 1.33 | X93: 2 | Y93: 1.33 | Z93: 2 | AA93: 0.67 | AB93: 0.67 | AC93: 4 | AD93: 1.67 | AE93: 0 | AF93: 0 | AG93: 0 | AH93: 0.67 | AI93: 1 | AJ93: 1.33 | AK93: 0.67 | AL93: 2 | AM93: 0.67 | AN93: 2 | AO93: 0.33 | AP93: 0 | AQ93: 0 | AR93: 0 | AS93: 0 | AT93: 0 | AU93: 0.67 | AV93: 0 | AW93: 0 | AX93: 0.33 | AY93: 0.33 | AZ93: 0.33 | BA93: 0 | BB93: 1.67 | BC93: 2.33 | BD93: 1 | BE93: 1 | BF93: 1.33 | BG93: 0.33 | BH93: 0.33 | BI93: 0.67 | BJ93: 1.33 | BK93: 0.67 | BL93: 0.33 | BM93: 0.33 | BN93: 2 | BO93: 1 | BP93: 0 | BQ93: 0.33 | BR93: 0.33 | BS93: 0.33 | BT93: 0 | BU93: 0 | BV93: 0 | BW93: 0 | BX93: 0.33 | BY93: 0 | BZ93: 0 | CA93: 0 | CB93: 0.33 | CC93: 0 | CD93: 0.33 | CE93: 0 | CF93: 0 | CG93: 0 | CH93: 0.33 | CI93: 0 | CJ93: 0 | CK93: 0 | CL93: 0.33 | CM93: 0 | CN93: 0.67 | CO93: 0 | CP93: 0 | CQ93: 0.33 | CR93: 0.33 | CS93: 0.33 | CT93: 0.33 | CU93: 0 | CV93: 0.67 | CW93: 0 | CX93: 0 | CY93: 0 | CZ93: 1 | DN93: =SUM(BN93:DM93) -> 9.3 | DO93: 北部
B94: （定点あたり報告数） | C94: 中部 | D94: 0.1 | E94: 0 | F94: 0.3 | G94: 0 | H94: 0.1 | I94: 0 | J94: 0 | K94: 0.3 | L94: 0.1 | M94: 0.3 | N94: 0 | O94: 1.2 | P94: 0.9 | Q94: 1.4 | R94: 0.6 | S94: 0.7 | T94: 1 | U94: 0.8 | V94: 1.5 | W94: 0.6 | X94: 1.3 | Y94: 0.5 | Z94: 1.5 | AA94: 0.8 | AB94: 0.86 | AC94: 0.71 | AD94: 0.43 | AE94: 1.29 | AF94: 1.29 | AG94: 1.29 | AH94: 1.57 | AI94: 1 | AJ94: 0.86 | AK94: 1.57 | AL94: 1.14 | AM94: 0.43 | AN94: 0.29 | AO94: 0.14 | AP94: 0.29 | AQ94: 0.29 | AR94: 0.71 | AS94: 0.29 | AT94: 0.14 | AU94: 0.57 | AV94: 0.14 | AW94: 0.29 | AX94: 0.71 | AY94: 0.71 | AZ94: 0.71 | BA94: 1.14 | BB94: 0.43 | BC94: 0.29 | BD94: 0.57 | BE94: 0.29 | BF94: 0.14 | BG94: 2 | BH94: 0.57 | BI94: 0.43 | BJ94: 0.14 | BK94: 0.43 | BL94: 0.86 | BM94: 1.29 | BN94: 0.57 | BO94: 1.71 | BP94: 0.29 | BQ94: 1.29 | BR94: 0.71 | BS94: 1.29 | BT94: 0.57 | BU94: 1 | BV94: 0.71 | BW94: 0.71 | BX94: 0.71 | BY94: 1.14 | BZ94: 0.43 | CA94: 1.29 | CB94: 1 | CC94: 1.14 | CD94: 1.43 | CE94: 0.29 | CF94: 0.29 | CG94: 0.29 | CH94: 0.29 | CI94: 0.43 | CJ94: 0.29 | CK94: 0.14 | CL94: 0.29 | CM94: 0.14 | CN94: 0 | CO94: 0.14 | CP94: 0.29 | CQ94: 0.29 | CR94: 0 | CS94: 0.29 | CT94: 0 | CU94: 0.57 | CV94: 0.14 | CW94: 0 | CX94: 0.14 | CY94: 0.57 | CZ94: 0 | DN94: =SUM(BN94:DM94) -> 20.87 | DO94: 中部
B95: 警報（2以上。終息基準値は1未満） | C95: 那覇市 | D95: 0.14 | E95: 0 | F95: 0.14 | G95: 0 | H95: 0.14 | I95: 0 | J95: 0 | K95: 0 | L95: 0 | M95: 0.14 | N95: 0.57 | O95: 0.43 | P95: 0 | Q95: 0.29 | R95: 0.14 | S95: 0.29 | T95: 1.57 | U95: 0.43 | V95: 1.57 | W95: 0.57 | X95: 0.29 | Y95: 0.29 | Z95: 0.43 | AA95: 0.14 | AB95: 0.33 | AC95: 0.17 | AD95: 0.5 | AE95: 0.67 | AF95: 0.67 | AG95: 0.67 | AH95: 0.17 | AI95: 0.5 | AJ95: 1.33 | AK95: 0.5 | AL95: 1.83 | AM95: 0.83 | AN95: 0.5 | AO95: 0.5 | AP95: 0.17 | AQ95: 0.83 | AR95: 0.17 | AS95: 0 | AT95: 0.17 | AU95: 0.33 | AV95: 0.33 | AW95: 0.17 | AX95: 0.17 | AY95: 0.33 | AZ95: 0.17 | BA95: 0 | BB95: 1 | BC95: 0.17 | BD95: 0.67 | BE95: 0 | BF95: 0.5 | BG95: 0.33 | BH95: 0.17 | BI95: 0 | BJ95: 0.17 | BK95: 0 | BL95: 0.83 | BM95: 1 | BN95: 2 | BO95: 0.5 | BP95: 0.67 | BQ95: 0.33 | BR95: 0.83 | BS95: 0.33 | BT95: 0 | BU95: 1.17 | BV95: 0.83 | BW95: 1.17 | BX95: 0.67 | BY95: 1.17 | BZ95: 0.67 | CA95: 0.4 | CB95: 0.4 | CC95: 0 | CD95: 1 | CE95: 0.6 | CF95: 1.6 | CG95: 1.4 | CH95: 0.2 | CI95: 0 | CJ95: 0 | CK95: 0 | CL95: 0 | CM95: 0.2 | CN95: 0 | CO95: 0 | CP95: 0 | CQ95: 0 | CR95: 0 | CS95: 0 | CT95: 0 | CU95: 0 | CV95: 0 | CW95: 0 | CX95: 0.2 | CY95: 0 | CZ95: 0 | DN95: =SUM(BN95:DM95) -> 16.34 | DO95: 那覇市
B96: 注意報（1以上） | C96: 南部 | D96: 0 | E96: 0.13 | F96: 0 | G96: 0.38 | H96: 0.13 | I96: 0.75 | J96: 0.38 | K96: 0.25 | L96: 0.13 | M96: 0 | N96: 0.25 | O96: 1 | P96: 0.25 | Q96: 0 | R96: 0 | S96: 0.5 | T96: 0.88 | U96: 1.5 | V96: 1.38 | W96: 0.38 | X96: 0.63 | Y96: 1.38 | Z96: 1.13 | AA96: 0.88 | AB96: 1.33 | AC96: 2 | AD96: 1.83 | AE96: 1 | AF96: 1.17 | AG96: 0.83 | AH96: 1.17 | AI96: 0.83 | AJ96: 0.6 | AK96: 0.5 | AL96: 0.83 | AM96: 0.5 | AN96: 0 | AO96: 0.17 | AP96: 0.17 | AQ96: 0.33 | AR96: 0 | AS96: 0.17 | AT96: 0.17 | AU96: 0.33 | AV96: 0 | AW96: 0 | AX96: 0.17 | AY96: 0.17 | AZ96: 0 | BA96: 0 | BB96: 1 | BC96: 0.5 | BD96: 1.17 | BE96: 1.5 | BF96: 1.5 | BG96: 0.67 | BH96: 0.83 | BI96: 0.33 | BJ96: 1 | BK96: 0.67 | BL96: 0.17 | BM96: 0.17 | BN96: 0.5 | BO96: 0.5 | BP96: 0.17 | BQ96: 1.83 | BR96: 2.17 | BS96: 1.67 | BT96: 2 | BU96: 0.67 | BV96: 2.5 | BW96: 2.5 | BX96: 3.67 | BY96: 1.33 | BZ96: 0.5 | CA96: 1.67 | CB96: 2 | CC96: 2.5 | CD96: 1.17 | CE96: 1 | CF96: 0.83 | CG96: 0.5 | CH96: 0.83 | CI96: 1.33 | CJ96: 1.17 | CK96: 0.17 | CL96: 2.17 | CM96: 0.67 | CN96: 0.17 | CO96: 0.33 | CP96: 0.33 | CQ96: 0.33 | CR96: 0.17 | CS96: 0 | CT96: 0.17 | CU96: 0 | CV96: 0 | CW96: 0 | CX96: 0 | CY96: 0 | CZ96: 0.17 | DN96: =SUM(BN96:DM96) -> 37.69 | DO96: 南部
C97: 宮古 | D97: 0 | E97: 0.5 | F97: 0 | G97: 0 | H97: 0 | I97: 0 | J97: 0 | K97: 0 | L97: 0 | M97: 0 | N97: 0 | O97: 0 | P97: 0 | Q97: 0 | R97: 0 | S97: 0 | T97: 0 | U97: 0 | V97: 0 | W97: 0 | X97: 0 | Y97: 0 | Z97: 0 | AA97: 0 | AB97: 0 | AC97: 0 | AD97: 0 | AE97: 0 | AF97: 0 | AG97: 0 | AH97: 0 | AI97: 0 | AJ97: 0 | AK97: 0 | AL97: 0 | AM97: 0 | AN97: 0 | AO97: 0 | AP97: 0 | AQ97: 0 | AR97: 0 | AS97: 0 | AT97: 0 | AU97: 0 | AV97: 0 | AW97: 0 | AX97: 0 | AY97: 0 | AZ97: 0 | BA97: 0 | BB97: 0 | BC97: 0 | BD97: 0 | BE97: 0 | BF97: 0 | BG97: 0 | BH97: 0 | BI97: 0 | BJ97: 0 | BK97: 0 | BL97: 0 | BM97: 0 | BN97: 0 | BO97: 0 | BP97: 0 | BQ97: 0 | BR97: 0 | BS97: 0 | BT97: 0 | BU97: 0 | BV97: 0 | BW97: 0 | BX97: 0 | BY97: 0 | BZ97: 0 | CA97: 0 | CB97: 0 | CC97: 0 | CD97: 0 | CE97: 0 | CF97: 0 | CG97: 0 | CH97: 0 | CI97: 0 | CJ97: 0 | CK97: 0 | CL97: 0 | CM97: 0 | CN97: 0 | CO97: 0 | CP97: 0 | CQ97: 0 | CR97: 1 | CS97: 0 | CT97: 0 | CU97: 0 | CV97: 0 | CW97: 3 | CX97: 0 | CY97: 0 | CZ97: 0 | DN97: =SUM(BN97:DM97) -> 4 | DO97: 宮古
C98: 八重山 | D98: 0 | E98: 0 | F98: 0 | G98: 0 | H98: 0 | I98: 0 | J98: 0 | K98: 0 | L98: 1 | M98: 0.5 | N98: 0 | O98: 0 | P98: 0 | Q98: 0.5 | R98: 0.5 | S98: 0 | T98: 0 | U98: 0.5 | V98: 1.5 | W98: 0.5 | X98: 2.5 | Y98: 0.5 | Z98: 0.5 | AA98: 0 | AB98: 0.5 | AC98: 0 | AD98: 0 | AE98: 0 | AF98: 0 | AG98: 0 | AH98: 0 | AI98: 0 | AJ98: 0 | AK98: 0 | AL98: 0 | AM98: 0 | AN98: 0 | AO98: 0 | AP98: 0.5 | AQ98: 0.5 | AR98: 0 | AS98: 0 | AT98: 0 | AU98: 0.5 | AV98: 0 | AW98: 1 | AX98: 0 | AY98: 0.5 | AZ98: 0 | BA98: 0.5 | BB98: 1.5 | BC98: 1 | BD98: 1.5 | BE98: 0.5 | BF98: 0.5 | BG98: 0.5 | BH98: 0 | BI98: 0 | BJ98: 0 | BK98: 0 | BL98: 0 | BM98: 0 | BN98: 0 | BO98: 0.5 | BP98: 0 | BQ98: 1 | BR98: 0 | BS98: 0 | BT98: 0 | BU98: 0.5 | BV98: 0 | BW98: 0 | BX98: 0 | BY98: 0 | BZ98: 0 | CA98: 0 | CB98: 0 | CC98: 0 | CD98: 0 | CE98: 0 | CF98: 0 | CG98: 0 | CH98: 0 | CI98: 0 | CJ98: 0 | CK98: 0.5 | CL98: 0 | CM98: 0.5 | CN98: 1 | CO98: 0 | CP98: 0.5 | CQ98: 0 | CR98: 0.5 | CS98: 0 | CT98: 0.5 | CU98: 0.5 | CV98: 0 | CW98: 0.5 | CX98: 0 | CY98: 0 | CZ98: 0 | DN98: =SUM(BN98:DM98) -> 6.5 | DO98: 八重山
C99: 沖縄県 | D99: 0.06 | E99: 0.09 | F99: 0.16 | G99: 0.16 | H99: 0.09 | I99: 0.41 | J99: 0.19 | K99: 0.31 | L99: 0.22 | M99: 0.25 | N99: 0.34 | O99: 0.81 | P99: 0.38 | Q99: 0.63 | R99: 0.34 | S99: 0.53 | T99: 0.91 | U99: 0.81 | V99: 1.28 | W99: 0.56 | X99: 0.97 | Y99: 0.72 | Z99: 1.06 | AA99: 0.56 | AB99: 0.76 | AC99: 1.2 | AD99: 0.88 | AE99: 0.76 | AF99: 0.8 | AG99: 0.72 | AH99: 0.84 | AI99: 0.72 | AJ99: 0.88 | AK99: 0.76 | AL99: 1.2 | AM99: 0.52 | AN99: 0.44 | AO99: 0.24 | AP99: 0.2 | AQ99: 0.4 | AR99: 0.24 | AS99: 0.12 | AT99: 0.12 | AU99: 0.44 | AV99: 0.12 | AW99: 0.2 | AX99: 0.32 | AY99: 0.4 | AZ99: 0.28 | BA99: 0.36 | BB99: 0.92 | BC99: 0.6 | BD99: 0.84 | BE99: 0.6 | BF99: 0.72 | BG99: 0.88 | BH99: 0.44 | BI99: 0.28 | BJ99: 0.48 | BK99: 0.36 | BL99: 0.52 | BM99: 0.68 | BN99: 1 | BO99: 0.88 | BP99: 0.28 | BQ99: 1 | BR99: 0.96 | BS99: 0.88 | BT99: 0.64 | BU99: 0.76 | BV99: 1 | BW99: 1.08 | BX99: 1.28 | BY99: 0.92 | BZ99: 0.4 | CA99: 0.88 | CB99: 0.92 | CC99: 0.96 | CD99: 0.96 | CE99: 0.46 | CF99: 0.63 | CG99: 0.5 | CH99: 0.38 | CI99: 0.46 | CJ99: 0.38 | CK99: 0.13 | CL99: 0.67 | CM99: 0.29 | CN99: 0.21 | CO99: 0.13 | CP99: 0.21 | CQ99: 0.21 | CR99: 0.17 | CS99: 0.13 | CT99: 0.13 | CU99: 0.21 | CV99: 0.13 | CW99: 0.17 | CX99: 0.08 | CY99: 0.17 | CZ99: 0.17 | DN99: =SUM(BN99:DM99) -> 20.82 | DO99: 沖縄県
C100: 全国 | D100: 0.2 | E100: 0.16 | F100: 0.19 | G100: 0.21 | H100: 0.23 | I100: 0.28 | J100: 0.31 | K100: 0.31 | L100: 0.33 | M100: 0.27 | N100: 0.14 | O100: 0.35 | P100: 0.18 | Q100: 0.26 | R100: 0.19 | S100: 0.29 | T100: 0.24 | U100: 0.27 | V100: 0.25 | W100: 0.27 | X100: 0.27 | Y100: 0.32 | Z100: 0.3 | AA100: 0.27 | AB100: 0.33 | AC100: 0.37 | AD100: 0.48 | AE100: 0.4 | AF100: 0.5 | AG100: 0.54 | AH100: 0.59 | AI100: 0.59 | AJ100: 0.47 | AK100: 0.61 | AL100: 0.44 | AM100: 0.55 | AN100: 0.4 | AO100: 0.49 | AP100: 0.34 | AQ100: 0.34 | AR100: 0.31 | AS100: 0.26 | AT100: 0.2 | AU100: 0.26 | AV100: 0.19 | AW100: 0.22 | AX100: 0.19 | AY100: 0.2 | AZ100: 0.22 | BA100: 0.18 | BB100: 0.22 | BC100: 0.18 | BD100: 0.2 | BE100: 0.21 | BF100: 0.23 | BG100: 0.29 | BH100: 0.3 | BI100: 0.34 | BJ100: 0.34 | BK100: 0.38 | BL100: 0.39 | BM100: 0.41 | BN100: 0.25 | BO100: 0.57 | BP100: 0.31 | BQ100: 0.42 | BR100: 0.31 | BS100: 0.33 | BT100: 0.3 | BU100: 0.33 | BV100: 0.29 | BW100: 0.33 | BX100: 0.3 | BY100: 0.34 | BZ100: 0.32 | CA100: 0.32 | CB100: 0.33 | CC100: 0.32 | CD100: 0.38 | CE100: 0.38 | CF100: 0.39 | CG100: 0.48 | CH100: 0.39 | CI100: 0.44 | CJ100: 0.36 | CK100: 0.44 | CL100: 0.35 | CM100: 0.42 | CN100: 0.32 | CO100: 0.38 | CP100: 0.3 | CQ100: 0.29 | CR100: 0.26 | CS100: 0.25 | CT100: 0.18 | CU100: 0.27 | CV100: 0.19 | CW100: 0.21 | CX100: 0.16 | CY100: 0.22 | CZ100: 0.16 | DN100: =SUM(BN100:DM100) -> 12.59 | DO100: 全国
...

Sheet カレンダー
A1: 月 | B1: 週 | C1: 週初日 | D1: 週終日
A2: 1 | B2: 1 | C2: 46020 | D2: =+C2+6 -> 46026
A3: 1 | B3: 2 | C3: =+C2+7 -> 46027 | D3: =+D2+7 -> 46033
A4: 1 | B4: 3 | C4: =+C3+7 -> 46034 | D4: =+D3+7 -> 46040
A5: 1 | B5: 4 | C5: =+C4+7 -> 46041 | D5: =+D4+7 -> 46047
A6: 1 | B6: 5 | C6: =+C5+7 -> 46048 | D6: =+D5+7 -> 46054
A7: 2 | B7: 6 | C7: =+C6+7 -> 46055 | D7: =+D6+7 -> 46061
A8: 2 | B8: 7 | C8: =+C7+7 -> 46062 | D8: =+D7+7 -> 46068
A9: 2 | B9: 8 | C9: =+C8+7 -> 46069 | D9: =+D8+7 -> 46075
A10: 2 | B10: 9 | C10: =+C9+7 -> 46076 | D10: =+D9+7 -> 46082
A11: 3 | B11: 10 | C11: =+C10+7 -> 46083 | D11: =+D10+7 -> 46089
A12: 3 | B12: 11 | C12: =+C11+7 -> 46090 | D12: =+D11+7 -> 46096
A13: 3 | B13: 12 | C13: =+C12+7 -> 46097 | D13: =+D12+7 -> 46103
A14: 3 | B14: 13 | C14: =+C13+7 -> 46104 | D14: =+D13+7 -> 46110
... A53: 12 | B53: 52 | C53: =+C52+7 -> 46377 | D53: =+D52+7 -> 46383

Sheet 年次別
B1: グラフ用 | C1: グラフ用 | G1: インフルエンザ | I1: RSウイルス感染症 | K1: 咽頭結膜熱 | M1: A群溶血性レンサ球菌咽頭炎 | O1: 感染性胃腸炎 | Q1: 水痘 | S1: 手足口病 | U1: 伝染性紅斑 | W1: 突発性発疹 | Y1: 百日咳 | AA1: 風疹 | AC1: ヘルパンギーナ | AE1: 麻疹 | AG1: 流行性耳下腺炎 | AI1: 急性出血性結膜炎 | AK1: 流行性角結膜炎 | AM1: 急性脳炎 | AO1: 細菌性髄膜炎 | AQ1: 無菌性髄膜炎 | AS1: マイコプラズマ肺炎 | AU1: クラミジア肺炎 | AW1: 成人麻疹 | AY1: 感染性胃腸炎（ロタウイルス） | BA1: COVID-19
A2: No. | B2: 年 | C2: 月 | D2: 西暦 | E2: 和暦 | F2: 月 | G2: 沖縄県 | H2: 全国 | I2: 沖縄県 | J2: 全国 | K2: 沖縄県 | L2: 全国 | M2: 沖縄県 | N2: 全国 | O2: 沖縄県 | P2: 全国 | Q2: 沖縄県 | R2: 全国 | S2: 沖縄県 | T2: 全国 | U2: 沖縄県 | V2: 全国 | W2: 沖縄県 | X2: 全国 | Y2: 沖縄県 | Z2: 全国 | AA2: 沖縄県 | AB2: 全国 | AC2: 沖縄県 | AD2: 全国 | AE2: 沖縄県 | AF2: 全国 | AG2: 沖縄県 | AH2: 全国 | AI2: 沖縄県 | AJ2: 全国 | AK2: 沖縄県 | AL2: 全国 | AM2: 沖縄県 | AN2: 全国 | AO2: 沖縄県 | AP2: 全国 | AQ2: 沖縄県 | AR2: 全国 | AS2: 沖縄県 | AT2: 全国 | AU2: 沖縄県 | AV2: 全国 | AW2: 沖縄県 | AX2: 全国 | AY2: 沖縄県 | AZ2: 全国 | BA2: 沖縄県 | BB2: 全国
A3: 1 | B3: 2004 | C3: 1 | D3: 2004 | E3: 平成16年 | F3: 1 | G3: 8.5206897 | H3: 13.570127 | I3: - | J3: - | K3: 0.011764706 | L3: 0.19642266 | M3: 0.35882353 | N3: 1.0979795 | O3: 5.1764706 | P3: 8.4041736 | Q3: 1.63 | R3: 2.5094402 | S3: 0.052941176 | T3: 0.071811858 | U3: 0.088235294 | V3: 0.30851275 | W3: 0.39411765 | X3: 0.61106327 | Y3: 0.023529412 | Z3: 0.007817158 | AA3: 0.023529412 | AB3: 0.01165949 | AC3: 0.029411765 | AD3: 0.025240146 | AE3: 0 | AF3: 0.0097383239 | AG3: 0.15882353 | AH3: 0.44961908 | AI3: 0.02 | AJ3: 0.020537125 | AK3: 0.74 | AL3: 0.76682464 | AM3: 0 | AN3: 0 | AO3: 0.057142857 | AP3: 0.014315789 | AQ3: 0.028571429 | AR3: 0.024 | AS3: 0 | AT3: 0.21347368 | AU3: 0 | AV3: 0.0058947368 | AW3: 0 | AX3: 0.0025263158 | AY3: - | AZ3: -
A4: 2 | D4: 2004 | E4: 平成16年 | F4: 2 | G4: 28.913793 | H4: 20.175317 | I4: - | J4: - | K4: 0.022058824 | L4: 0.19112289 | M4: 0.375 | N4: 1.7119907 | O4: 3.75 | P4: 8.7115767 | Q4: 2.515 | R4: 2.1154356 | S4: 0.066176471 | T4: 0.060864525 | U4: 0.058823529 | V4: 0.2733521 | W4: 0.27941176 | X4: 0.61787771 | Y4: 0.0073529412 | Z4: 0.0072871812 | AA4: 0.0073529412 | AB4: 0.027575356 | AC4: 0.029411765 | AD4: 0.025256708 | AE4: 0 | AF4: 0.0082808877 | AG4: 0.16176471 | AH4: 0.47722756 | AI4: 0.1 | AJ4: 0.031595577 | AK4: 1.375 | AL4: 2.8771722 | AM4: 0 | AN4: 0 | AO4: 0 | AP4: 0.014210526 | AQ4: 0 | AR4: 0.021052632 | AS4: 0 | AT4: 0.19052632 | AU4: 0 | AV4: 0.0094736842 | AW4: 0 | AX4: 0.0042105263 | AY4: - | AZ4: -
A5: 3 | C5: 3 | D5: 2004 | E5: 平成16年 | F5: 3 | G5: 4.8413793 | H5: 2.4496024 | I5: - | J5: - | K5: 0.017647059 | L5: 0.19224909 | M5: 0.31176471 | N5: 1.7619742 | O5: 2.2117647 | P5: 7.851739 | Q5: 2.788 | R5: 1.6393508 | S5: 0.14705882 | T5: 0.041073203 | U5: 0.11764706 | V5: 0.27101689 | W5: 0.32941176 | X5: 0.49413713 | Y5: 0.011764706 | Z5: 0.0073534283 | AA5: 0.011764706 | AB5: 0.038224578 | AC5: 0.011764706 | AD5: 0.027028817 | AE5: 0 | AF5: 0.011063266 | AG5: 0.12352941 | AH5: 0.49360715 | AI5: 0.06 | AJ5: 0.02464455 | AK5: 1.44 | AL5: 0.72480253 | AM5: 0 | AN5: 0 | AO5: 0.028571429 | AP5: 0.010105263 | AQ5: 0 | AR5: 0.018526316 | AS5: 0 | AT5: 0.13557895 | AU5: 0 | AV5: 0.0063157895 | AW5: 0 | AX5: 0.0046315789 | AY5: - | AZ5: -
A6: 4 | D6: 2004 | E6: 平成16年 | F6: 4 | G6: 1.9137931 | H6: 0.4637868 | I6: - | J6: - | K6: 0.066176471 | L6: 0.39201722 | M6: 0.52941176 | N6: 2.1586618 | O6: 1.1985294 | P6: 8.6425141 | Q6: 3.73 | R6: 2.4326764 | S6: 0.76470588 | T6: 0.092000662 | U6: 0.26470588 | V6: 0.53974826 | W6: 0.72058824 | X6: 0.91263663 | Y6: 0.014705882 | Z6: 0.017555482 | AA6: 0.24264706 | AB6: 0.084879099 | AC6: 0.16176471 | AD6: 0.11725737 | AE6: 0.029411765 | AF6: 0.024925472 | AG6: 0.25 | AH6: 0.7957105 | AI6: 0 | AJ6: 0.029225908 | AK6: 8.55 | AL6: 1.0951817 | AM6: 0 | AN6: 0 | AO6: 0 | AP6: 0.015789474 | AQ6: 0 | AR6: 0.029473684 | AS6: 0 | AT6: 0.15842105 | AU6: 0 | AV6: 0.010526316 | AW6: 0 | AX6: 0.0026315789 | AY6: - | AZ6: -
A7: 5 | C7: 5 | D7: 2004 | E7: 平成16年 | F7: 5 | G7: 0.18534483 | H7: 0.073608425 | I7: - | J7: - | K7: 0.22058824 | L7: 0.40982113 | M7: 1 | N7: 1.8608811 | O7: 0.73529412 | P7: 5.234846 | Q7: 1.7925 | R7: 2.0300596 | S7: 1.3455882 | T7: 0.17654853 | U7: 0.23529412 | V7: 0.52699569 | W7: 0.65441176 | X7: 0.69203379 | Y7: 0.051470588 | Z7: 0.015236833 | AA7: 0.29411765 | AB7: 0.069228221 | AC7: 0.13970588 | AD7: 0.51300099 | AE7: 0.0073529412 | AF7: 0.020536602 | AG7: 0.21323529 | AH7: 0.71936072 | AI7: 0 | AJ7: 0.02093207 | AK7: 9.975 | AL7: 0.86808847 | AM7: 0 | AN7: 0 | AO7: 0 | AP7: 0.014736842 | AQ7: 0.035714286 | AR7: 0.021052632 | AS7: 0 | AT7: 0.19052632 | AU7: 0 | AV7: 0.0089473684 | AW7: 0 | AX7: 0.0010526316 | AY7: - | AZ7: -
A8: 6 | D8: 2004 | E8: 平成16年 | F8: 6 | G8: 0.065517241 | H8: 0.0081787741 | I8: - | J8: - | K8: 0.37058824 | L8: 0.58482941 | M8: 1.5058824 | N8: 1.5077178 | O8: 0.57058824 | P8: 3.4278238 | Q8: 0.936 | R8: 1.4661809 | S8: 1.6411765 | T8: 0.36926134 | U8: 0.11176471 | V8: 0.4651209 | W8: 0.39411765 | X8: 0.63477973 | Y8: 0.023529412 | Z8: 0.015038092 | AA8: 0.064705882 | AB8: 0.032991057 | AC8: 0.082352941 | AD8: 1.5499834 | AE8: 0.0058823529 | AF8: 0.012851938 | AG8: 0.23529412 | AH8: 0.78370321 | AI8: 0.02 | AJ8: 0.014218009 | AK8: 7.46 | AL8: 0.76240126 | AM8: 0 | AN8: 0 | AO8: 0 | AP8: 0.011368421 | AQ8: 0.028571429 | AR8: 0.036631579 | AS8: 0.028571429 | AT8: 0.21810526 | AU8: 0 | AV8: 0.010526316 | AW8: 0 | AX8: 0.0016842105 | AY8: - | AZ8: -
A9: 7 | C9: 7 | D9: 2004 | E9: 平成16年 | F9: 7 | G9: 0.12931034 | H9: 0.0040833871 | I9: - | J9: - | K9: 1.0220588 | L9: 1.3434084 | M9: 1.8382353 | N9: 1.2392348 | O9: 0.77205882 | P9: 3.611792 | Q9: 0.64 | R9: 1.2585293 | S9: 2.4926471 | T9: 1.4503147 | U9: 0.17647059 | V9: 0.53204704 | W9: 0.64705882 | X9: 1.0494369 | Y9: 0.073529412 | Z9: 0.021033455 | AA9: 0.051470588 | AB9: 0.027078503 | AC9: 0.24264706 | AD9: 4.0317158 | AE9: 0.022058824 | AF9: 0.012669758 | AG9: 0.29411765 | AH9: 1.2959589 | AI9: 0 | AJ9: 0.026066351 | AK9: 5.65 | AL9: 1.186019 | AM9: 0 | AN9: 0 | AO9: 0 | AP9: 0.022105263 | AQ9: 0 | AR9: 0.12789474 | AS9: 0 | AT9: 0.27578947 | AU9: 0 | AV9: 0.014736842 | AW9: 0.035714286 | AX9: 0.0057894737 | AY9: - | AZ9: -
A10: 8 | D10: 2004 | E10: 平成16年 | F10: 8 | G10: 0.021551724 | H10: 0.0012894907 | I10: - | J10: - | K10: 0.61764706 | L10: 0.5746108 | M10: 0.94852941 | N10: 0.47962902 | O10: 0.52205882 | P10: 2.2649056 | Q10: 0.5075 | R10: 0.50447168 | S10: 1.2573529 | T10: 1.0326267 | U10: 0.125 | V10: 0.18706525 | W10: 0.51470588 | X10: 0.80018218 | Y10: 0.036764706 | Z10: 0.016313349 | AA10: 0.058823529 | AB10: 0.009440212 | AC10: 0.19852941 | AD10: 1.1706691 | AE10: 0.044117647 | AF10: 0.0075356078 | AG10: 0.32352941 | AH10: 0.8917688 | AI10: 0.05 | AJ10: 0.022116904 | AK10: 4.225 | AL10: 0.90679305 | AM10: 0 | AN10: 0 | AO10: 0 | AP10: 0.013684211 | AQ10: 0 | AR10: 0.077368421 | AS10: 0.17857143 | AT10: 0.20894737 | AU10: 0 | AV10: 0.01 | AW10: 0 | AX10: 0.0021052632 | AY10: - | AZ10: -
A11: 9 | C11: 9 | D11: 2004 | E11: 平成16年 | F11: 9 | G11: 0.013793103 | H11: 0.0016333548 | I11: - | J11: - | K11: 0.094117647 | L11: 0.23517721 | M11: 0.23529412 | N11: 0.54786353 | O11: 0.55294118 | P11: 2.4169593 | Q11: 0.412 | R11: 0.44895661 | S11: 0.83529412 | T11: 1.0767141 | U11: 0.070588235 | V11: 0.14395495 | W11: 0.6 | X11: 0.81960914 | Y11: 0.017647059 | Z11: 0.015700563 | AA11: 0.076470588 | AB11: 0.0091421 | AC11: 0.15882353 | AD11: 0.46425969 | AE11: 0.011764706 | AF11: 0.0031798609 | AG11: 0.31764706 | AH11: 0.78403445 | AI11: 0.02 | AJ11: 0.035387046 | AK11: 3.76 | AL11: 0.80126382 | AM11: 0 | AN11: 0 | AO11: 0 | AP11: 0.017684211 | AQ11: 0 | AR11: 0.052210526 | AS11: 0.11428571 | AT11: 0.18778947 | AU11: 0 | AV11: 0.0075789474 | AW11: 0 | AX11: 0.0012631579 | AY11: - | AZ11: -
A12: 10 | D12: 2004 | E12: 平成16年 | F12: 10 | G12: 0.012931034 | H12: 0.013700838 | I12: - | J12: - | K12: 0.044117647 | L12: 0.12139781 | M12: 0.24264706 | N12: 0.73484598 | O12: 1.2647059 | P12: 2.7236668 | Q12: 0.53 | R12: 0.59572706 | S12: 0.375 | T12: 1.0447168 | U12: 0.051470588 | V12: 0.10715469 | W12: 0.53676471 | X12: 0.68176549 | Y12: 0.022058824 | Z12: 0.011510434 | AA12: 0.044117647 | AB12: 0.0071215634 | AC12: 0.095588235 | AD12: 0.17042067 | AE12: 0.0073529412 | AF12: 0.0036435906 | AG12: 0.39705882 | AH12: 0.88969858 | AI12: 0 | AJ12: 0.013824265 | AK12: 3.275 | AL12: 0.72195893 | AM12: 0 | AN12: 0 | AO12: 0 | AP12: 0.013684211 | AQ12: 0 | AR12: 0.035263158 | AS12: 0.10714286 | AT12: 0.26736842 | AU12: 0 | AV12: 0.0094736842 | AW12: 0 | AX12: 0.0010526316 | AY12: - | AZ12: -
A13: 11 | C13: 11 | D13: 2004 | E13: 平成16年 | F13: 11 | G13: 0.025862069 | H13: 0.061143348 | I13: - | J13: - | K13: 0.029411765 | L13: 0.15965552 | M13: 0.23529412 | N13: 1.0833057 | O13: 0.83823529 | P13: 4.3767804 | Q13: 1.065 | R13: 1.2294634 | S13: 0.26470588 | T13: 0.8992216 | U13: 0.044117647 | V13: 0.16023518 | W13: 0.47058824 | X13: 0.66868168 | Y13: 0.036764706 | Z13: 0.015733687 | AA13: 0.014705882 | AB13: 0.0052169593 | AC13: 0.058823529 | AD13: 0.085127526 | AE13: 0.014705882 | AF13: 0.0037263995 | AG13: 0.50735294 | AH13: 1.0096058 | AI13: 0 | AJ13: 0.015402844 | AK13: 3.525 | AL13: 0.65442338 | AM13: 0 | AN13: 0 | AO13: 0 | AP13: 0.021578947 | AQ13: 0 | AR13: 0.031578947 | AS13: 0.035714286 | AT13: 0.37157895 | AU13: 0 | AV13: 0.015789474 | AW13: 0 | AX13: 0.00052631579 | AY13: - | AZ13: -
A14: 12 | D14: 2004 | E14: 平成16年 | F14: 12 | G14: 0.14482759 | H14: 0.33148506 | I14: - | J14: - | K14: 0.035294118 | L14: 0.2777741 | M14: 0.73529412 | N14: 1.4139781 | O14: 2.4235294 | P14: 12.451606 | Q14: 2.2 | R14: 2.0832064 | S14: 0.31764706 | T14: 0.56800265 | U14: 0.023529412 | V14: 0.19118914 | W14: 0.41176471 | X14: 0.61854919 | Y14: 0.017647059 | Z14: 0.016429281 | AA14: 0.029411765 | AB14: 0.0049685326 | AC14: 0.082352941 | AD14: 0.056972507 | AE14: 0 | AF14: 0.0037760848 | AG14: 0.55294118 | AH14: 1.0985094 | AI14: 0.06 | AJ14: 0.017693523 | AK14: 1.78 | AL14: 0.62622433 | AM14: 0 | AN14: 0 | AO14: 0 | AP14: 0.013052632 | AQ14: 0 | AR14: 0.027368421 | AS14: 0.085714286 | AT14: 0.34652632 | AU14: 0 | AV14: 0.010947368 | AW14: 0 | AX14: 0.00084210526 | AY14: - | AZ14: -
A15: 13 | B15: 2005 | C15: 1 | D15: 2005 | E15: 平成17年 | F15: 1 | G15: 1.9862069 | H15: 5.7096067 | I15: - | J15: - | K15: 0.011764706 | L15: 0.21271944 | M15: 0.47058824 | N15: 1.2836038 | O15: 7.0411765 | P15: 10.63796 | Q15: 5.2294118 | R15: 2.251474 | S15: 0.18235294 | T15: 0.20543226 | U15: 0.017647059 | V15: 0.25385889 | W15: 0.48823529 | X15: 0.66041736 | Y15: 0.0058823529 | Z15: 0.0070884399 | AA15: 0.017647059 | AB15: 0.0045048029 | AC15: 0.047058824 | AD15: 0.033719775 | AE15: 0 | AF15: 0.0029811196 | AG15: 0.59411765 | AH15: 1.0460417 | AI15: 0 | AJ15: 0.024328594 | AK15: 1.34 | AL15: 0.6600316 | AM15: - | AN15: - | AO15: 0 | AP15: 0.015157895 | AQ15: 0 | AR15: 0.021052632 | AS15: 0.028571429 | AT15: 0.20210526 | AU15: 0 | AV15: 0.012210526 | AW15: 0 | AX15: 0.00042105263 | AY15: - | AZ15: -
A16: 14 | D16: 2005 | E16: 平成17年 | F16: 2 | G16: 20.366379 | H16: 42.910918 | I16: - | J16: - | K16: 0.014705882 | L16: 0.17340179 | M16: 0.46323529 | N16: 1.4331732 | O16: 2.5735294 | P16: 7.3467208 | Q16: 5.9852941 | R16: 1.8853097 | S16: 0.13970588 | T16: 0.17017224 | U16: 0.029411765 | V16: 0.21588274 | W16: 0.29411765 | X16: 0.56218947 | Y16: 0.022058824 | Z16: 0.004057635 | AA16: 0.044117647 | AB16: 0.006045048 | AC16: 0.022058824 | AD16: 0.039002981 | AE16: 0 | AF16: 0.0048857237 | AG16: 0.94852941 | AH16: 0.90054654 | AI16: 0 | AJ16: 0.02014218 | AK16: 1.125 | AL16: 0.69589258 | AM16: - | AN16: - | AO16: 0 | AP16: 0.012105263 | AQ16: 0.035714286 | AR16: 0.018421053 | AS16: 0.035714286 | AT16: 0.22736842 | AU16: 0 | AV16: 0.014736842 | AW16: 0 | AX16: 0 | AY16: - | AZ16: -
A17: 15 | C17: 3 | D17: 2005 | E17: 平成17年 | F17: 3 | G17: 51.99569 | H17: 25.63314 | I17: - | J17: - | K17: 0 | L17: 0.13680026 | M17: 0.45588235 | N17: 1.2153859 | O17: 1.0514706 | P17: 6.0317158 | Q17: 5.4264706 | R17: 1.6753892 | S17: 0.28676471 | T17: 0.15236833 | U17: 0.044117647 | V17: 0.20279894 | W17: 0.25735294 | X17: 0.5223584 | Y17: 0.022058824 | Z17: 0.0061278569 | AA17: 0.014705882 | AB17: 0.0066247102 | AC17: 0.014705882 | AD17: 0.052749255 | AE17: 0.0073529412 | AF17: 0.0024842663 | AG17: 0.69852941 | AH17: 0.98393508 | AI17: 0.05 | AJ17: 0.019352291 | AK17: 0.725 | AL17: 0.63586098 | AM17: - | AN17: - | AO17: 0.035714286 | AP17: 0.012105263 | AQ17: 0 | AR17: 0.02 | AS17: 0.17857143 | AT17: 0.23157895 | AU17: 0 | AV17: 0.012631579 | AW17: 0 | AX17: 0 | AY17: - | AZ17: -
A18: 16 | D18: 2005 | E18: 平成17年 | F18: 4 | G18: 11.952586 | H18: 3.648775 | I18: - | J18: - | K18: 0.036764706 | L18: 0.1893839 | M18: 0.71323529 | N18: 1.2675555 | O18: 0.59558824 | P18: 5.617423 | Q18: 4.2573529 | R18: 1.6072375 | S18: 1.4411765 | T18: 0.20023186 | U18: 0.080882353 | V18: 0.25985426 | W18: 0.32352941 | X18: 0.6706691 | Y18: 0.014705882 | Z18: 0.0076184179 | AA18: 0.073529412 | AB18: 0.0065419013 | AC18: 0.022058824 | AD18: 0.14723418 | AE18: 0.022058824 | AF18: 0.0035607817 | AG18: 1.2058824 | AH18: 0.97267307 | AI18: 0 | AJ18: 0.022116904 | AK18: 0.975 | AL18: 0.68404423 | AM18: - | AN18: - | AO18: 0.035714286 | AP18: 0.0068421053 | AQ18: 0 | AR18: 0.024210526 | AS18: 0.46428571 | AT18: 0.23157895 | AU18: 0 | AV18: 0.016842105 | AW18: 0 | AX18: 0.0010526316 | AY18: - | AZ18: -
A19: 17 | C19: 5 | D19: 2005 | E19: 平成17年 | F19: 5 | G19: 2.6068966 | H19: 0.62157748 | I19: - | J19: - | K19: 0.017647059 | L19: 0.3382577 | M19: 0.65882353 | N19: 1.6508115 | O19: 0.44705882 | P19: 5.4684995 | Q19: 2.2588235 | R19: 2.1560119 | S19: 8.5294118 | T19: 0.45756873 | U19: 0.088235294 | V19: 0.34839351 | W19: 0.54117647 | X19: 0.69069228 | Y19: 0.058823529 | Z19: 0.0096720768 | AA19: 0.023529412 | AB19: 0.0062934747 | AC19: 0.047058824 | AD19: 0.53083803 | AE19: 0.0058823529 | AF19: 0.0043060616 | AG19: 1.5352941 | AH19: 1.1550845 | AI19: 0.02 | AJ19: 0.027488152 | AK19: 0.86 | AL19: 0.85624013 | AM19: - | AN19: - | AO19: 0 | AP19: 0.012631579 | AQ19: 0 | AR19: 0.018105263 | AS19: 0.25714286 | AT19: 0.25094737 | AU19: 0 | AV19: 0.017684211 | AW19: 0 | AX19: 0.00084210526 | AY19: - | AZ19: -
A20: 18 | D20: 2005 | E20: 平成17年 | F20: 6 | G20: 3.1077586 | H20: 0.089565871 | I20: - | J20: - | K20: 0.036764706 | L20: 0.59473336 | M20: 0.375 | N20: 1.6136138 | O20: 0.55147059 | P20: 4.2008115 | Q20: 0.97058824 | R20: 2.2397317 | S20: 6.8970588 | T20: 1.1602352 | U20: 0.11029412 | V20: 0.50968864 | W20: 0.47058824 | X20: 0.79521365 | Y20: 0 | Z20: 0.010185492 | AA20: 0.0073529412 | AB20: 0.0096058297 | AC20: 0.036764706 | AD20: 2.856575 | AE20: 0.0073529412 | AF20: 0.008777741 | AG20: 1.8235294 | AH20: 1.3820802 | AI20: 0 | AJ20: 0.022116904 | AK20: 1.95 | AL20: 1.0240916 | AM20: - | AN20: - | AO20: 0 | AP20: 0.014736842 | AQ20: 0 | AR20: 0.042631579 | AS20: 0.14285714 | AT20: 0.3 | AU20: 0 | AV20: 0.015263158 | AW20: 0 | AX20: 0 | AY20: - | AZ20: -
A21: 19 | C21: 7 | D21: 2005 | E21: 平成17年 | F21: 7 | G21: 11.672414 | H21: 0.15828498 | I21: - | J21: - | K21: 0.036764706 | L21: 0.59158662 | M21: 0.19117647 | N21: 0.92025505 | O21: 0.61764706 | P21: 2.7890858 | Q21: 0.65441176 | R21: 1.2096721 | S21: 1.5147059 | T21: 1.998261 | U21: 0.051470588 | V21: 0.36485591 | W21: 0.49264706 | X21: 0.76051673 | Y21: 0.029411765 | Z21: 0.010847963 | AA21: 0.0073529412 | AB21: 0.008777741 | AC21: 0.21323529 | AD21: 5.0121729 | AE21: 0 | AF21: 0.0079496522 | AG21: 2.5294118 | AH21: 1.5658331 | AI21: 0.05 | AJ21: 0.023301738 | AK21: 4.225 | AL21: 1.1137441 | AM21: - | AN21: - | AO21: 0 | AP21: 0.012105263 | AQ21: 0 | AR21: 0.056842105 | AS21: 0.28571429 | AT21: 0.25315789 | AU21: 0 | AV21: 0.0063157895 | AW21: 0 | AX21: 0.0010526316 | AY21: - | AZ21: -
A22: 20 | D22: 2005 | E22: 平成17年 | F22: 8 | G22: 2.6413793 | H22: 0.039200516 | I22: - | J22: - | K22: 0.12352941 | L22: 0.45518384 | M22: 0.17058824 | N22: 0.46505465 | O22: 0.81764706 | P22: 2.2431269 | Q22: 0.56470588 | R22: 0.63358728 | S22: 0.22352941 | T22: 0.95886055 | U22: 0.070588235 | V22: 0.21099702 | W22: 0.49411765 | X22: 0.76979132 | Y22: 0.0058823529 | Z22: 0.012056973 | AA22: 0.0058823529 | AB22: 0.0056972507 | AC22: 0.65882353 | AD22: 1.5930441 | AE22: 0 | AF22: 0.0040410732 | AG22: 3.0235294 | AH22: 1.2434581 | AI22: 0.02 | AJ22: 0.034123223 | AK22: 4 | AL22: 1.2533965 | AM22: - | AN22: - | AO22: 0 | AP22: 0.012210526 | AQ22: 0.028571429 | AR22: 0.058105263 | AS22: 0.2 | AT22: 0.21810526 | AU22: 0 | AV22: 0.0084210526 | AW22: 0 | AX22: 0.00042105263 | AY22: - | AZ22: -
A23: 21 | C23: 9 | D23: 2005 | E23: 平成17年 | F23: 9 | G23: 1.7025862 | H23: 0.026864389 | I23: - | J23: - | K23: 0.014705882 | L23: 0.28875455 | M23: 0.14705882 | N23: 0.50728718 | O23: 0.91911765 | P23: 2.367423 | Q23: 0.52205882 | R23: 0.44509771 | S23: 0.058823529 | T23: 0.61783703 | U23: 0.0073529412 | V23: 0.14756542 | W23: 0.40441176 | X23: 0.7649056 | Y23: 0.029411765 | Z23: 0.010682345 | AA23: 0 | AB23: 0.0050513415 | AC23: 0.88970588 | AD23: 0.63746274 | AE23: 0 | AF23: 0.0028983107 | AG23: 3.6544118 | AH23: 1.1030971 | AI23: 0.05 | AJ23: 0.015797788 | AK23: 4.5 | AL23: 1.2460506 | AM23: - | AN23: - | AO23: 0 | AP23: 0.011578947 | AQ23: 0 | AR23: 0.045263158 | AS23: 0.10714286 | AT23: 0.24684211 | AU23: 0 | AV23: 0.01 | AW23: 0 | AX23: 0.00052631579 | AY23: - | AZ23: -
A24: 22 | D24: 2005 | E24: 平成17年 | F24: 10 | G24: 1.3551724 | H24: 0.029701268 | I24: - | J24: - | K24: 0.023529412 | L24: 0.17634978 | M24: 0.16470588 | N24: 0.78297449 | O24: 0.87058824 | P24: 2.9229546 | Q24: 0.34117647 | R24: 0.6572375 | S24: 0.052941176 | T24: 0.38761179 | U24: 0.0058823529 | V24: 0.12964558 | W24: 0.40588235 | X24: 0.67240808 | Y24: 0.011764706 | Z24: 0.0097383239 | AA24: 0.011764706 | AB24: 0.0037760848 | AC24: 0.29411765 | AD24: 0.23140113 | AE24: 0 | AF24: 0.0023848957 | AG24: 3.6823529 | AH24: 1.1583306 | AI24: 0.04 | AJ24: 0.019905213 | AK24: 3.46 | AL24: 0.93238547 | AM24: - | AN24: - | AO24: 0 | AP24: 0.011789474 | AQ24: 0 | AR24: 0.026105263 | AS24: 0.22857143 | AT24: 0.37347368 | AU24: 0 | AV24: 0.012210526 | AW24: 0 | AX24: 0 | AY24: - | AZ24: -
A25: 23 | C25: 11 | D25: 2005 | E25: 平成17年 | F25: 11 | G25: 1.2025862 | H25: 0.20599613 | I25: - | J25: - | K25: 0.044117647 | L25: 0.27293806 | M25: 0.11764706 | N25: 1.4094071 | O25: 1.6470588 | P25: 7.6830076 | Q25: 0.47794118 | R25: 1.4727559 | S25: 0.022058824 | T25: 0.27956277 | U25: 0 | V25: 0.16437562 | W25: 0.28676471 | X25: 0.65038092 | Y25: 0 | Z25: 0.0081980788 | AA25: 0.0073529412 | AB25: 0.0031467373 | AC25: 0.044117647 | AD25: 0.1073203 | AE25: 0 | AF25: 0.0024014574 | AG25: 4.5147059 | AH25: 1.3837363 | AI25: 0 | AJ25: 0.016192733 | AK25: 1.825 | AL25: 0.85347551 | AM25: - | AN25: - | AO25: 0.035714286 | AP25: 0.017368421 | AQ25: 0 | AR25: 0.021052632 | AS25: 0.21428571 | AT25: 0.39421053 | AU25: 0 | AV25: 0.013684211 | AW25: 0 | AX25: 0.0010526316 | AY25: - | AZ25: -
A26: 24 | D26: 2005 | E26: 平成17年 | F26: 12 | G26: 3.3146552 | H26: 3.0428218 | I26: - | J26: - | K26: 0.022058824 | L26: 0.38870487 | M26: 0.40441176 | N26: 1.6668599 | O26: 4.3529412 | P26: 14.95048 | Q26: 1.1691176 | R26: 2.3270951 | S26: 0.029411765 | T26: 0.18482941 | U26: 0 | V26: 0.19650547 | W26: 0.34558824 | X26: 0.56492216 | Y26: 0.014705882 | Z26: 0.0077012256 | AA26: 0 | AB26: 0.0032295462 | AC26: 0.051470588 | AD26: 0.049022855 | AE26: 0.014705882 | AF26: 0.0024842663 | AG26: 4.9338235 | AH26: 1.4417026 | AI26: 0 | AJ26: 0.016192733 | AK26: 1.75 | AL26: 0.76579779 | AM26: - | AN26: - | AO26: 0 | AP26: 0.010526316 | AQ26: 0 | AR26: 0.014736842 | AS26: 0.14285714 | AT26: 0.33105263 | AU26: 0 | AV26: 0.013684211 | AW26: 0 | AX26: 0.00052631579 | AY26: - | AZ26: -
A27: 25 | B27: 2006 | C27: 1 | D27: 2006 | E27: 平成18年 | F27: 1 | G27: 12.131034 | H27: 21.845001 | I27: - | J27: - | K27: 0.076470588 | L27: 0.23694608 | M27: 0.47647059 | N27: 1.4723295 | O27: 1.1176471 | P27: 8.4093123 | Q27: 2.3941176 | R27: 2.0728838 | S27: 0.029411765 | T27: 0.07876127 | U27: 0.035294118 | V27: 0.27181467 | W27: 0.29411765 | X27: 0.53858522 | Y27: 0 | Z27: 0.0046638575 | AA27: 0.0058823529 | AB27: 0.0024960677 | AC27: 0.029411765 | AD27: 0.027326525 | AE27: 0.0058823529 | AF27: 0.0014451429 | AG27: 4.1941176 | AH27: 1.2676644 | AI27: 0 | AJ27: 0.022015504 | AK27: 0.68 | AL27: 0.80992248 | AM27: - | AN27: - | AO27: 0 | AP27: 0.011498295 | AQ27: 0 | AR27: 0.019387921 | AS27: 0.085714286 | AT27: 0.26925499 | AU27: 0 | AV27: 0.017225827 | AW27: 0 | AX27: 0 | AY27: - | AZ27: -
A28: 26 | D28: 2006 | E28: 平成18年 | F28: 2 | G28: 13.637931 | H28: 14.415712 | I28: - | J28: - | K28: 0.19117647 | L28: 0.28683148 | M28: 0.83823529 | N28: 2.3204333 | O28: 0.58823529 | P28: 8.5474374 | Q28: 3.5661765 | R28: 1.9819621 | S28: 0.036764706 | T28: 0.086797253 | U28: 0.080882353 | V28: 0.23928593 | W28: 0.23529412 | X28: 0.54804043 | Y28: 0.029411765 | Z28: 0.0056660765 | AA28: 0 | AB28: 0.0029561235 | AC28: 0.022058824 | AD28: 0.03210747 | AE28: 0 | AF28: 0.002381276 | AG28: 4.9264706 | AH28: 1.2659044 | AI28: 0.025 | AJ28: 0.021317829 | AK28: 0.825 | AL28: 0.75775194 | AM28: - | AN28: - | AO28: 0 | AP28: 0.014999707 | AQ28: 0 | AR28: 0.033957417 | AS28: 0.035714286 | AT28: 0.25706774 | AU28: 0 | AV28: 0.011127987 | AW28: 0 | AX28: 0.00065274151 | AY28: - | AZ28: -
A29: 27 | C29: 3 | D29: 2006 | E29: 平成18年 | F29: 3 | G29: 4.9396552 | H29: 3.3078385 | I29: 0.095588235 | J29: 0.020209581 | K29: 0.28676471 | L29: 0.40067169 | M29: 0.89705882 | N29: 2.3698194 | O29: 0.57352941 | P29: 7.8733114 | Q29: 4.1102941 | R29: 2.1922592 | S29: 0.029411765 | T29: 0.089689892 | U29: 0.044117647 | V29: 0.30573681 | W29: 0.36029412 | X29: 0.59524882 | Y29: 0.0073529412 | Z29: 0.0095690198 | AA29: 0 | AB29: 0.0044510801 | AC29: 0.0073529412 | AD29: 0.049950635 | AE29: 0.0073529412 | AF29: 0.001898171 | AG29: 4.7132353 | AH29: 1.5863961 | AI29: 0.025 | AJ29: 0.028775728 | AK29: 0.775 | AL29: 0.75783404 | AM29: - | AN29: - | AO29: 0 | AP29: 0.016131099 | AQ29: 0 | AR29: 0.026768955 | AS29: 0.10714286 | AT29: 0.32829806 | AU29: 0 | AV29: 0.01024274 | AW29: 0 | AX29: 0.00065616798 | AY29: - | AZ29: -
A30: 28 | D30: 2006 | E30: 平成18年 | F30: 4 | G30: 1.6034483 | H30: 0.76609771 | I30: 0.29411765 | J30: 0.06090027 | K30: 0.55147059 | L30: 0.43756827 | M30: 0.92647059 | N30: 1.9182855 | O30: 2.0073529 | P30: 6.4704294 | Q30: 4.5661765 | R30: 2.0500645 | S30: 0.066176471 | T30: 0.13963792 | U30: 0.058823529 | V30: 0.41924256 | W30: 0.55147059 | X30: 0.66486487 | Y30: 0.036764706 | Z30: 0.0095484335 | AA30: 0.0073529412 | AB30: 0.0041505758 | AC30: 0.19852941 | AD30: 0.1165117 | AE30: 0 | AF30: 0.0032380537 | AG30: 3.0220588 | AH30: 1.3449285 | AI30: 0 | AJ30: 0.029339508 | AK30: 2.075 | AL30: 0.82052632 | AM30: - | AN30: - | AO30: 0 | AP30: 0.011456882 | AQ30: 0.071428571 | AR30: 0.033257503 | AS30: 0.46428571 | AT30: 0.30655332 | AU30: 0 | AV30: 0.0085698943 | AW30: 0 | AX30: 0.0040088384 | AY30: - | AZ30: -
A31: 29 | C31: 5 | D31: 2006 | E31: 平成18年 | F31: 5 | G31: 5.4241379 | H31: 0.87747048 | I31: 0.21176471 | J31: 0.036832824 | K31: 0.89411765 | L31: 0.81558528 | M31: 0.60588235 | N31: 2.3084903 | O31: 2.2764706 | P31: 5.3823694 | Q31: 3.7235294 | R31: 2.6147852 | S31: 0.15294118 | T31: 0.38226931 | U31: 0.070588235 | V31: 0.54404894 | W31: 0.57058824 | X31: 0.64401563 | Y31: 0.0058823529 | Z31: 0.0092172687 | AA31: 0 | AB31: 0.004310554 | AC31: 0.26470588 | AD31: 0.68950899 | AE31: 0 | AF31: 0.0083617239 | AG31: 2.1176471 | AH31: 1.5389142 | AI31: 0 | AJ31: 0.035948317 | AK31: 1.86 | AL31: 1.1046106 | AM31: - | AN31: - | AO31: 0.028571429 | AP31: 0.011651753 | AQ31: 0 | AR31: 0.029522488 | AS31: 0.48571429 | AT31: 0.37634679 | AU31: 0 | AV31: 0.0071349918 | AW31: 0 | AX31: 0.0027027714 | AY31: - | AZ31: -
A32: 30 | D32: 2006 | E32: 平成18年 | F32: 6 | G32: 20.887931 | H32: 0.69397824 | I32: 0.32352941 | J32: 0.029201613 | K32: 1.0367647 | L32: 1.3141579 | M32: 0.55147059 | N32: 2.2831435 | O32: 1.1029412 | P32: 3.9781072 | Q32: 1.7352941 | R32: 2.423653 | S32: 0.11764706 | T32: 1.0399583 | U32: 0.095588235 | V32: 0.69113377 | W32: 0.59558824 | X32: 0.74083362 | Y32: 0.014705882 | Z32: 0.014975647 | AA32: 0 | AB32: 0.0066181383 | AC32: 0.17647059 | AD32: 3.1070232 | AE32: 0 | AF32: 0.0073628179 | AG32: 1.3382353 | AH32: 1.6948753 | AI32: 0.05 | AJ32: 0.034642222 | AK32: 1.9 | AL32: 1.1829812 | AM32: - | AN32: - | AO32: 0 | AP32: 0.019427479 | AQ32: 0.14285714 | AR32: 0.067702358 | AS32: 0.85714286 | AT32: 0.42767601 | AU32: 0 | AV32: 0.011644609 | AW32: 0 | AX32: 0.0038852373 | AY32: - | AZ32: -
A33: 31 | C33: 7 | D33: 2006 | E33: 平成18年 | F33: 7 | G33: 6.5275862 | H33: 0.1856204 | I33: 0.37058824 | J33: 0.022728984 | K33: 0.60588235 | L33: 1.3178609 | M33: 0.45882353 | N33: 1.1746902 | O33: 1.2058824 | P33: 3.0300707 | Q33: 0.80588235 | R33: 1.290176 | S33: 0.54117647 | T33: 1.7919318 | U33: 0.18823529 | V33: 0.55018998 | W33: 0.45882353 | X33: 0.79165752 | Y33: 0.017647059 | Z33: 0.0089092109 | AA33: 0 | AB33: 0.0043221359 | AC33: 0.22941176 | AD33: 3.1892505 | AE33: 0.0058823529 | AF33: 0.0072466794 | AG33: 1.1352941 | AH33: 1.6545236 | AI33: 0 | AJ33: 0.027765932 | AK33: 1.68 | AL33: 1.3776379 | AM33: - | AN33: - | AO33: 0.028571429 | AP33: 0.018648959 | AQ33: 0.057142857 | AR33: 0.11943056 | AS33: 1.0857143 | AT33: 0.39613188 | AU33: 0 | AV33: 0.0071012652 | AW33: 0 | AX33: 0.0013333377 | AY33: - | AZ33: -
A34: 32 | D34: 2006 | E34: 平成18年 | F34: 8 | G34: 0.44396552 | H34: 0.014171897 | I34: 0.61764706 | J34: 0.023523366 | K34: 0.58823529 | L34: 0.78516001 | M34: 0.36029412 | N34: 0.58033176 | O34: 2.3235294 | P34: 2.4495602 | Q34: 0.47058824 | R34: 0.63722002 | S34: 1.9705882 | T34: 1.0512929 | U34: 0.036764706 | V34: 0.31206132 | W34: 0.48529412 | X34: 0.78594328 | Y34: 0.014705882 | Z34: 0.010312473 | AA34: 0 | AB34: 0.0031433421 | AC34: 0.25735294 | AD34: 0.79226448 | AE34: 0 | AF34: 0.0045277343 | AG34: 0.58088235 | AH34: 1.1719816 | AI34: 0 | AJ34: 0.024744832 | AK34: 1.525 | AL34: 1.2201232 | AM34: - | AN34: - | AO34: 0 | AP34: 0.018297643 | AQ34: 0.14285714 | AR34: 0.085383296 | AS34: 0.82142857 | AT34: 0.38915104 | AU34: 0 | AV34: 0.0099803016 | AW34: 0 | AX34: 0.0017854348 | AY34: - | AZ34: -
A35: 33 | C35: 9 | D35: 2006 | E35: 平成18年 | F35: 9 | G35: 0.18103448 | H35: 0.0080254126 | I35: 0.29411765 | J35: 0.040307579 | K35: 0.44852941 | L35: 0.49881753 | M35: 0.36029412 | N35: 0.78628708 | O35: 3.2647059 | P35: 2.8628421 | Q35: 0.35294118 | R35: 0.5368912 | S35: 2.3823529 | T35: 1.0304381 | U35: 0.044117647 | V35: 0.25463548 | W35: 0.40441176 | X35: 0.76009421 | Y35: 0.0073529412 | Z35: 0.013540938 | AA35: 0 | AB35: 0.0017429391 | AC35: 0.27205882 | AD35: 0.32510787 | AE35: 0.0073529412 | AF35: 0.0014967737 | AG35: 0.57352941 | AH35: 0.92109278 | AI35: 0.05 | AJ35: 0.017760584 | AK35: 1.225 | AL35: 1.0700061 | AM35: - | AN35: - | AO35: 0 | AP35: 0.011090181 | AQ35: 0.10714286 | AR35: 0.062100407 | AS35: 1.0714286 | AT35: 0.40134484 | AU35: 0 | AV35: 0.017742087 | AW35: 0.071428571 | AX35: 0.0011086475 | AY35: - | AZ35: -
A36: 34 | D36: 2006 | E36: 平成18年 | F36: 10 | G36: 0.13448276 | H36: 0.0083573832 | I36: 0.10588235 | J36: 0.053023565 | K36: 0.11176471 | L36: 0.27847198 | M36: 0.25294118 | N36: 1.242327 | O36: 3.3882353 | P36: 4.9105274 | Q36: 0.6 | R36: 0.72919212 | S36: 1.6 | T36: 0.80435968 | U36: 0.035294118 | V36: 0.26762004 | W36: 0.55294118 | X36: 0.63834658 | Y36: 0.035294118 | Z36: 0.013224435 | AA36: 0 | AB36: 0.0025246453 | AC36: 0.094117647 | AD36: 0.1130555 | AE36: 0.011764706 | AF36: 0.0023263531 | AG36: 0.62352941 | AH36: 0.97410815 | AI36: 0 | AJ36: 0.017868703 | AK36: 0.88 | AL36: 0.79376623 | AM36: - | AN36: - | AO36: 0.028571429 | AP36: 0.018172199 | AQ36: 0.028571429 | AR36: 0.039850867 | AS36: 2.2571429 | AT36: 0.54815213 | AU36: 0 | AV36: 0.021268633 | AW36: 0 | AX36: 0.0004454343 | AY36: - | AZ36: -
A37: 35 | C37: 11 | D37: 2006 | E37: 平成18年 | F37: 11 | G37: 0.42672414 | H37: 0.04948025 | I37: 0.080882353 | J37: 0.2061265 | K37: 0.044117647 | L37: 0.35418854 | M37: 0.375 | N37: 1.7435936 | O37: 2.8897059 | P37: 17.277791 | Q37: 1.0367647 | R37: 1.3524257 | S37: 0.41911765 | T37: 0.55173761 | U37: 0.029411765 | V37: 0.32786508 | W37: 0.52205882 | X37: 0.6106714 | Y37: 0.036764706 | Z37: 0.0091972846 | AA37: 0 | AB37: 0.0014083561 | AC37: 0.066176471 | AD37: 0.048549766 | AE37: 0.022058824 | AF37: 0.0022379286 | AG37: 0.98529412 | AH37: 0.90736503 | AI37: 0.05 | AJ37: 0.02237866 | AK37: 0.925 | AL37: 0.72148871 | AM37: - | AN37: - | AO37: 0.035714286 | AP37: 0.022013172 | AQ37: 0.25 | AR37: 0.023673648 | AS37: 2.2857143 | AT37: 0.62521336 | AU37: 0 | AV37: 0.020361179 | AW37: 0 | AX37: 0.0016507721 | AY37: - | AZ37: -
A38: 36 | D38: 2006 | E38: 平成18年 | F38: 12 | G38: 0.77586207 | H38: 0.23353719 | I38: 0.051470588 | J38: 0.98049941 | K38: 0.058823529 | L38: 0.54774993 | M38: 0.57352941 | N38: 2.1780531 | O38: 6.6544118 | P38: 18.14631 | Q38: 1.5073529 | R38: 2.3667286 | S38: 0.20588235 | T38: 0.46441054 | U38: 0.058823529 | V38: 0.41734243 | W38: 0.35294118 | X38: 0.57294343 | Y38: 0.0073529412 | Z38: 0.0074219169 | AA38: 0.0073529412 | AB38: 0.0016749473 | AC38: 0.022058824 | AD38: 0.033523388 | AE38: 0 | AF38: 0.0030002215 | AG38: 0.75 | AH38: 0.87505402 | AI38: 0.05 | AJ38: 0.026017255 | AK38: 0.725 | AL38: 0.6618586 | AM38: - | AN38: - | AO38: 0.17857143 | AP38: 0.019345252 | AQ38: 0.21428571 | AR38: 0.030363373 | AS38: 3.1428571 | AT38: 0.58984475 | AU38: 0 | AV38: 0.011590754 | AW38: 0 | AX38: 0.0033064551 | AY38: - | AZ38: -
A39: 37 | B39: 2007 | C39: 1 | D39: 2007 | E39: 平成19年 | F39: 1 | G39: 2.0551724 | H39: 1.9097006 | I39: 0.22941176 | J39: 0.95048624 | K39: 0.011764706 | L39: 0.31385102 | M39: 0.87647059 | N39: 1.8998445 | O39: 3.8411765 | P39: 6.2662169 | Q39: 2.6764706 | R39: 2.3096668 | S39: 0.25294118 | T39: 0.29078939 | U39: 0.076470588 | V39: 0.60811279 | W39: 0.42352941 | X39: 0.59456582 | Y39: 0.047058824 | Z39: 0.010610193 | AA39: 0.029411765 | AB39: 0.0023311999 | AC39: 0.0058823529 | AD39: 0.023894502 | AE39: 0 | AF39: 0.0031904741 | AG39: 0.64705882 | AH39: 0.68263785 | AI39: 0.02 | AJ39: 0.023694839 | AK39: 0.94 | AL39: 0.66241577 | AM39: - | AN39: - | AO39: 0.14285714 | AP39: 0.015561622 | AQ39: 0.28571429 | AR39: 0.021391063 | AS39: 3.5428571 | AT39: 0.50099007 | AU39: 0 | AV39: 0.0088949073 | AW39: 0 | AX39: 0.0035605534 | AY39: - | AZ39: -
A40: 38 | D40: 2007 | E40: 平成19年 | F40: 2 | G40: 18.642241 | H40: 15.901211 | I40: 0.23529412 | J40: 0.50562113 | K40: 0.051470588 | L40: 0.32966945 | M40: 0.94852941 | N40: 2.4347179 | O40: 3.875 | P40: 6.7152012 | Q40: 4.8308824 | R40: 2.3555428 | S40: 0.11764706 | T40: 0.34423986 | U40: 0.125 | V40: 0.57095033 | W40: 0.38235294 | X40: 0.58155418 | Y40: 0.014705882 | Z40: 0.0090251242 | AA40: 0 | AB40: 0.0030651842 | AC40: 0.014705882 | AD40: 0.038665887 | AE40: 0 | AF40: 0.0043080178 | AG40: 0.67647059 | AH40: 0.59722899 | AI40: 0 | AJ40: 0.022808961 | AK40: 1.125 | AL40: 0.63110503 | AM40: - | AN40: - | AO40: 0.14285714 | AP40: 0.014893385 | AQ40: 0.10714286 | AR40: 0.01931207 | AS40: 4.7857143 | AT40: 0.52703348 | AU40: 0 | AV40: 0.012690752 | AW40: 0 | AX40: 0.0027606082 | AY40: - | AZ40: -
A41: 39 | C41: 3 | D41: 2007 | E41: 平成19年 | F41: 3 | G41: 44.056034 | H41: 28.608705 | I41: 0.35294118 | J41: 0.16483922 | K41: 0.073529412 | L41: 0.27977621 | M41: 1.0294118 | N41: 2.2115523 | O41: 2.2794118 | P41: 7.1973785 | Q41: 5.1470588 | R41: 2.1766893 | S41: 0.13235294 | T41: 0.24543578 | U41: 0.25735294 | V41: 0.62001357 | W41: 0.44117647 | X41: 0.55644159 | Y41: 0.029411765 | Z41: 0.0097616503 | AA41: 0 | AB41: 0.0035577163 | AC41: 0.014705882 | AD41: 0.044417437 | AE41: 0 | AF41: 0.0041373227 | AG41: 0.45588235 | AH41: 0.5488071 | AI41: 0 | AJ41: 0.030233738 | AK41: 1.175 | AL41: 0.69164876 | AM41: - | AN41: - | AO41: 0.071428571 | AP41: 0.016087772 | AQ41: 0.071428571 | AR41: 0.016069376 | AS41: 5.25 | AT41: 0.44683119 | AU41: 0 | AV41: 0.019398997 | AW41: 0 | AX41: 0.016064448 | AY41: - | AZ41: -
A42: 40 | D42: 2007 | E42: 平成19年 | F42: 4 | G42: 15.955172 | H42: 6.1742772 | I42: 0.52352941 | J42: 0.095856695 | K42: 0.15294118 | L42: 0.27174368 | M42: 0.48235294 | N42: 1.7248814 | O42: 1.8529412 | P42: 6.3651998 | Q42: 3.6176471 | R42: 1.8022258 | S42: 0.094117647 | T42: 0.18607946 | U42: 0.26470588 | V42: 0.73521371 | W42: 0.46470588 | X42: 0.58539052 | Y42: 0.035294118 | Z42: 0.0096091814 | AA42: 0 | AB42: 0.0033480027 | AC42: 0.070588235 | AD42: 0.056446279 | AE42: 0 | AF42: 0.021968737 | AG42: 0.34705882 | AH42: 0.41010616 | AI42: 0.02 | AJ42: 0.027393582 | AK42: 0.8 | AL42: 0.69196653 | AM42: - | AN42: - | AO42: 0.085714286 | AP42: 0.013315849 | AQ42: 0.11428571 | AR42: 0.012886125 | AS42: 3.1428571 | AT42: 0.37263064 | AU42: 0 | AV42: 0.014654022 | AW42: 0 | AX42: 0.047076318 | AY42: - | AZ42: -
A43: 41 | C43: 5 | D43: 2007 | E43: 平成19年 | F43: 5 | G43: 7.2068966 | H43: 1.0435125 | I43: 0.39705882 | J43: 0.079665827 | K43: 0.14705882 | L43: 0.43895219 | M43: 0.91911765 | N43: 2.4603048 | O43: 1.5367647 | P43: 6.3928555 | Q43: 2.7867647 | R43: 2.3936486 | S43: 0.16176471 | T43: 0.3498526 | U43: 0.125 | V43: 0.81120891 | W43: 0.65441176 | X43: 0.72296939 | Y43: 0.014705882 | Z43: 0.0146717 | AA43: 0.014705882 | AB43: 0.0053057837 | AC43: 0.49264706 | AD43: 0.2639738 | AE43: 0 | AF43: 0.06988331 | AG43: 0.25735294 | AH43: 0.494717 | AI43: 0 | AJ43: 0.036535794 | AK43: 1.75 | AL43: 0.87304468 | AM43: - | AN43: - | AO43: 0.035714286 | AP43: 0.017567176 | AQ43: 0.071428571 | AR43: 0.0219088 | AS43: 2.6785714 | AT43: 0.45533597 | AU43: 0 | AV43: 0.01534057 | AW43: 0 | AX43: 0.1469552 | AY43: - | AZ43: -
A44: 42 | D44: 2007 | E44: 平成19年 | F44: 6 | G44: 8.9612069 | H44: 0.2422576 | I44: 0.64705882 | J44: 0.070700702 | K44: 0.095588235 | L44: 0.55203761 | M44: 0.75735294 | N44: 2.1957332 | O44: 1.0882353 | P44: 5.1081557 | Q44: 1.375 | R44: 2.016725 | S44: 0.13970588 | T44: 0.81994426 | U44: 0.22794118 | V44: 0.98665812 | W44: 0.58088235 | X44: 0.77946624 | Y44: 0.029411765 | Z44: 0.026492161 | AA44: 0 | AB44: 0.0052137192 | AC44: 0.57352941 | AD44: 1.2257877 | AE44: 0 | AF44: 0.051092781 | AG44: 0.26470588 | AH44: 0.49548786 | AI44: 0.025 | AJ44: 0.029335986 | AK44: 0.575 | AL44: 0.79917879 | AM44: - | AN44: - | AO44: 0.035714286 | AP44: 0.01238083 | AQ44: 0.28571429 | AR44: 0.033994623 | AS44: 1.9642857 | AT44: 0.3888504 | AU44: 0 | AV44: 0.024783665 | AW44: 0 | AX44: 0.093844378 | AY44: - | AZ44: -
A45: 43 | C45: 7 | D45: 2007 | E45: 平成19年 | F45: 7 | G45: 11.568966 | H45: 0.1719724 | I45: 0.54117647 | J45: 0.047327187 | K45: 0.12352941 | L45: 0.48776061 | M45: 0.55294118 | N45: 1.3363046 | O45: 1.0117647 | P45: 3.4788874 | Q45: 0.77058824 | R45: 1.0160173 | S45: 0.14705882 | T45: 1.7411581 | U45: 0.11176471 | V45: 0.71833846 | W45: 0.58823529 | X45: 0.75505113 | Y45: 0.047058824 | Z45: 0.018297546 | AA45: 0.0058823529 | AB45: 0.0037772793 | AC45: 0.31176471 | AD45: 4.1185326 | AE45: 0 | AF45: 0.024724637 | AG45: 0.23529412 | AH45: 0.44592183 | AI45: 0.08 | AJ45: 0.018105981 | AK45: 1.6 | AL45: 0.74644978 | AM45: - | AN45: - | AO45: 0 | AP45: 0.014667601 | AQ45: 0.028571429 | AR45: 0.042700361 | AS45: 2.8 | AT45: 0.32012198 | AU45: 0 | AV45: 0.01726317 | AW45: 0 | AX45: 0.051283969 | AY45: - | AZ45: -
A46: 44 | D46: 2007 | E46: 平成19年 | F46: 8 | G46: 4.8405172 | H46: 0.071420298 | I46: 0.56617647 | J46: 0.049947579 | K46: 0.11029412 | L46: 0.31989756 | M46: 0.32352941 | N46: 0.68360058 | O46: 1.7573529 | P46: 2.775923 | Q46: 0.57352941 | R46: 0.51904709 | S46: 0.375 | T46: 0.94694419 | U46: 0.080882353 | V46: 0.29310624 | W46: 0.46323529 | X46: 0.74675965 | Y46: 0.014705882 | Z46: 0.022340723 | AA46: 0 | AB46: 0.0030828221 | AC46: 0.088235294 | AD46: 1.9465752 | AE46: 0.0073529412 | AF46: 0.021092141 | AG46: 0.18382353 | AH46: 0.31637451 | AI46: 0.025 | AJ46: 0.017568412 | AK46: 1.975 | AL46: 0.71247502 | AM46: - | AN46: - | AO46: 0.071428571 | AP46: 0.015185946 | AQ46: 0 | AR46: 0.054220751 | AS46: 2.0714286 | AT46: 0.28577779 | AU46: 0 | AV46: 0.019512689 | AW46: 0 | AX46: 0.03035413 | AY46: - | AZ46: -
A47: 45 | C47: 9 | D47: 2007 | E47: 平成19年 | F47: 9 | G47: 5.7543103 | H47: 0.084853975 | I47: 0.53676471 | J47: 0.096525959 | K47: 0.029411765 | L47: 0.24536759 | M47: 0.30147059 | N47: 0.78505898 | O47: 3.7647059 | P47: 3.0706588 | Q47: 0.60294118 | R47: 0.4175992 | S47: 1.3529412 | T47: 0.82895493 | U47: 0.125 | V47: 0.20140579 | W47: 0.625 | X47: 0.77565342 | Y47: 0.0073529412 | Z47: 0.024216752 | AA47: 0 | AB47: 0.003328849 | AC47: 0.088235294 | AD47: 1.1268702 | AE47: 0 | AF47: 0.01554275 | AG47: 0.13235294 | AH47: 0.28514379 | AI47: 0.1 | AJ47: 0.023714125 | AK47: 2.225 | AL47: 0.67474321 | AM47: - | AN47: - | AO47: 0 | AP47: 0.015763284 | AQ47: 0.071428571 | AR47: 0.053817526 | AS47: 1.6785714 | AT47: 0.27351111 | AU47: 0 | AV47: 0.017954932 | AW47: 0 | AX47: 0.013050613 | AY47: - | AZ47: -
A48: 46 | D48: 2007 | E48: 平成19年 | F48: 10 | G48: 4.8724138 | H48: 0.1578299 | I48: 0.22941176 | J48: 0.18397576 | K48: 0.035294118 | L48: 0.12656724 | M48: 0.25294118 | N48: 1.0551575 | O48: 3.6058824 | P48: 3.5561722 | Q48: 0.48235294 | R48: 0.54837485 | S48: 2.6647059 | T48: 0.54751523 | U48: 0.064705882 | V48: 0.12156437 | W48: 0.48235294 | X48: 0.65376984 | Y48: 0.023529412 | Z48: 0.026042653 | AA48: 0 | AB48: 0.0017864297 | AC48: 0.094117647 | AD48: 0.30898009 | AE48: 0 | AF48: 0.0076642423 | AG48: 0.11176471 | AH48: 0.28161328 | AI48: 0.02 | AJ48: 0.014749697 | AK48: 1.16 | AL48: 0.55070769 | AM48: - | AN48: - | AO48: 0.11428571 | AP48: 0.016100358 | AQ48: 0.057142857 | AR48: 0.046101613 | AS48: 1.6 | AT48: 0.35475859 | AU48: 0 | AV48: 0.039574104 | AW48: 0.085714286 | AX48: 0.012597464 | AY48: - | AZ48: -
A49: 47 | C49: 11 | D49: 2007 | E49: 平成19年 | F49: 11 | G49: 3.0043103 | H49: 1.3147704 | I49: 0.11764706 | J49: 0.4659931 | K49: 0.080882353 | L49: 0.20009288 | M49: 0.33088235 | N49: 1.5843221 | O49: 2.5514706 | P49: 8.8888489 | Q49: 0.94852941 | R49: 1.2753596 | S49: 2.1029412 | T49: 0.44992542 | U49: 0.051470588 | V49: 0.14172624 | W49: 0.52205882 | X49: 0.6271597 | Y49: 0.014705882 | Z49: 0.028477907 | AA49: 0 | AB49: 0.0020695925 | AC49: 0.044117647 | AD49: 0.11084939 | AE49: 0.0073529412 | AF49: 0.013742826 | AG49: 0.11029412 | AH49: 0.2985996 | AI49: 0.05 | AJ49: 0.021384847 | AK49: 0.725 | AL49: 0.61174527 | AM49: - | AN49: - | AO49: 0 | AP49: 0.019545319 | AQ49: 0.035714286 | AR49: 0.021175754 | AS49: 1.9642857 | AT49: 0.40201416 | AU49: 0 | AV49: 0.028764475 | AW49: 0 | AX49: 0.0059676967 | AY49: - | AZ49: -
A50: 48 | D50: 2007 | E50: 平成19年 | F50: 12 | G50: 4.1767241 | H50: 5.7457106 | I50: 0.19852941 | J50: 1.0820144 | K50: 0.10294118 | L50: 0.29457205 | M50: 0.61029412 | N50: 1.907318 | O50: 2.1911765 | P50: 17.18641 | Q50: 1.5955882 | R50: 2.1080146 | S50: 1.6544118 | T50: 0.31648404 | U50: 0.051470588 | V50: 0.1837877 | W50: 0.38970588 | X50: 0.57024512 | Y50: 0.014705882 | Z50: 0.024212289 | AA50: 0 | AB50: 0.0014124129 | AC50: 0.0073529412 | AD50: 0.054771298 | AE50: 0 | AF50: 0.010405589 | AG50: 0.13235294 | AH50: 0.30318883 | AI50: 0 | AJ50: 0.024917018 | AK50: 0.5 | AL50: 0.59539373 | AM50: - | AN50: - | AO50: 0.035714286 | AP50: 0.021278805 | AQ50: 0.17857143 | AR50: 0.01527677 | AS50: 2.4285714 | AT50: 0.46783515 | AU50: 0 | AV50: 0.026760057 | AW50: 0 | AX50: 0.01145221 | AY50: - | AZ50: -
A51: 49 | B51: 2008 | C51: 1 | D51: 2008 | E51: 平成20年 | F51: 1 | G51: 6.6344828 | H51: 10.364202 | I51: 0.22352941 | J51: 0.55058349 | K51: 0.094117647 | L51: 0.19479283 | M51: 0.64705882 | N51: 1.4586884 | O51: 4.2529412 | P51: 8.481518 | Q51: 2.3176471 | R51: 1.8244706 | S51: 0.81176471 | T51: 0.14729678 | U51: 0.041176471 | V51: 0.17545896 | W51: 0.44117647 | X51: 0.51793094 | Y51: 0.029411765 | Z51: 0.016227424 | AA51: - | AB51: - | AC51: 0.011764706 | AD51: 0.02503064 | AE51: - | AF51: - | AG51: 0.052941176 | AH51: 0.25102626 | AI51: 0.06 | AJ51: 0.01782816 | AK51: 0.78 | AL51: 0.56557763 | AM51: - | AN51: - | AO51: 0.085714286 | AP51: 0.016961697 | AQ51: 0.057142857 | AR51: 0.0073944214 | AS51: 2.8571429 | AT51: 0.3693932 | AU51: 0 | AV51: 0.025672884 | AW51: - | AX51: - | AY51: - | AZ51: -
A52: 50 | D52: 2008 | E52: 平成20年 | F52: 2 | G52: 10.982759 | H52: 10.10937 | I52: 0.23529412 | J52: 0.28725107 | K52: 0.044117647 | L52: 0.22564608 | M52: 0.53676471 | N52: 2.1774241 | O52: 4.3161765 | P52: 9.755253 | Q52: 4.0147059 | R52: 1.701616 | S52: 0.58823529 | T52: 0.14884656 | U52: 0.10294118 | V52: 0.12359721 | W52: 0.35294118 | X52: 0.54500444 | Y52: 0.036764706 | Z52: 0.021318301 | AA52: - | AB52: - | AC52: 0.014705882 | AD52: 0.0263786 | AE52: - | AF52: - | AG52: 0.10294118 | AH52: 0.26094379 | AI52: 0 | AJ52: 0.029126301 | AK52: 0.7 | AL52: 0.68180428 | AM52: - | AN52: - | AO52: 0.035714286 | AP52: 0.015176226 | AQ52: 0.071428571 | AR52: 0.01463039 | AS52: 3.6071429 | AT52: 0.42298936 | AU52: 0 | AV52: 0.021703927 | AW52: - | AX52: - | AY52: - | AZ52: -
A53: 51 | C53: 3 | D53: 2008 | E53: 平成20年 | F53: 3 | G53: 14.244828 | H53: 3.2522968 | I53: 0.15882353 | J53: 0.14722874 | K53: 0.052941176 | L53: 0.27660882 | M53: 0.69411765 | N53: 2.2231235 | O53: 5.6235294 | P53: 10.563872 | Q53: 5.0647059 | R53: 1.6388187 | S53: 0.45294118 | T53: 0.15890134 | U53: 0.26470588 | V53: 0.1408565 | W53: 0.35294118 | X53: 0.58165367 | Y53: 0.047058824 | Z53: 0.029920834 | AA53: - | AB53: - | AC53: 0 | AD53: 0.03881025 | AE53: - | AF53: - | AG53: 0.058823529 | AH53: 0.32737706 | AI53: 0.04 | AJ53: 0.035501218 | AK53: 1.06 | AL53: 0.73017092 | AM53: - | AN53: - | AO53: 0.17142857 | AP53: 0.016530695 | AQ53: 0.2 | AR53: 0.01652787 | AS53: 3.1428571 | AT53: 0.39306156 | AU53: 0.028571429 | AV53: 0.01912701 | AW53: - | AX53: - | AY53: - | AZ53: -
A54: 52 | D54: 2008 | E54: 平成20年 | F54: 4 | G54: 6.7456897 | H54: 0.63652287 | I54: 0.17647059 | J54: 0.069581866 | K54: 0.066176471 | L54: 0.3630593 | M54: 0.41911765 | N54: 2.0875324 | O54: 3.7573529 | P54: 8.1001156 | Q54: 4.0147059 | R54: 1.655388 | S54: 0.35294118 | T54: 0.27827897 | U54: 0.23529412 | V54: 0.17304117 | W54: 0.53676471 | X54: 0.6612793 | Y54: 0.051470588 | Z54: 0.058933051 | AA54: - | AB54: - | AC54: 0.014705882 | AD54: 0.12490302 | AE54: - | AF54: - | AG54: 0.036764706 | AH54: 0.33455725 | AI54: 0.025 | AJ54: 0.032631372 | AK54: 0.55 | AL54: 0.65288304 | AM54: - | AN54: - | AO54: 0.10714286 | AP54: 0.019609321 | AQ54: 0.071428571 | AR54: 0.01907651 | AS54: 2.9285714 | AT54: 0.37748044 | AU54: 0 | AV54: 0.027794855 | AW54: - | AX54: - | AY54: - | AZ54: -
A55: 53 | C55: 5 | D55: 2008 | E55: 平成20年 | F55: 5 | G55: 3.375 | H55: 0.18413936 | I55: 0.16911765 | J55: 0.044151435 | K55: 0.088235294 | L55: 0.53368777 | M55: 0.32352941 | N55: 2.6108485 | O55: 2.5882353 | P55: 6.3450105 | Q55: 2.8602941 | R55: 2.1028323 | S55: 0.42647059 | T55: 0.60622843 | U55: 0.17647059 | V55: 0.1596974 | W55: 0.42647059 | X55: 0.66912057 | Y55: 0.13970588 | Z55: 0.096483877 | AA55: - | AB55: - | AC55: 0.11764706 | AD55: 0.32997199 | AE55: - | AF55: - | AG55: 0.095588235 | AH55: 0.41858535 | AI55: 0.025 | AJ55: 0.024405055 | AK55: 0.975 | AL55: 0.75628809 | AM55: - | AN55: - | AO55: 0.10714286 | AP55: 0.019007664 | AQ55: 0.035714286 | AR55: 0.032030014 | AS55: 2.3214286 | AT55: 0.38059217 | AU55: 0.035714286 | AV55: 0.02117455 | AW55: - | AX55: - | AY55: - | AZ55: -
A56: 54 | D56: 2008 | E56: 平成20年 | F56: 6 | G56: 2.6862069 | H56: 0.07681286 | I56: 0.61764706 | J56: 0.047545713 | K56: 0.24705882 | L56: 0.79917871 | M56: 0.34705882 | N56: 2.5791424 | O56: 1.8823529 | P56: 5.1466735 | Q56: 1.1411765 | R56: 1.9019757 | S56: 0.88235294 | T56: 1.7128115 | U56: 0.14705882 | V56: 0.20711522 | W56: 0.57058824 | X56: 0.75284042 | Y56: 0.10588235 | Z56: 0.071563203 | AA56: - | AB56: - | AC56: 0.24705882 | AD56: 1.7585264 | AE56: - | AF56: - | AG56: 0.25882353 | AH56: 0.54016287 | AI56: 0.04 | AJ56: 0.02312765 | AK56: 1.08 | AL56: 0.80858117 | AM56: - | AN56: - | AO56: 0.14285714 | AP56: 0.015628637 | AQ56: 0.14285714 | AR56: 0.039090885 | AS56: 2.8571429 | AT56: 0.36817956 | AU56: 0 | AV56: 0.026048349 | AW56: - | AX56: - | AY56: - | AZ56: -
A57: 55 | C57: 7 | D57: 2008 | E57: 平成20年 | F57: 7 | G57: 1.3146552 | H57: 0.026203698 | I57: 1.5 | J57: 0.074963905 | K57: 0.43382353 | L57: 0.83917452 | M57: 0.42647059 | N57: 1.3759286 | O57: 1.3455882 | P57: 3.3425526 | Q57: 0.54411765 | R57: 1.1500283 | S57: 1.2647059 | T57: 3.1023486 | U57: 0.095588235 | V57: 0.14205625 | W57: 0.5 | X57: 0.79108808 | Y57: 0.11029412 | Z57: 0.04006251 | AA57: - | AB57: - | AC57: 0.18382353 | AD57: 3.7800417 | AE57: - | AF57: - | AG57: 0.19852941 | AH57: 0.56368367 | AI57: 0 | AJ57: 0.020553912 | AK57: 1.15 | AL57: 0.86082915 | AM57: - | AN57: - | AO57: 0.035714286 | AP57: 0.016257697 | AQ57: 0.071428571 | AR57: 0.06248763 | AS57: 4.1785714 | AT57: 0.38689403 | AU57: 0 | AV57: 0.017945483 | AW57: - | AX57: - | AY57: - | AZ57: -
A58: 56 | D58: 2008 | E58: 平成20年 | F58: 8 | G58: 0.56465517 | H58: 0.011469958 | I58: 0.59558824 | J58: 0.14138159 | K58: 0.36764706 | L58: 0.64128682 | M58: 0.31617647 | N58: 0.71196477 | O58: 1.2352941 | P58: 2.6936394 | Q58: 0.50735294 | R58: 0.57165609 | S58: 1.2720588 | T58: 1.7921958 | U58: 0.125 | V58: 0.080401726 | W58: 0.66176471 | X58: 0.75918003 | Y58: 0.051470588 | Z58: 0.036970285 | AA58: - | AB58: - | AC58: 0.34558824 | AD58: 1.5652812 | AE58: - | AF58: - | AG58: 0.17647059 | AH58: 0.46242405 | AI58: 0.075 | AJ58: 0.027153275 | AK58: 1.7 | AL58: 0.82705971 | AM58: - | AN58: - | AO58: 0.071428571 | AP58: 0.014143728 | AQ58: 0.071428571 | AR58: 0.049939417 | AS58: 2.3571429 | AT58: 0.35958938 | AU58: 0 | AV58: 0.020646676 | AW58: - | AX58: - | AY58: - | AZ58: -
A59: 57 | C59: 9 | D59: 2008 | E59: 平成20年 | F59: 9 | G59: 0.31034483 | H59: 0.010355232 | I59: 0.2 | J59: 0.34474577 | K59: 0.45882353 | L59: 0.33115389 | M59: 0.23529412 | N59: 0.90537748 | O59: 1.5823529 | P59: 2.8970374 | Q59: 0.55882353 | R59: 0.46394457 | S59: 0.74705882 | T59: 1.4536599 | U59: 0.082352941 | V59: 0.056368142 | W59: 0.51764706 | X59: 0.75575959 | Y59: 0.064705882 | Z59: 0.034698667 | AA59: - | AB59: - | AC59: 0.23529412 | AD59: 0.73440782 | AE59: - | AF59: - | AG59: 0.25294118 | AH59: 0.41882319 | AI59: 0 | AJ59: 0.021236805 | AK59: 1.5 | AL59: 0.71538426 | AM59: - | AN59: - | AO59: 0.11428571 | AP59: 0.014785868 | AQ59: 0.25714286 | AR59: 0.04226253 | AS59: 1.6857143 | AT59: 0.35748169 | AU59: 0 | AV59: 0.022618863 | AW59: - | AX59: - | AY59: - | AZ59: -
A60: 58 | D60: 2008 | E60: 平成20年 | F60: 10 | G60: 0.34913793 | H60: 0.060272583 | I60: 0.125 | J60: 0.58163588 | K60: 0.36764706 | L60: 0.19839902 | M60: 0.15441176 | N60: 1.2545814 | O60: 2.4411765 | P60: 3.2119178 | Q60: 0.49264706 | R60: 0.71091876 | S60: 0.38235294 | T60: 0.89196114 | U60: 0.080882353 | V60: 0.050573623 | W60: 0.44852941 | X60: 0.67141155 | Y60: 0.080882353 | Z60: 0.03841263 | AA60: - | AB60: - | AC60: 0.22058824 | AD60: 0.2212227 | AE60: - | AF60: - | AG60: 0.27205882 | AH60: 0.44565057 | AI60: 0 | AJ60: 0.017565544 | AK60: 0.975 | AL60: 0.53028271 | AM60: - | AN60: - | AO60: 0 | AP60: 0.020104325 | AQ60: 0.071428571 | AR60: 0.027721474 | AS60: 1.8571429 | AT60: 0.49446446 | AU60: 0 | AV60: 0.044019089 | AW60: - | AX60: - | AY60: - | AZ60: -
A61: 59 | C61: 11 | D61: 2008 | E61: 平成20年 | F61: 11 | G61: 0.76724138 | H61: 0.46728697 | I61: 0.080882353 | J61: 0.8652752 | K61: 0.13970588 | L61: 0.25989327 | M61: 0.088235294 | N61: 1.6430727 | O61: 2.9558824 | P61: 5.9623145 | Q61: 0.61764706 | R61: 1.289597 | S61: 0.22058824 | T61: 0.52340278 | U61: 0.022058824 | V61: 0.058446197 | W61: 0.41911765 | X61: 0.58715857 | Y61: 0.058823529 | Z61: 0.03736476 | AA61: - | AB61: - | AC61: 0.044117647 | AD61: 0.087478705 | AE61: - | AF61: - | AG61: 0.35294118 | AH61: 0.46913895 | AI61: 0 | AJ61: 0.019855072 | AK61: 0.675 | AL61: 0.56121784 | AM61: - | AN61: - | AO61: 0 | AP61: 0.017377244 | AQ61: 0.10714286 | AR61: 0.0190018 | AS61: 1.4285714 | AT61: 0.48596011 | AU61: 0.035714286 | AV61: 0.041774882 | AW61: - | AX61: - | AY61: - | AZ61: -
A62: 60 | D62: 2008 | E62: 平成20年 | F62: 12 | G62: 4.9353448 | H62: 3.9015059 | I62: 0.073529412 | J62: 0.96500376 | K62: 0.11029412 | L62: 0.41335773 | M62: 0.36029412 | N62: 2.2593142 | O62: 3.9117647 | P62: 14.031075 | Q62: 1.625 | R62: 2.1290247 | S62: 0.066176471 | T62: 0.30894308 | U62: 0.022058824 | V62: 0.085309655 | W62: 0.27205882 | X62: 0.58765266 | Y62: 0.10294118 | Z62: 0.035478292 | AA62: - | AB62: - | AC62: 0 | AD62: 0.059335733 | AE62: - | AF62: - | AG62: 0.57352941 | AH62: 0.53131808 | AI62: 0.025 | AJ62: 0.01796241 | AK62: 0.85 | AL62: 0.61906535 | AM62: - | AN62: - | AO62: 0.071428571 | AP62: 0.016926373 | AQ62: 0.14285714 | AR62: 0.022370633 | AS62: 1.9642857 | AT62: 0.47850215 | AU62: 0.035714286 | AV62: 0.039302889 | AW62: - | AX62: - | AY62: - | AZ62: -
A63: 61 | B63: 2009 | C63: 1 | D63: 2009 | E63: 平成21年 | F63: 1 | G63: 53.641379 | H63: 22.241972 | I63: 0.094117647 | J63: 0.29701239 | K63: 0.13529412 | L63: 0.22093097 | M63: 0.30588235 | N63: 1.5627888 | O63: 2.7 | P63: 7.9484525 | Q63: 3.6176471 | R63: 1.8577652 | S63: 0.029411765 | T63: 0.081603657 | U63: 0.017647059 | V63: 0.079015224 | W63: 0.27647059 | X63: 0.49248948 | Y63: 0.094117647 | Z63: 0.021882052 | AA63: - | AB63: - | AC63: 0 | AD63: 0.01902566 | AE63: - | AF63: - | AG63: 0.40588235 | AH63: 0.44238222 | AI63: 0 | AJ63: 0.015288755 | AK63: 0.9 | AL63: 0.48531543 | AM63: - | AN63: - | AO63: 0.28571429 | AP63: 0.018639342 | AQ63: 0 | AR63: 0.016931287 | AS63: 2.4571429 | AT63: 0.29871284 | AU63: 0 | AV63: 0.021673336 | AW63: - | AX63: - | AY63: - | AZ63: -
A64: 62 | D64: 2009 | E64: 平成21年 | F64: 2 | G64: 17.060345 | H64: 16.747196 | I64: 0.19852941 | J64: 0.14544369 | K64: 0.11764706 | L64: 0.24208965 | M64: 0.58823529 | N64: 2.2116304 | O64: 2.3161765 | P64: 7.0266191 | Q64: 5.0882353 | R64: 1.6554137 | S64: 0.066176471 | T64: 0.076153887 | U64: 0.095588235 | V64: 0.076485336 | W64: 0.35294118 | X64: 0.53012756 | Y64: 0.095588235 | Z64: 0.029729628 | AA64: - | AB64: - | AC64: 0.058823529 | AD64: 0.018584341 | AE64: - | AF64: - | AG64: 0.51470588 | AH64: 0.44709543 | AI64: 0.025 | AJ64: 0.01679057 | AK64: 1.125 | AL64: 0.446433 | AM64: - | AN64: - | AO64: 0.32142857 | AP64: 0.023307134 | AQ64: 0.035714286 | AR64: 0.016799542 | AS64: 2.25 | AT64: 0.29431126 | AU64: 0.14285714 | AV64: 0.02330596 | AW64: - | AX64: - | AY64: - | AZ64: -
A65: 63 | C65: 3 | D65: 2009 | E65: 平成21年 | F65: 3 | G65: 3.237931 | H65: 12.489459 | I65: 0.38235294 | J65: 0.13369591 | K65: 0.14117647 | L65: 0.24484819 | M65: 0.64705882 | N65: 2.2266084 | O65: 3.0352941 | P65: 7.4922568 | Q65: 3.4 | R65: 1.7109858 | S65: 0.017647059 | T65: 0.065815725 | U65: 0.058823529 | V65: 0.09694344 | W65: 0.37058824 | X65: 0.56259867 | Y65: 0.1 | Z65: 0.032784121 | AA65: - | AB65: - | AC65: 0.058823529 | AD65: 0.029410506 | AE65: - | AF65: - | AG65: 0.68823529 | AH65: 0.58708123 | AI65: 0 | AJ65: 0.011605942 | AK65: 1.36 | AL65: 0.45732824 | AM65: - | AN65: - | AO65: 0.25714286 | AP65: 0.016494388 | AQ65: 0.085714286 | AR65: 0.025178724 | AS65: 2.6571429 | AT65: 0.36937942 | AU65: 0 | AV65: 0.020402716 | AW65: - | AX65: - | AY65: - | AZ65: -
A66: 64 | D66: 2009 | E66: 平成21年 | F66: 4 | G66: 3.8275862 | H66: 3.7235494 | I66: 0.58823529 | J66: 0.10594081 | K66: 0.088235294 | L66: 0.25418569 | M66: 0.67647059 | N66: 1.929433 | O66: 3.4852941 | P66: 8.2970613 | Q66: 3.4485294 | R66: 1.5795456 | S66: 0.10294118 | T66: 0.086400192 | U66: 0.10294118 | V66: 0.13881453 | W66: 0.53676471 | X66: 0.6819779 | Y66: 0.14705882 | Z66: 0.044902979 | AA66: - | AB66: - | AC66: 0.11029412 | AD66: 0.053616115 | AE66: - | AF66: - | AG66: 0.91176471 | AH66: 0.57166172 | AI66: 0.025 | AJ66: 0.019558322 | AK66: 1.1 | AL66: 0.50835434 | AM66: - | AN66: - | AO66: 0.57142857 | AP66: 0.02458014 | AQ66: 0.14285714 | AR66: 0.025112879 | AS66: 3.6785714 | AT66: 0.38005551 | AU66: 0.035714286 | AV66: 0.022948578 | AW66: - | AX66: - | AY66: - | AZ66: -
A67: 65 | C67: 5 | D67: 2009 | E67: 平成21年 | F67: 5 | G67: 8.9827586 | H67: 1.1877754 | I67: 0.41176471 | J67: 0.0722147 | K67: 0.14705882 | L67: 0.2958544 | M67: 0.80882353 | N67: 1.9074413 | O67: 3.2426471 | P67: 6.2622851 | Q67: 2.3676471 | R67: 1.8101661 | S67: 0.036764706 | T67: 0.11508692 | U67: 0.051470588 | V67: 0.15239961 | W67: 0.47058824 | X67: 0.61509213 | Y67: 0.066176471 | Z67: 0.050761837 | AA67: - | AB67: - | AC67: 0.073529412 | AD67: 0.10222847 | AE67: - | AF67: - | AG67: 0.94852941 | AH67: 0.62524663 | AI67: 0 | AJ67: 0.011527383 | AK67: 1.325 | AL67: 0.49259812 | AM67: - | AN67: - | AO67: 0.21428571 | AP67: 0.01973238 | AQ67: 0.10714286 | AR67: 0.024106422 | AS67: 3 | AT67: 0.44440383 | AU67: 0 | AV67: 0.019215248 | AW67: - | AX67: - | AY67: - | AZ67: -
A68: 66 | D68: 2009 | E68: 平成21年 | F68: 6 | G68: 8.262069 | H68: 0.25751103 | I68: 0.55294118 | J68: 0.058886189 | K68: 0.082352941 | L68: 0.38062243 | M68: 0.81764706 | N68: 1.9649533 | O68: 2.2235294 | P68: 4.5928257 | Q68: 1.0588235 | R68: 1.576544 | S68: 0.11764706 | T68: 0.39199604 | U68: 0.076470588 | V68: 0.21363219 | W68: 0.45882353 | X68: 0.72954944 | Y68: 0.082352941 | Z68: 0.050286371 | AA68: - | AB68: - | AC68: 0.064705882 | AD68: 0.49795859 | AE68: - | AF68: - | AG68: 1.0470588 | AH68: 0.81237911 | AI68: 0 | AJ68: 0.012485168 | AK68: 0.5 | AL68: 0.54236631 | AM68: - | AN68: - | AO68: 0.25714286 | AP68: 0.016115419 | AQ68: 0.17142857 | AR68: 0.021788478 | AS68: 2.2 | AT68: 0.46450498 | AU68: 0 | AV68: 0.022229899 | AW68: - | AX68: - | AY68: - | AZ68: -
A69: 67 | C69: 7 | D69: 2009 | E69: 平成21年 | F69: 7 | G69: 7.8275862 | H69: 0.31611288 | I69: 0.63970588 | J69: 0.057710885 | K69: 0.22794118 | L69: 0.35428085 | M69: 0.45588235 | N69: 1.0422689 | O69: 1.9191176 | P69: 3.2352004 | Q69: 0.67647059 | R69: 0.92518869 | S69: 0.19852941 | T69: 1.4363239 | U69: 0.051470588 | V69: 0.18144358 | W69: 0.55147059 | X69: 0.76880862 | Y69: 0.066176471 | Z69: 0.04286731 | AA69: - | AB69: - | AC69: 0.16176471 | AD69: 2.275684 | AE69: - | AF69: - | AG69: 1.1911765 | AH69: 0.87806494 | AI69: 0.025 | AJ69: 0.01716149 | AK69: 0.825 | AL69: 0.53672374 | AM69: - | AN69: - | AO69: 0.14285714 | AP69: 0.02072362 | AQ69: 0.071428571 | AR69: 0.040394643 | AS69: 2.6071429 | AT69: 0.35508142 | AU69: 0.071428571 | AV69: 0.018015645 | AW69: - | AX69: - | AY69: - | AZ69: -
A70: 68 | D70: 2009 | E70: 平成21年 | F70: 8 | G70: 30.986207 | H70: 2.0572321 | I70: 0.37058824 | J70: 0.1064751 | K70: 0.27058824 | L70: 0.19031442 | M70: 0.32941176 | N70: 0.5397054 | O70: 1.1352941 | P70: 2.7387247 | Q70: 0.47058824 | R70: 0.51062777 | S70: 0.63529412 | T70: 1.2782522 | U70: 0.023529412 | V70: 0.096634589 | W70: 0.38235294 | X70: 0.68074705 | Y70: 0.082352941 | Z70: 0.027895931 | AA70: - | AB70: - | AC70: 0.22941176 | AD70: 1.705809 | AE70: - | AF70: - | AG70: 1.6117647 | AH70: 0.73567123 | AI70: 0 | AJ70: 0.011372935 | AK70: 1.28 | AL70: 0.56777194 | AM70: - | AN70: - | AO70: 0.22857143 | AP70: 0.02004299 | AQ70: 0.17142857 | AR70: 0.040921441 | AS70: 2.4857143 | AT70: 0.34711229 | AU70: 0.057142857 | AV70: 0.020905879 | AW70: - | AX70: - | AY70: - | AZ70: -
A71: 69 | C71: 9 | D71: 2009 | E71: 平成21年 | F71: 9 | G71: 12.12069 | H71: 4.700226 | I71: 0.095588235 | J71: 0.12979058 | K71: 0.11029412 | L71: 0.094824412 | M71: 0.29411765 | N71: 0.58046712 | O71: 0.91176471 | P71: 2.326775 | Q71: 0.44117647 | R71: 0.45841698 | S71: 1.8455882 | T71: 0.61393847 | U71: 0.029411765 | V71: 0.05830664 | W71: 0.39705882 | X71: 0.55590475 | Y71: 0.088235294 | Z71: 0.024815487 | AA71: - | AB71: - | AC71: 0.43382353 | AD71: 0.59960374 | AE71: - | AF71: - | AG71: 2.0073529 | AH71: 0.6636856 | AI71: 0.1 | AJ71: 0.016539639 | AK71: 1.225 | AL71: 0.45566461 | AM71: - | AN71: - | AO71: 0.35714286 | AP71: 0.017986061 | AQ71: 0.25 | AR71: 0.030495585 | AS71: 1.4285714 | AT71: 0.31139872 | AU71: 0 | AV71: 0.019110035 | AW71: - | AX71: - | AY71: - | AZ71: -
A72: 70 | D72: 2009 | E72: 平成21年 | F72: 10 | G72: 24.012931 | H72: 22.117058 | I72: 0.080882353 | J72: 0.18407706 | K72: 0.051470588 | L72: 0.075937659 | M72: 0.28676471 | N72: 0.77897635 | O72: 0.88970588 | P72: 2.3031097 | Q72: 0.50735294 | R72: 0.56195167 | S72: 4.1323529 | T72: 0.49919468 | U72: 0 | V72: 0.0599186 | W72: 0.33088235 | X72: 0.51870899 | Y72: 0.044117647 | Z72: 0.021216088 | AA72: - | AB72: - | AC72: 0.55147059 | AD72: 0.24932449 | AE72: - | AF72: - | AG72: 1.8823529 | AH72: 0.66902456 | AI72: 0.025 | AJ72: 0.012619642 | AK72: 0.85 | AL72: 0.39309307 | AM72: - | AN72: - | AO72: 0.21428571 | AP72: 0.014801516 | AQ72: 0.10714286 | AR72: 0.022985632 | AS72: 1.5357143 | AT72: 0.31650008 | AU72: 0.035714286 | AV72: 0.024100124 | AW72: - | AX72: - | AY72: - | AZ72: -
A73: 71 | C73: 11 | D73: 2009 | E73: 平成21年 | F73: 11 | G73: 29.237931 | H73: 35.650054 | I73: 0.11176471 | J73: 0.38549501 | K73: 0.029411765 | L73: 0.10164582 | M73: 0.41764706 | N73: 0.84622882 | O73: 0.90588235 | P73: 2.9319434 | Q73: 0.65882353 | R73: 1.0613198 | S73: 1.1941176 | T73: 0.30390344 | U73: 0.023529412 | V73: 0.065101437 | W73: 0.34705882 | X73: 0.48331912 | Y73: 0.052941176 | Z73: 0.02422492 | AA73: - | AB73: - | AC73: 0.11764706 | AD73: 0.076447858 | AE73: - | AF73: - | AG73: 2 | AH73: 0.70256594 | AI73: 0.02 | AJ73: 0.011822968 | AK73: 1.12 | AL73: 0.37249831 | AM73: - | AN73: - | AO73: 0.34285714 | AP73: 0.019641424 | AQ73: 0.22857143 | AR73: 0.016155506 | AS73: 1.2285714 | AT73: 0.28244578 | AU73: 0 | AV73: 0.03101622 | AW73: - | AX73: - | AY73: - | AZ73: -
A74: 72 | D74: 2009 | E74: 平成21年 | F74: 12 | G74: 37.422414 | H74: 19.920133 | I74: 0.051470588 | J74: 0.97152862 | K74: 0.044117647 | L74: 0.13008912 | M74: 0.56617647 | N74: 0.92857423 | O74: 3.7794118 | P74: 5.7088083 | Q74: 1.5588235 | R74: 1.3594815 | S74: 0.40441176 | T74: 0.19065167 | U74: 0.022058824 | V74: 0.064061642 | W74: 0.375 | X74: 0.45458785 | Y74: 0.088235294 | Z74: 0.020218587 | AA74: - | AB74: - | AC74: 0.022058824 | AD74: 0.042351923 | AE74: - | AF74: - | AG74: 2.2279412 | AH74: 0.68049775 | AI74: 0 | AJ74: 0.015689506 | AK74: 1.25 | AL74: 0.32874701 | AM74: - | AN74: - | AO74: 0.14285714 | AP74: 0.020691419 | AQ74: 0 | AR74: 0.014706022 | AS74: 0.92857143 | AT74: 0.24890472 | AU74: 0 | AV74: 0.021238464 | AW74: - | AX74: - | AY74: - | AZ74: -
A75: 73 | B75: 2010 | C75: 1 | D75: 2010 | E75: 平成22年 | F75: 1 | G75: 37.681034 | H75: 8.1980711 | I75: 0.13235294 | J75: 1.2453728 | K75: 0.044117647 | L75: 0.12694095 | M75: 0.55147059 | N75: 1.0949115 | O75: 6.5882353 | P75: 11.808959 | Q75: 2.5588235 | R75: 1.3481825 | S75: 0.13235294 | T75: 0.12004956 | U75: 0 | V75: 0.085781462 | W75: 0.18382353 | X75: 0.53039549 | Y75: 0.10294118 | Z75: 0.021801237 | AA75: - | AB75: - | AC75: 0.0073529412 | AD75: 0.022130128 | AE75: - | AF75: - | AG75: 3.0514706 | AH75: 0.78139129 | AI75: 0 | AJ75: 0.01482068 | AK75: 1.075 | AL75: 0.44913327 | AM75: - | AN75: - | AO75: 0.35714286 | AP75: 0.018479491 | AQ75: 0.035714286 | AR75: 0.012496479 | AS75: 1.4285714 | AT75: 0.28260351 | AU75: 0.035714286 | AV75: 0.024998872 | AW75: - | AX75: - | AY75: - | AZ75: -
A76: 74 | D76: 2010 | E76: 平成22年 | F76: 2 | G76: 5.4827586 | H76: 2.5471017 | I76: 0.72794118 | J76: 1.345301 | K76: 0.11029412 | L76: 0.15660971 | M76: 0.86029412 | N76: 1.5967663 | O76: 3.3088235 | P76: 12.808855 | Q76: 3.375 | R76: 1.4568595 | S76: 0.11029412 | T76: 0.20023859 | U76: 0.0073529412 | V76: 0.097483622 | W76: 0.34558824 | X76: 0.49311255 | Y76: 0.066176471 | Z76: 0.022433988 | AA76: - | AB76: - | AC76: 0.022058824 | AD76: 0.029359354 | AE76: - | AF76: - | AG76: 3.625 | AH76: 0.84518906 | AI76: 0 | AJ76: 0.017681737 | AK76: 0.7 | AL76: 0.49206114 | AM76: - | AN76: - | AO76: 0.32142857 | AP76: 0.021790495 | AQ76: 0.21428571 | AR76: 0.021224612 | AS76: 2.0357143 | AT76: 0.32362086 | AU76: 0.035714286 | AV76: 0.012531003 | AW76: - | AX76: - | AY76: - | AZ76: -
A77: 75 | C77: 3 | D77: 2010 | E77: 平成22年 | F77: 3 | G77: 1.1206897 | H77: 0.41760716 | I77: 1.1647059 | J77: 0.60494437 | K77: 0.12941176 | L77: 0.17029574 | M77: 0.77058824 | N77: 1.4968384 | O77: 2.0235294 | P77: 9.5079514 | Q77: 3.0411765 | R77: 1.7617453 | S77: 0.10588235 | T77: 0.36573115 | U77: 0.017647059 | V77: 0.15476041 | W77: 0.27647059 | X77: 0.51319035 | Y77: 0.082352941 | Z77: 0.022548863 | AA77: - | AB77: - | AC77: 0.041176471 | AD77: 0.060748212 | AE77: - | AF77: - | AG77: 3.0529412 | AH77: 1.140527 | AI77: 0 | AJ77: 0.022713279 | AK77: 2.06 | AL77: 0.50141433 | AM77: - | AN77: - | AO77: 0.11428571 | AP77: 0.016604736 | AQ77: 0.22857143 | AR77: 0.019233448 | AS77: 2.3142857 | AT77: 0.36770208 | AU77: 0.11428571 | AV77: 0.020543618 | AW77: - | AX77: - | AY77: - | AZ77: -
A78: 76 | D78: 2010 | E78: 平成22年 | F78: 4 | G78: 0.42672414 | H78: 0.15766045 | I78: 0.77205882 | J78: 0.19764446 | K78: 0.095588235 | L78: 0.19884049 | M78: 0.75735294 | N78: 1.4163274 | O78: 2.1838235 | P78: 9.1348682 | Q78: 3.1544118 | R78: 1.7760819 | S78: 0.13235294 | T78: 0.650908 | U78: 0.014705882 | V78: 0.25954309 | W78: 0.31617647 | X78: 0.59309482 | Y78: 0.11764706 | Z78: 0.026996313 | AA78: - | AB78: - | AC78: 0.044117647 | AD78: 0.15137465 | AE78: - | AF78: - | AG78: 2.6985294 | AH78: 1.0978335 | AI78: 0.025 | AJ78: 0.017062186 | AK78: 1.975 | AL78: 0.54840199 | AM78: - | AN78: - | AO78: 0.21428571 | AP78: 0.02023378 | AQ78: 0.17857143 | AR78: 0.030666095 | AS78: 1.7142857 | AT78: 0.36134571 | AU78: 0.035714286 | AV78: 0.015850177 | AW78: - | AX78: - | AY78: - | AZ78: -
A79: 77 | C79: 5 | D79: 2010 | E79: 平成22年 | F79: 5 | G79: 0.22068966 | H79: 0.099595497 | I79: 0.21176471 | J79: 0.087022249 | K79: 0.14705882 | L79: 0.27276669 | M79: 0.63529412 | N79: 1.5888246 | O79: 3.0058824 | P79: 7.4562465 | Q79: 2.8058824 | R79: 2.2461353 | S79: 0.25882353 | T79: 1.2048466 | U79: 0.017647059 | V79: 0.38463 | W79: 0.42352941 | X79: 0.54858281 | Y79: 0.16470588 | Z79: 0.047824331 | AA79: - | AB79: - | AC79: 0.13529412 | AD79: 0.54702942 | AE79: - | AF79: - | AG79: 1.9705882 | AH79: 1.277321 | AI79: 0.02 | AJ79: 0.018887771 | AK79: 2.3 | AL79: 0.58053489 | AM79: - | AN79: - | AO79: 0.028571429 | AP79: 0.021768495 | AQ79: 0.17142857 | AR79: 0.032208961 | AS79: 1.5714286 | AT79: 0.44446244 | AU79: 0.057142857 | AV79: 0.022632377 | AW79: - | AX79: - | AY79: - | AZ79: -
A80: 78 | D80: 2010 | E80: 平成22年 | F80: 6 | G80: 0.36206897 | H80: 0.051857664 | I80: 0.18382353 | J80: 0.06226399 | K80: 0.125 | L80: 0.35734926 | M80: 0.52205882 | N80: 1.6456565 | O80: 2.7573529 | P80: 5.3069825 | Q80: 2.0735294 | R80: 2.2533004 | S80: 0.22794118 | T80: 2.2595155 | U80: 0.014705882 | V80: 0.63448995 | W80: 0.60294118 | X80: 0.6340147 | Y80: 0.16911765 | Z80: 0.073233216 | AA80: - | AB80: - | AC80: 0.38970588 | AD80: 2.4388469 | AE80: - | AF80: - | AG80: 2.0514706 | AH80: 1.4110191 | AI80: 0 | AJ80: 0.017718257 | AK80: 2.3 | AL80: 0.62469871 | AM80: - | AN80: - | AO80: 0.10714286 | AP80: 0.025541182 | AQ80: 0.46428571 | AR80: 0.042920708 | AS80: 1.3571429 | AT80: 0.48211838 | AU80: 0.071428571 | AV80: 0.033703992 | AW80: - | AX80: - | AY80: - | AZ80: -
A81: 79 | C81: 7 | D81: 2010 | E81: 平成22年 | F81: 7 | G81: 0.875 | H81: 0.032605069 | I81: 0.27941176 | J81: 0.05437451 | K81: 0.088235294 | L81: 0.32380786 | M81: 0.52941176 | N81: 0.91973557 | O81: 2.1911765 | P81: 3.2663018 | Q81: 1.0441176 | R81: 1.1915723 | S81: 0.21323529 | T81: 3.5616778 | U81: 0.029411765 | V81: 0.48171516 | W81: 0.33823529 | X81: 0.64647229 | Y81: 0.15441176 | Z81: 0.047782154 | AA81: - | AB81: - | AC81: 0.33088235 | AD81: 5.3158364 | AE81: - | AF81: - | AG81: 1.7058824 | AH81: 1.4281396 | AI81: 0.025 | AJ81: 0.018460088 | AK81: 6.225 | AL81: 0.71854587 | AM81: - | AN81: - | AO81: 0.035714286 | AP81: 0.014176737 | AQ81: 0.17857143 | AR81: 0.057267179 | AS81: 1.2857143 | AT81: 0.3718895 | AU81: 0.10714286 | AV81: 0.028893416 | AW81: - | AX81: - | AY81: - | AZ81: -
A82: 80 | D82: 2010 | E82: 平成22年 | F82: 8 | G82: 0.68275862 | H82: 0.028827204 | I82: 0.46470588 | J82: 0.08383376 | K82: 0.31176471 | L82: 0.28970898 | M82: 0.49411765 | N82: 0.53422387 | O82: 1.8647059 | P82: 2.8505349 | Q82: 0.77058824 | R82: 0.63997589 | S82: 0.19411765 | T82: 1.5323093 | U82: 0.0058823529 | V82: 0.3213877 | W82: 0.49411765 | X82: 0.68393549 | Y82: 0.13529412 | Z82: 0.038417145 | AA82: - | AB82: - | AC82: 0.17647059 | AD82: 1.6359446 | AE82: - | AF82: - | AG82: 1.4176471 | AH82: 1.1257952 | AI82: 0.02 | AJ82: 0.018126846 | AK82: 4.76 | AL82: 0.75776873 | AM82: - | AN82: - | AO82: 0.17142857 | AP82: 0.02056415 | AQ82: 0.28571429 | AR82: 0.056436031 | AS82: 1.1428571 | AT82: 0.33376492 | AU82: 0.085714286 | AV82: 0.039807746 | AW82: - | AX82: - | AY82: - | AZ82: -
A83: 81 | C83: 9 | D83: 2010 | E83: 平成22年 | F83: 9 | G83: 0.69827586 | H83: 0.049259736 | I83: 0.75 | J83: 0.24361641 | K83: 0.36764706 | L83: 0.28115132 | M83: 0.38970588 | N83: 0.63957462 | O83: 2.3235294 | P83: 3.0454276 | Q83: 0.56617647 | R83: 0.52294732 | S83: 0.18382353 | T83: 0.77515451 | U83: 0.014705882 | V83: 0.22536954 | W83: 0.42647059 | X83: 0.64719324 | Y83: 0.23529412 | Z83: 0.029084661 | AA83: - | AB83: - | AC83: 0.16911765 | AD83: 0.46391773 | AE83: - | AF83: - | AG83: 1.1470588 | AH83: 1.0502935 | AI83: 0.025 | AJ83: 0.014418732 | AK83: 5.5 | AL83: 0.75012922 | AM83: - | AN83: - | AO83: 0.39285714 | AP83: 0.022339603 | AQ83: 0.071428571 | AR83: 0.038684291 | AS83: 1.3214286 | AT83: 0.35832291 | AU83: 0.071428571 | AV83: 0.028874408 | AW83: - | AX83: - | AY83: - | AZ83: -
A84: 82 | D84: 2010 | E84: 平成22年 | F84: 10 | G84: 0.97413793 | H84: 0.11943005 | I84: 0.30882353 | J84: 0.36351623 | K84: 0.5 | L84: 0.19365731 | M84: 0.50735294 | N84: 0.888856 | O84: 3.0955882 | P84: 3.6280842 | Q84: 0.64705882 | R84: 0.70743083 | S84: 0.5 | T84: 0.42489678 | U84: 0.044117647 | V84: 0.27181656 | W84: 0.31617647 | X84: 0.58010709 | Y84: 0.27205882 | Z84: 0.030536197 | AA84: - | AB84: - | AC84: 0.125 | AD84: 0.12290657 | AE84: - | AF84: - | AG84: 1.2426471 | AH84: 1.0737381 | AI84: 0.025 | AJ84: 0.016953265 | AK84: 4.575 | AL84: 0.63763539 | AM84: - | AN84: - | AO84: 0.25 | AP84: 0.020060586 | AQ84: 0.10714286 | AR84: 0.028790814 | AS84: 1.5714286 | AT84: 0.58682437 | AU84: 0 | AV84: 0.042859924 | AW84: - | AX84: - | AY84: - | AZ84: -
A85: 83 | C85: 11 | D85: 2010 | E85: 平成22年 | F85: 11 | G85: 0.86896552 | H85: 0.38922826 | I85: 0.22352941 | J85: 0.64504572 | K85: 0.33529412 | L85: 0.35373462 | M85: 0.67058824 | N85: 1.5584691 | O85: 3.6764706 | P85: 10.444582 | Q85: 0.99411765 | R85: 1.5091933 | S85: 0.74705882 | T85: 0.30568778 | U85: 0.041176471 | V85: 0.36724865 | W85: 0.35294118 | X85: 0.53858293 | Y85: 0.15882353 | Z85: 0.026087911 | AA85: - | AB85: - | AC85: 0.070588235 | AD85: 0.056397208 | AE85: - | AF85: - | AG85: 1.2352941 | AH85: 1.1850158 | AI85: 0 | AJ85: 0.01561488 | AK85: 2.64 | AL85: 0.61421156 | AM85: - | AN85: - | AO85: 0.34285714 | AP85: 0.024332929 | AQ85: 0.028571429 | AR85: 0.023893406 | AS85: 2.2285714 | AT85: 0.68200576 | AU85: 0.14285714 | AV85: 0.036051377 | AW85: - | AX85: - | AY85: - | AZ85: -
A86: 84 | D86: 2010 | E86: 平成22年 | F86: 12 | G86: 3.9051724 | H86: 1.6749538 | I86: 0.16911765 | J86: 1.2326687 | K86: 0.80882353 | L86: 0.59343389 | M86: 0.97794118 | N86: 2.0097559 | O86: 3.9264706 | P86: 15.116311 | Q86: 2.1176471 | R86: 2.365843 | S86: 1.0955882 | T86: 0.18961165 | U86: 0.051470588 | V86: 0.53600978 | W86: 0.30147059 | X86: 0.45594776 | Y86: 0.13970588 | Z86: 0.027112348 | AA86: - | AB86: - | AC86: 0.029411765 | AD86: 0.041779509 | AE86: - | AF86: - | AG86: 0.83823529 | AH86: 1.199532 | AI86: 0 | AJ86: 0.024535483 | AK86: 2.525 | AL86: 0.69665715 | AM86: - | AN86: - | AO86: 0.071428571 | AP86: 0.018453504 | AQ86: 0.035714286 | AR86: 0.021162643 | AS86: 2.4642857 | AT86: 0.57246652 | AU86: 0.10714286 | AV86: 0.042324106 | AW86: - | AX86: - | AY86: - | AZ86: -
A87: 85 | B87: 2011 | C87: 1 | D87: 2011 | E87: 平成23年 | F87: 1 | G87: 43.396552 | H87: 20.876782 | I87: 0.25294118 | J87: 0.76566335 | K87: 0.69411765 | L87: 0.37214013 | M87: 1.3647059 | N87: 1.6996226 | O87: 3.7647059 | P87: 8.6979134 | Q87: 3.3352941 | R87: 2.0299967 | S87: 1.3529412 | T87: 0.11662827 | U87: 0.070588235 | V87: 0.62314512 | W87: 0.21764706 | X87: 0.49468551 | Y87: 0.18235294 | Z87: 0.023809037 | AA87: - | AB87: - | AC87: 0.035294118 | AD87: 0.020510342 | AE87: - | AF87: - | AG87: 0.79411765 | AH87: 1.0055918 | AI87: 0.02 | AJ87: 0.014210766 | AK87: 3.04 | AL87: 0.59544001 | AM87: - | AN87: - | AO87: 0.085714286 | AP87: 0.0160725 | AQ87: 0.14285714 | AR87: 0.018277952 | AS87: 1.8857143 | AT87: 0.45494721 | AU87: 0.11428571 | AV87: 0.020429208 | AW87: - | AX87: - | AY87: - | AZ87: -
A88: 86 | D88: 2011 | E88: 平成23年 | F88: 2 | G88: 9.9094828 | H88: 16.861568 | I88: 0.69852941 | J88: 0.42387446 | K88: 0.77941176 | L88: 0.39468018 | M88: 1.5367647 | N88: 2.2898793 | O88: 3.1764706 | P88: 9.3383699 | Q88: 4.4117647 | R88: 1.7247979 | S88: 2.2941176 | T88: 0.12687241 | U88: 0.13235294 | V88: 0.54513796 | W88: 0.25 | X88: 0.48335062 | Y88: 0.19117647 | Z88: 0.018749684 | AA88: - | AB88: - | AC88: 0.080882353 | AD88: 0.021845147 | AE88: - | AF88: - | AG88: 0.85294118 | AH88: 0.89344199 | AI88: 0 | AJ88: 0.015883876 | AK88: 1.775 | AL88: 0.49984056 | AM88: - | AN88: - | AO88: 0.071428571 | AP88: 0.016831357 | AQ88: 0.035714286 | AR88: 0.023344854 | AS88: 1.7857143 | AT88: 0.40194024 | AU88: 0 | AV88: 0.024994193 | AW88: - | AX88: - | AY88: - | AZ88: -
A89: 87 | C89: 3 | D89: 2011 | E89: 平成23年 | F89: 3 | G89: 8.362069 | H89: 14.099917 | I89: 0.625 | J89: 0.23363055 | K89: 0.47794118 | L89: 0.35955304 | M89: 1.7426471 | N89: 2.1330875 | O89: 4.4558824 | P89: 8.551863 | Q89: 5.2794118 | R89: 1.6604622 | S89: 1.6838235 | T89: 0.12592501 | U89: 0.16911765 | V89: 0.60372758 | W89: 0.22794118 | X89: 0.48822802 | Y89: 0.11029412 | Z89: 0.025039735 | AA89: - | AB89: - | AC89: 0.051470588 | AD89: 0.027136953 | AE89: - | AF89: - | AG89: 0.71323529 | AH89: 0.97013089 | AI89: 0 | AJ89: 0.016736718 | AK89: 2.075 | AL89: 0.45136358 | AM89: - | AN89: - | AO89: 0.071428571 | AP89: 0.017238474 | AQ89: 0.17857143 | AR89: 0.025649566 | AS89: 2.3571429 | AT89: 0.31643729 | AU89: 0 | AV89: 0.022398368 | AW89: - | AX89: - | AY89: - | AZ89: -
A90: 88 | D90: 2011 | E90: 平成23年 | F90: 4 | G90: 13.711207 | H90: 6.7716211 | I90: 0.52205882 | J90: 0.17458051 | K90: 0.58823529 | L90: 0.33994848 | M90: 1.4191176 | N90: 2.015585 | O90: 5.4264706 | P90: 8.6662848 | Q90: 5.0220588 | R90: 1.413594 | S90: 1.0588235 | T90: 0.17931354 | U90: 0.22794118 | V90: 0.69201422 | W90: 0.41911765 | X90: 0.6109729 | Y90: 0.16176471 | Z90: 0.024070597 | AA90: - | AB90: - | AC90: 0.044117647 | AD90: 0.041128473 | AE90: - | AF90: - | AG90: 0.59558824 | AH90: 0.84600582 | AI90: 0.025 | AJ90: 0.020554631 | AK90: 1.8 | AL90: 0.45944004 | AM90: - | AN90: - | AO90: 0.32142857 | AP90: 0.025418857 | AQ90: 0.071428571 | AR90: 0.01930763 | AS90: 1.8928571 | AT90: 0.35733642 | AU90: 0.071428571 | AV90: 0.017114777 | AW90: - | AX90: - | AY90: - | AZ90: -
A91: 89 | C91: 5 | D91: 2011 | E91: 平成23年 | F91: 5 | G91: 16.106897 | H91: 1.7805628 | I91: 0.55882353 | J91: 0.10641915 | K91: 0.45882353 | L91: 0.47391055 | M91: 0.82352941 | N91: 2.1741089 | O91: 2.3764706 | P91: 6.1541576 | Q91: 3.8647059 | R91: 1.7574278 | S91: 1.2647059 | T91: 0.58562132 | U91: 0.2 | V91: 0.76935634 | W91: 0.39411765 | X91: 0.58689095 | Y91: 0.14705882 | Z91: 0.025325837 | AA91: - | AB91: - | AC91: 0.25882353 | AD91: 0.18483033 | AE91: - | AF91: - | AG91: 0.55294118 | AH91: 0.91005155 | AI91: 0.82 | AJ91: 0.03224241 | AK91: 1.84 | AL91: 0.59851206 | AM91: - | AN91: - | AO91: 0.4 | AP91: 0.024793074 | AQ91: 0.2 | AR91: 0.026094588 | AS91: 1.2 | AT91: 0.38663429 | AU91: 0.085714286 | AV91: 0.02044145 | AW91: - | AX91: - | AY91: - | AZ91: -
A92: 90 | D92: 2011 | E92: 平成23年 | F92: 6 | G92: 6.2241379 | H92: 0.27365593 | I92: 1.3897059 | J92: 0.093037975 | K92: 0.375 | L92: 0.75177163 | M92: 0.96323529 | N92: 2.1633729 | O92: 2 | P92: 4.6718124 | Q92: 1.4338235 | R92: 1.917256 | S92: 3.3308824 | T92: 3.9340064 | U92: 0.5 | V92: 1.127485 | W92: 0.38235294 | X92: 0.66671059 | Y92: 0.13970588 | Z92: 0.035154998 | AA92: - | AB92: - | AC92: 0.72058824 | AD92: 1.2590936 | AE92: - | AF92: - | AG92: 0.38970588 | AH92: 1.0024492 | AI92: 13.15 | AJ92: 0.21448176 | AK92: 12.275 | AL92: 0.83088624 | AM92: - | AN92: - | AO92: 0.25 | AP92: 0.028737267 | AQ92: 0.17857143 | AR92: 0.034142633 | AS92: 2.7857143 | AT92: 0.61996222 | AU92: 0.071428571 | AV92: 0.02709859 | AW92: - | AX92: - | AY92: - | AZ92: -
A93: 91 | C93: 7 | D93: 2011 | E93: 平成23年 | F93: 7 | G93: 1.5043103 | H93: 0.03739474 | I93: 1.4779412 | J93: 0.16928216 | K93: 0.27941176 | L93: 0.74467061 | M93: 0.69117647 | N93: 1.0830389 | O93: 2.4264706 | P93: 3.0386057 | Q93: 1.4338235 | R93: 1.0708794 | S93: 4.1764706 | T93: 9.4417229 | U93: 0.24264706 | V93: 0.70984197 | W93: 0.39705882 | X93: 0.68257736 | Y93: 0.14705882 | Z93: 0.028574006 | AA93: - | AB93: - | AC93: 0.45588235 | AD93: 4.1516014 | AE93: - | AF93: - | AG93: 0.36764706 | AH93: 1.0059943 | AI93: 38.825 | AJ93: 0.59107386 | AK93: 5.425 | AL93: 0.76598227 | AM93: - | AN93: - | AO93: 0.42857143 | AP93: 0.027708268 | AQ93: 0.071428571 | AR93: 0.05262844 | AS93: 2.7857143 | AT93: 0.64175039 | AU93: 0 | AV93: 0.019007828 | AW93: - | AX93: - | AY93: - | AZ93: -
A94: 92 | D94: 2011 | E94: 平成23年 | F94: 8 | G94: 0.48965517 | H94: 0.012988218 | I94: 0.53529412 | J94: 0.3009808 | K94: 0.10588235 | L94: 0.4088012 | M94: 0.67058824 | N94: 0.60780355 | O94: 2.1117647 | P94: 2.487266 | Q94: 0.62941176 | R94: 0.60309817 | S94: 4.6764706 | T94: 5.1960826 | U94: 0.34117647 | V94: 0.43118731 | W94: 0.52352941 | X94: 0.65977391 | Y94: 0.11176471 | Z94: 0.031137564 | AA94: - | AB94: - | AC94: 0.36470588 | AD94: 2.8010188 | AE94: - | AF94: - | AG94: 0.46470588 | AH94: 0.74311035 | AI94: 15.6 | AJ94: 0.24705896 | AK94: 3.84 | AL94: 0.69842708 | AM94: - | AN94: - | AO94: 0.37142857 | AP94: 0.02303041 | AQ94: 0.11428571 | AR94: 0.06733026 | AS94: 1.7142857 | AT94: 0.68930038 | AU94: 0.057142857 | AV94: 0.027396267 | AW94: - | AX94: - | AY94: - | AZ94: -
A95: 93 | C95: 9 | D95: 2011 | E95: 平成23年 | F95: 9 | G95: 0.63362069 | H95: 0.022282714 | I95: 0.23529412 | J95: 0.46801367 | K95: 0.051470588 | L95: 0.22865692 | M95: 0.47794118 | N95: 0.67640099 | O95: 2.0808824 | P95: 2.5435462 | Q95: 0.5 | R95: 0.4853272 | S95: 1.2352941 | T95: 3.2637834 | U95: 0.36029412 | V95: 0.24067245 | W95: 0.38970588 | X95: 0.59414714 | Y95: 0.080882353 | Z95: 0.025357109 | AA95: - | AB95: - | AC95: 0.21323529 | AD95: 1.368185 | AE95: - | AF95: - | AG95: 0.44117647 | AH95: 0.65327984 | AI95: 8.45 | AJ95: 0.1385022 | AK95: 3.75 | AL95: 0.6495101 | AM95: - | AN95: - | AO95: 0.035714286 | AP95: 0.026629559 | AQ95: 0.32142857 | AR95: 0.078767511 | AS95: 2.2142857 | AT95: 0.78808138 | AU95: 0.035714286 | AV95: 0.028788146 | AW95: - | AX95: - | AY95: - | AZ95: -
A96: 94 | D96: 2011 | E96: 平成23年 | F96: 10 | G96: 2.0655172 | H96: 0.085176479 | I96: 0.11176471 | J96: 0.59481489 | K96: 0.094117647 | L96: 0.15156356 | M96: 0.45882353 | N96: 1.0723645 | O96: 2.3411765 | P96: 2.9749877 | Q96: 0.88823529 | R96: 0.86325543 | S96: 0.53529412 | T96: 1.3753106 | U96: 0.19411765 | V96: 0.2015388 | W96: 0.42941176 | X96: 0.55184832 | Y96: 0.11764706 | Z96: 0.029931343 | AA96: - | AB96: - | AC96: 0.058823529 | AD96: 0.24576908 | AE96: - | AF96: - | AG96: 0.51176471 | AH96: 0.67418221 | AI96: 8.02 | AJ96: 0.1294013 | AK96: 1.28 | AL96: 0.51562363 | AM96: - | AN96: - | AO96: 0.028571429 | AP96: 0.01607477 | AQ96: 0.51428571 | AR96: 0.060321836 | AS96: 3.2285714 | AT96: 1.1576296 | AU96: 0.028571429 | AV96: 0.031668514 | AW96: - | AX96: - | AY96: - | AZ96: -
A97: 95 | C97: 11 | D97: 2011 | E97: 平成23年 | F97: 11 | G97: 1.9267241 | H97: 0.29949052 | I97: 0.058823529 | J97: 0.74718579 | K97: 0.088235294 | L97: 0.28882155 | M97: 0.60294118 | N97: 1.7177115 | O97: 2.5367647 | P97: 5.1878436 | Q97: 0.83088235 | R97: 1.6551823 | S97: 0.27941176 | T97: 0.8736808 | U97: 0.17647059 | V97: 0.23387078 | W97: 0.43382353 | X97: 0.56968363 | Y97: 0.080882353 | Z97: 0.028514532 | AA97: - | AB97: - | AC97: 0.066176471 | AD97: 0.081000785 | AE97: - | AF97: - | AG97: 0.38970588 | AH97: 0.70425764 | AI97: 10.675 | AJ97: 0.17067288 | AK97: 0.9 | AL97: 0.53098543 | AM97: - | AN97: - | AO97: 0.035714286 | AP97: 0.020571221 | AQ97: 0.71428571 | AR97: 0.061666542 | AS97: 3.9285714 | AT97: 1.3063545 | AU97: 0 | AV97: 0.046504599 | AW97: - | AX97: - | AY97: - | AZ97: -
A98: 96 | D98: 2011 | E98: 平成23年 | F98: 12 | G98: 4.3706897 | H98: 2.5476916 | I98: 0.051470588 | J98: 1.1129615 | K98: 0.10294118 | L98: 0.42489456 | M98: 0.86029412 | N98: 2.1011794 | O98: 2.5955882 | P98: 10.835353 | Q98: 1.1838235 | R98: 2.4989062 | S98: 0.27205882 | T98: 0.61477035 | U98: 0.073529412 | V98: 0.23291197 | W98: 0.35294118 | X98: 0.50469628 | Y98: 0.10294118 | Z98: 0.027399301 | AA98: - | AB98: - | AC98: 0.044117647 | AD98: 0.04435964 | AE98: - | AF98: - | AG98: 0.36764706 | AH98: 0.69082087 | AI98: 0.65 | AJ98: 0.023308218 | AK98: 0.8 | AL98: 0.59987798 | AM98: - | AN98: - | AO98: 0.10714286 | AP98: 0.03671757 | AQ98: 0.14285714 | AR98: 0.03730104 | AS98: 3.6428571 | AT98: 1.2490237 | AU98: 0 | AV98: 0.042702935 | AW98: - | AX98: - | AY98: - | AZ98: -
A99: 97 | B99: 2012 | C99: 1 | D99: 2012 | E99: 平成24年 | F99: 1 | G99: 20.444828 | H99: 22.478 | I99: 0.14705882 | J99: 0.672 | K99: 0.13529412 | L99: 0.238 | M99: 0.6 | N99: 1.802 | O99: 3.1764706 | P99: 9.08 | Q99: 1.8647059 | R99: 1.888 | S99: 0.19411765 | T99: 0.178 | U99: 0.076470588 | V99: 0.24 | W99: 0.37647059 | X99: 0.478 | Y99: 0.16470588 | Z99: 0.016 | AA99: - | AB99: - | AC99: 0.029411765 | AD99: 0.018 | AE99: - | AF99: - | AG99: 0.20588235 | AH99: 0.57 | AI99: 0.12 | AJ99: 0.008 | AK99: 0.84 | AL99: 0.574 | AM99: - | AN99: - | AO99: 0.085714286 | AP99: 0.02 | AQ99: 0.28571429 | AR99: 0.028 | AS99: 3.2571429 | AT99: 0.914 | AU99: 0 | AV99: 0.024 | AW99: - | AX99: - | AY99: - | AZ99: -
A100: 98 | D100: 2012 | E100: 平成24年 | F100: 2 | G100: 28.590517 | H100: 32.13 | I100: 0.38970588 | J100: 0.425 | K100: 0.044117647 | L100: 0.2325 | M100: 1.1102941 | N100: 2.245 | O100: 2.2720588 | P100: 7.17 | Q100: 2.0441176 | R100: 1.4275 | S100: 0.45588235 | T100: 0.11 | U100: 0.066176471 | V100: 0.1625 | W100: 0.34558824 | X100: 0.44 | Y100: 0.20588235 | Z100: 0.02 | AA100: - | AB100: - | AC100: 0.0073529412 | AD100: 0.015 | AE100: - | AF100: - | AG100: 0.25 | AH100: 0.46 | AI100: 0.225 | AJ100: 0.02 | AK100: 1.1 | AL100: 0.5625 | AM100: - | AN100: - | AO100: 0.035714286 | AP100: 0.02 | AQ100: 0.035714286 | AR100: 0.025 | AS100: 2.8571429 | AT100: 0.8175 | AU100: 0 | AV100: 0.03 | AW100: - | AX100: - | AY100: - | AZ100: -
...

Sheet 報告数合計
B4: インフルエンザ
C6: シーズン（9月～翌年8月）別の報告数合計
C7: 平均報告数 （2026/27を除く） | D7: 2021/22 | E7: 2022/23 | F7: 2023/24 | G7: 2024/25 | H7: 2025/26 | I7: 2026/27
C8: =+AVERAGE(D8:H8) -> 21093 | D8: {=TRANSPOSE([1]沖縄県!$DH$22:$DH$27)} -> 184 | E8: 19108 | F8: 36351 | G8: 25389 | H8: 24433 | I8: 4213
B12: ＲＳウイルス
C14: シーズン（9月～翌年8月）別の報告数合計
C15: =C7 -> 平均報告数 （2026/27を除く） | D15: =D7 -> 2021/22 | E15: =E7 -> 2022/23 | F15: =F7 -> 2023/24 | G15: =G7 -> 2024/25 | H15: =H7 -> 2025/26 | I15: =I7 -> 2026/27
C16: =AVERAGE(D16:H16) -> 1701.6 | D16: {=TRANSPOSE([1]沖縄県!$DH$81:$DH$86)} -> 1892 | E16: 2431 | F16: 1467 | G16: 1418 | H16: 1300 | I16: 49
B20: 咽頭結膜熱
C22: シーズン別の報告数合計
C23: 平均報告数 （2026年を除く） | D23: 2021年 | E23: 2022年 | F23: 2023年 | G23: 2024年 | H23: 2025年 | I23: 2026年
C24: =+AVERAGE(D24:H24) -> 1065.6 | D24: {=TRANSPOSE([1]沖縄県!$BD$140:$BD$145)} -> 693 | E24: 245 | F24: 2862 | G24: 981 | H24: 547 | I24: 348
B28: Ａ群溶血性レンサ球菌咽頭炎
C30: シーズン別の報告数合計
C31: =$C$23 -> 平均報告数 （2026年を除く） | D31: =$D$23 -> 2021年 | E31: =$E$23 -> 2022年 | F31: =$F$23 -> 2023年 | G31: =$G$23 -> 2024年 | H31: =$H$23 -> 2025年 | I31: =$I$23 -> 2026年
C32: =+AVERAGE(D32:G32) -> 2515 | D32: {=TRANSPOSE([1]沖縄県!$BD$199:$BD$204)} -> 1592 | E32: 921 | F32: 2962 | G32: 4585 | H32: 2164 | I32: 1172
B36: 感染性胃腸炎
C38: シーズン（9月～翌年8月）別の報告数合計
C39: =C7 -> 平均報告数 （2026/27を除く） | D39: =D7 -> 2021/22 | E39: =E7 -> 2022/23 | F39: =F7 -> 2023/24 | G39: =G7 -> 2024/25 | H39: =H7 -> 2025/26 | I39: =I7 -> 2026/27
C40: =+AVERAGE(D40:H40) -> 3725.4 | D40: {=TRANSPOSE([1]沖縄県!$DH$258:$DH$263)} -> 2810 | E40: 3468 | F40: 3088 | G40: 4408 | H40: 4853 | I40: 429
B44: 水痘
C46: シーズン別の報告数合計
C47: =$C$23 -> 平均報告数 （2026年を除く） | D47: =$D$23 -> 2021年 | E47: =$E$23 -> 2022年 | F47: =$F$23 -> 2023年 | G47: =$G$23 -> 2024年 | H47: =$H$23 -> 2025年 | I47: =$I$23 -> 2026年
C48: =+AVERAGE(D48:H48) -> 365.6 | D48: {=TRANSPOSE([1]沖縄県!$BD$317:$BD$322)} -> 302 | E48: 191 | F48: 146 | G48: 342 | H48: 847 | I48: 509
B52: 手足口病
C54: シーズン別の報告数合計
C55: =$C$23 -> 平均報告数 （2026年を除く） | D55: =$D$23 -> 2021年 | E55: =$E$23 -> 2022年 | F55: =$F$23 -> 2023年 | G55: =$G$23 -> 2024年 | H55: =$H$23 -> 2025年 | I55: =$I$23 -> 2026年
C56: =+AVERAGE(D56:H56) -> 2221.6 | D56: {=TRANSPOSE([1]沖縄県!$BD$376:$BD$381)} -> 729 | E56: 2909 | F56: 2526 | G56: 4098 | H56: 846 | I56: 1327
B60: 伝染性紅斑
C62: シーズン別の報告数合計
C63: =$C$23 -> 平均報告数 （2026年を除く） | D63: =$D$23 -> 2021年 | E63: =$E$23 -> 2022年 | F63: =$F$23 -> 2023年 | G63: =$G$23 -> 2024年 | H63: =$H$23 -> 2025年 | I63: =$I$23 -> 2026年
C64: =+AVERAGE(D64:H64) -> 240 | D64: {=TRANSPOSE([1]沖縄県!$BD$435:$BD$440)} -> 6 | E64: 15 | F64: 24 | G64: 118 | H64: 1037 | I64: 50
B68: 突発性発疹
C70: シーズン別の報告数合計
C71: =$C$23 -> 平均報告数 （2026年を除く） | D71: =$D$23 -> 2021年 | E71: =$E$23 -> 2022年 | F71: =$F$23 -> 2023年 | G71: =$G$23 -> 2024年 | H71: =$H$23 -> 2025年 | I71: =$I$23 -> 2026年
C72: =+AVERAGE(D72:H72) -> 381.8 | D72: {=TRANSPOSE([1]沖縄県!$BD$494:$BD$499)} -> 488 | E72: 393 | F72: 354 | G72: 321 | H72: 353 | I72: 256
B76: ヘルパンギーナ
C78: シーズン別の報告数合計
C79: =$C$23 -> 平均報告数 （2026年を除く） | D79: =$D$23 -> 2021年 | E79: =$E$23 -> 2022年 | F79: =$F$23 -> 2023年 | G79: =$G$23 -> 2024年 | H79: =$H$23 -> 2025年 | I79: =$I$23 -> 2026年
C80: =+AVERAGE(D80:H80) -> 363 | D80: {=TRANSPOSE([1]沖縄県!$BD$553:$BD$558)} -> 253 | E80: 325 | F80: 467 | G80: 468 | H80: 302 | I80: 420
B84: 流行性耳下腺炎
C86: シーズン別の報告数合計
C87: =$C$23 -> 平均報告数 （2026年を除く） | D87: =$D$23 -> 2021年 | E87: =$E$23 -> 2022年 | F87: =$F$23 -> 2023年 | G87: =$G$23 -> 2024年 | H87: =$H$23 -> 2025年 | I87: =$I$23 -> 2026年
C88: =+AVERAGE(D88:H88) -> 81 | D88: {=TRANSPOSE([1]沖縄県!$BD$612:$BD$617)} -> 108 | E88: 70 | F88: 82 | G88: 83 | H88: 62 | I88: 29
B92: 急性出血性結膜炎
C94: シーズン別の報告数合計
C95: =$C$23 -> 平均報告数 （2026年を除く） | D95: =$D$23 -> 2021年 | E95: =$E$23 -> 2022年 | F95: =$F$23 -> 2023年 | G95: =$G$23 -> 2024年 | H95: =$H$23 -> 2025年 | I95: =$I$23 -> 2026年
C96: =+AVERAGE(D96:H96) -> 9.4 | D96: {=TRANSPOSE([1]沖縄県!$BD$671:$BD$676)} -> 1 | E96: 14 | F96: 13 | G96: 5 | H96: 14 | I96: 4
B100: 流行性角結膜炎
C102: シーズン別の報告数合計
